Workbook

Sheet （入力例）入力表
A2: 納入申告書・月計表・納入書作成ツール
A3: このデータの「入力表(着色済)」シート及び「月計表（着色済）」シートに項目を入力することで、「納入申告書」、「月計表」、「納入書」が作成されます。これらのシートには、「入力例」のシートと同内容の事項が記載済ですので、適宜、内容を修正し、ご活用ください。 ※ 毎月の申告納付を3か月ごとにできる「納期の特例」の制度に対応していませんのでご注意ください。
A4: 申告書提出年月日 | C4: 令和 | D4: 9 | E4: 年 | F4: 8 | G4: 月 | H4: 12 | I4: 日
A5: 特別徴収義務者 | B5: 個人番号又は法人番号(最大13桁) | C5: 111111111111
B6: 住所又は所在地 | C6: 山形市旅篭町二丁目〇番▲号
B7: 氏名（名称 及び代表者名） | C7: 氏名（名称） | D7: 株式会社 山形市税観光
C8: 代表者名 | D8: 代表取締役 山形 太郎
B9: 電話番号 | C9: 023-641-0000
A10: 宿泊施設 | B10: 名称 | C10: 山形市税ホテル
B11: 所在地 | C11: 山形市香澄町二丁目▲番〇号
B12: 施設番号 | C12: ８７６５４４４４
A13: 宿泊月 | C13: 令和 | E13: 9 | F13: 年 | G13: 7 | H13: 月宿泊分
A14: 申告月 | E14: 9 | F14: 年 | G14: 8 | H14: 月
A15: 申告期限 | C15: 令和 | D15: 9 | E15: 年 | F15: 8 | G15: 月 | H15: 31 | I15: 日
A16: 税額（円） | E16: ='（入力反映済）納入申告書'!E51 -> 275190
A17: ※ 着色済のセルのみを入力してください。

Sheet （入力反映済）納入申告書
A1: 様式第１１号（第８条関係）
A2: 宿泊税納入申告書
A3: （宛先）山形市長
G4: ='（入力例）入力表'!C4&'（入力例）入力表'!D4&'（入力例）入力表'!E4&'（入力例）入力表'!F4&'（入力例）入力表'!G4&'（入力例）入力表'!H4&'（入力例）入力表'!I4 -> 令和9年8月12日
A6: 宿泊税の納入について、山形市宿泊税条例第１３条第１項の規定により、次のとおり申告します。
A8: （特別徴収義務者）
A9: 住所（所在地） | E9: 氏名（名称及び代表者名）
A10: ='（入力例）入力表'!C6 -> 山形市旅篭町二丁目〇番▲号 | E10: ='（入力例）入力表'!D7 -> 株式会社 山形市税観光
E11: ='（入力例）入力表'!D8 -> 代表取締役 山形 太郎
A12: 個人（法人）番号 | B12: ='（入力例）入力表'!C5 -> 111111111111 | E12: 電話番号 | F12: ='（入力例）入力表'!C9 -> 023-641-0000
A13: 宿泊施設 | B13: 所在地 | D13: ='（入力例）入力表'!C11 -> 山形市香澄町二丁目▲番〇号
B14: 名称 | D14: ='（入力例）入力表'!C10 -> 山形市税ホテル
B15: 施設番号 | D15: ='（入力例）入力表'!C12 -> ８７６５４４４４
A17: 令和 | B17: ='（入力例）入力表'!E13 -> 9 | C17: 年 | D17: ='（入力例）入力表'!G13 -> 7 | E17: 月分
A18: 区分 | B18: 課税標準 | D18: 宿泊者数 （人） | E18: 宿泊料金の総額 （円）（Ａ） | F18: 税率 （Ｂ） | G18: 宿泊税額 （円）（Ａ×Ｂ）
A19: 課税対象 | B19: １人１泊当たり | D19: ='（入力例）月計表（１人1泊当たり）'!B38 -> 1113 | E19: ='（入力例）月計表（１人1泊当たり）'!C38 -> 9173000 | F19: １００分の３ | G19: =E19*0.03 -> 275190
B20: １部屋１泊当たり | D20: ='（入力例）月計表（１部屋1泊当たり）'!B38 -> 0 | E20: ='（入力例）月計表（１部屋1泊当たり）'!C38 -> 0 | G20: =E20*0.03 -> 0
B21: １棟１泊当たり | D21: ='（入力例）月計表（１棟1泊当たり）'!B38 -> 0 | E21: ='（入力例）月計表（１棟1泊当たり）'!C38 -> 0 | G21: =E21*0.03 -> 0
B22: 合計 | D22: =SUM(D19:D21) -> 1113 | E22: =SUM(E19:E21) -> 9173000 | F22: 合計① | G22: =SUM(G19:G21) -> 275190
A23: 課税対象外 （課税免除） | B23: １人１泊当たり | D23: ='（入力例）月計表（１人1泊当たり）'!D38 -> 35 | E23: ='（入力例）月計表（１人1泊当たり）'!E38 -> 272000
B24: １部屋１泊当たり | D24: ='（入力例）月計表（１部屋1泊当たり）'!D38 -> 0 | E24: ='（入力例）月計表（１部屋1泊当たり）'!E38 -> 0
B25: １棟１泊当たり | D25: ='（入力例）月計表（１棟1泊当たり）'!D38 -> 0 | E25: ='（入力例）月計表（１棟1泊当たり）'!E38 -> 0
B26: 合計 | D26: =SUM(D23:D25) -> 35 | E26: =SUM(E23:E25) -> 272000
A28: 令和 | C28: 年 | E28: 月分
A29: 区分 | B29: 課税標準 | D29: 宿泊者数 （人） | E29: 宿泊料金の総額 （円）（Ａ） | F29: 税率 （Ｂ） | G29: 宿泊税額 （円）（Ａ×Ｂ）
A30: 課税対象 | B30: １人１泊当たり | F30: １００分の３
B31: １部屋１泊当たり
B32: １棟１泊当たり
B33: 合計 | D33: =SUM(D30:D32) -> 0 | E33: =SUM(E30:E32) -> 0 | F33: 合計② | G33: =SUM(G30:G32) -> 0
A34: 課税対象外 （課税免除） | B34: １人１泊当たり
B35: １部屋１泊当たり
B36: １棟１泊当たり
B37: 合計 | D37: =SUM(D34:D36) -> 0 | E37: =SUM(E34:E36) -> 0
A39: 令和 | C39: 年 | E39: 月分
A40: 区分 | B40: 課税標準 | D40: 宿泊者数 （人） | E40: 宿泊料金の総額 （円）（Ａ） | F40: 税率 （Ｂ） | G40: 宿泊税額 （円）（Ａ×Ｂ）
A41: 課税対象 | B41: １人１泊当たり | F41: １００分の３
B42: １部屋１泊当たり
B43: １棟１泊当たり
B44: 合計 | D44: =SUM(D41:D43) -> 0 | E44: =SUM(E41:E43) -> 0 | F44: 合計③ | G44: =SUM(G41:G43) -> 0
A45: 課税対象外 （課税免除） | B45: １人１泊当たり
...

Sheet （入力反映済）納入書
B4: 市町村コード | AZ4: 市町村コード | CX4: 市町村コード
B5: 0 6 2 0 1 4 | AZ5: 0 6 2 0 1 4 | CX5: 0 6 2 0 1 4
B7: 山形県 | M7: 都道 府県 | X7: 宿泊税領収済通知書 | AZ7: 山形県 | BK7: 都道 府県 | CC7: 宿泊税納入書 | CX7: 山形県 | DI7: 都道 府県 | DX7: 宿泊税領収証書
B9: 山形市 | N9: 市 町 村 | AZ9: 山形市 | BL9: 市 町 村 | CX9: 山形市 | DJ9: 市 町 村
B11: 口 座 番 号 | T11: 加 入 者 | AZ11: 口 座 番 号 | BR11: 加 入 者 | CX11: 口 座 番 号 | DP11: 加 入 者
B12: 02400 - 9 - 960022 | T12: 山形市会計管理者 | AZ12: 02400 - 9 - 960022 | BR12: 山形市会計管理者 | CX12: 02400 - 9 - 960022 | DP12: 山形市会計管理者
C14: 所在地及び氏名又は名称 | BA14: 所在地及び氏名又は名称 | CY14: 所在地及び氏名又は名称
C15: ='（入力例）入力表'!C6 -> 山形市旅篭町二丁目〇番▲号 | BA15: =C15 -> 山形市旅篭町二丁目〇番▲号 | CY15: =C15 -> 山形市旅篭町二丁目〇番▲号
C18: ='（入力例）入力表'!D7 -> 株式会社 山形市税観光 | BA18: =C18 -> 株式会社 山形市税観光 | CY18: =C18 -> 株式会社 山形市税観光
BA20: =C20 -> 0 | CY20: =C20 -> 0
C22: 代表取締役 山形 太郎 | AS22: 様 | BA22: =C22 -> 代表取締役 山形 太郎 | CQ22: 様 | CY22: =C22 -> 代表取締役 山形 太郎 | EO22: 様
D24: 宿泊施設名 | BB24: 宿泊施設名 | CZ24: 宿泊施設名
C25: ='（入力例）入力表'!C10 -> 山形市税ホテル | BA25: =C25 -> 山形市税ホテル | CY25: =C25 -> 山形市税ホテル
B29: I D | H29: 科目コード | N29: 通知年度 | T29: 賦課年度 | Z29: 月 分 | AF29: 施 設 番 号 | AZ29: I D | BF29: 科目コード | BL29: 通知年度 | BR29: 賦課年度 | BX29: 月 分 | CD29: 施 設 番 号 | CX29: I D | DD29: 科目コード | DJ29: 通知年度 | DP29: 賦課年度 | DV29: 月 分 | EB29: 施 設 番 号
B30: 31 | H30: 74 | N30: ='（入力例）入力表'!E14 -> 9 | T30: ='（入力例）入力表'!E14 -> 9 | Z30: ='（入力例）入力表'!G14 -> 8 | AF30: ='（入力例）入力表'!C12 -> ８７６５４４４４ | AZ30: =B30 -> 31 | BF30: =H30 -> 74 | BL30: =N30 -> 9 | BR30: =T30 -> 9 | BX30: =Z30 -> 8 | CD30: =AF30 -> ８７６５４４４４ | CX30: =B30 -> 31 | DD30: =H30 -> 74 | DJ30: =N30 -> 9 | DP30: =T30 -> 9 | DV30: =Z30 -> 8 | EB30: =AF30 -> ８７６５４４４４
C33: 税額 | N33: 01 | Q33: 百 | T33: 十 | W33: 億 | Z33: 千 | AC33: 百 | AF33: 十 | AI33: 万 | AL33: 千 | AO33: 百 | AR33: 十 | AU33: 円 | BA33: 税額 | BL33: 01 | BO33: 百 | BR33: 十 | BU33: 億 | BX33: 千 | CA33: 百 | CD33: 十 | CG33: 万 | CJ33: 千 | CM33: 百 | CP33: 十 | CS33: 円 | CY33: 税額 | DJ33: 01 | DM33: 百 | DP33: 十 | DS33: 億 | DV33: 千 | DY33: 百 | EB33: 十 | EE33: 万 | EH33: 千 | EK33: 百 | EN33: 十 | EQ33: 円
Q34: =MID(RIGHT(" "&TEXT('（入力例）入力表'!$E$16,"0"),11),1,1) | T34: =MID(RIGHT(" "&TEXT('（入力例）入力表'!$E$16,"0"),11),2,1) | W34: =MID(RIGHT(" "&TEXT('（入力例）入力表'!$E$16,"0"),11),3,1) | Z34: =MID(RIGHT(" "&TEXT('（入力例）入力表'!$E$16,"0"),11),4,1) | AC34: =MID(RIGHT(" "&TEXT('（入力例）入力表'!$E$16,"0"),11),5,1) | AF34: =MID(RIGHT(" "&TEXT('（入力例）入力表'!$E$16,"0"),11),6,1) -> 2 | AI34: =MID(RIGHT(" "&TEXT('（入力例）入力表'!$E$16,"0"),11),7,1) -> 7 | AL34: =MID(RIGHT(" "&TEXT('（入力例）入力表'!$E$16,"0"),11),8,1) -> 5 | AO34: =MID(RIGHT(" "&TEXT('（入力例）入力表'!$E$16,"0"),11),9,1) -> 1 | AR34: =MID(RIGHT(" "&TEXT('（入力例）入力表'!$E$16,"0"),11),10,1) -> 9 | AU34: =MID(RIGHT(" "&TEXT('（入力例）入力表'!$E$16,"0"),11),11,1) -> 0 | BO34: =Q34 | BR34: =T34 | BU34: =W34 | BX34: =Z34 | CA34: =AC34 | CD34: =AF34 -> 2 | CG34: =AI34 -> 7 | CJ34: =AL34 -> 5 | CM34: =AO34 -> 1 | CP34: =AR34 -> 9 | CS34: =AU34 -> 0 | DM34: =BO34 | DP34: =BR34 | DS34: =BU34 | DV34: =BX34 | DY34: =CA34 | EB34: =CD34 -> 2 | EE34: =CG34 -> 7 | EH34: =CJ34 -> 5 | EK34: =CM34 -> 1 | EN34: =CP34 -> 9 | EQ34: =CS34 -> 0
C37: 延滞金 | N37: 02 | BA37: 延滞金 | BL37: 02 | CY37: 延滞金 | DJ37: 02
C40: 加算金 | N40: 03 | BA40: 加算金 | BL40: 03 | CY40: 加算金 | DJ40: 03
C43: 合計額 | N43: 04 | Q43: =Q34 | T43: =T34 | W43: =W34 | Z43: =Z34 | AC43: =AC34 | AF43: =AF34 -> 2 | AI43: =AI34 -> 7 | AL43: =AL34 -> 5 | AO43: =AO34 -> 1 | AR43: =AR34 -> 9 | AU43: =AU34 -> 0 | BA43: 合計額 | BL43: 04 | BO43: =BO34 | BR43: =BR34 | BU43: =BU34 | BX43: =BX34 | CA43: =CA34 | CD43: =CD34 -> 2 | CG43: =CG34 -> 7 | CJ43: =CJ34 -> 5 | CM43: =CM34 -> 1 | CP43: =CP34 -> 9 | CS43: =CS34 -> 0 | CY43: 合計額 | DJ43: 04 | DM43: =DM34 | DP43: =DP34 | DS43: =DS34 | DV43: =DV34 | DY43: =DY34 | EB43: =EB34 -> 2 | EE43: =EE34 -> 7 | EH43: =EH34 -> 5 | EK43: =EK34 -> 1 | EN43: =EN34 -> 9 | EQ43: =EQ34 -> 0
B46: 納 期 限 | H46: 令和 | M46: ='（入力例）入力表'!D15 -> 9 | Q46: 年 | S46: ='（入力例）入力表'!F15 -> 8 | V46: 月 | X46: ='（入力例）入力表'!H15 -> 31 | AA46: 日 | AC46: 領収日付印 | AZ46: 納 期 限 | BF46: 令和 | BK46: =M46 -> 9 | BO46: 年 | BQ46: =S46 -> 8 | BT46: 月 | BV46: =X46 -> 31 | BY46: 日 | CA46: 領収日付印 | CX46: 納 期 限 | DD46: 令和 | DI46: =M46 -> 9 | DM46: 年 | DO46: =S46 -> 8 | DR46: 月 | DT46: =X46 -> 31 | DW46: 日 | DY46: 領収日付印
B48: 指定金融 | H48: 山形銀行山形市役所支店 | AZ48: 日 計
B49: 機 関 名 | CY49: 上記のとおり領収しました。
B50: （取りまとめ店） | CY50: （納税者保管）
B51: 取りまとめ局 | H51: 仙台貯金事務センター （〒980-8794）
CY52: ◎この納付書は、必ず3枚1組 で提出してください。
BA53: 上記のとおり納付します。
C54: 上記のとおり通知します。（市保管） | BA54: （金融機関又は郵便局保管）

Sheet （入力例）月計表（１人1泊当たり）
A1: 月計表（１人1泊当たり）
A2: 令和 | B2: ='（入力例）入力表'!E13 -> 9 | C2: 年 | D2: ='（入力例）入力表'!G13 -> 7 | E2: 月宿泊分
A3: 施設番号 | C3: ='（入力例）入力表'!C12 -> ８７６５４４４４
A4: 宿泊施設名 | C4: ='（入力例）入力表'!C10 -> 山形市税ホテル
A5: 日付 | B5: 課税対象 | D5: 課税対象外（課税免除）
B6: 宿泊者数（人） | C6: 宿泊料金（円） | D6: 宿泊者数（人） | E6: 宿泊料金（円）
A7: 1 | B7: 20 | C7: 160000
A8: 2 | B8: 25 | C8: 187000
A9: 3 | B9: 26 | C9: 234000
A10: 4 | B10: 31 | C10: 248000
A11: 5 | B11: 42 | C11: 336000
A12: 6 | B12: 60 | C12: 480000
A13: 7 | B13: 30 | C13: 240000
A14: 8 | B14: 56 | C14: 448000
A15: 9 | B15: 31 | C15: 248000
A16: 10 | B16: 24 | C16: 192000
A17: 11 | B17: 33 | C17: 264000
A18: 12 | B18: 53 | C18: 424000
... A20: 14 | B20: 41 | C20: 328000
A21: 15 | B21: 54 | C21: 432000 | D21: 20 | E21: 160000
A22: 16 | B22: 20 | C22: 160000
A23: 17 | B23: 32 | C23: 256000
A24: 18 | B24: 48 | C24: 384000
A25: 19 | B25: 29 | C25: 232000
A26: 20 | B26: 33 | C26: 264000
A27: 21 | B27: 35 | C27: 315000
A28: 22 | B28: 42 | C28: 378000 | D28: 15 | E28: 112000
A29: 23 | B29: 55 | C29: 440000
A30: 24 | B30: 30 | C30: 255000
A31: 25 | B31: 36 | C31: 324000
A32: 26 | B32: 22 | C32: 198000
A33: 27 | B33: 33 | C33: 264000
A34: 28 | B34: 42 | C34: 399000
A35: 29 | B35: 22 | C35: 192000
A36: 30 | B36: 36 | C36: 315000
A37: 31 | B37: 35 | C37: 280000
A38: 合計 | B38: =SUM(B7:B37) -> 1113 | C38: =SUM(C7:C37) -> 9173000 | D38: =SUM(D7:D37) -> 35 | E38: =SUM(E7:E37) -> 272000

Sheet （入力例）月計表（１部屋1泊当たり）
A1: 月計表（１部屋1泊当たり）
A2: 令和 | B2: ='（入力例）入力表'!E13 -> 9 | C2: 年 | D2: ='（入力例）入力表'!G13 -> 7 | E2: 月宿泊分
A3: 施設番号 | C3: ='（入力例）入力表'!C12 -> ８７６５４４４４
A4: 宿泊施設名 | C4: ='（入力例）入力表'!C10 -> 山形市税ホテル
A5: 日付 | B5: 課税対象 | D5: 課税対象外（課税免除）
B6: 宿泊者数（人） | C6: 宿泊料金（円） | D6: 宿泊者数（人） | E6: 宿泊料金（円）
A7: 1
A8: 2
A9: 3
A10: 4
A11: 5
A12: 6
A13: 7
A14: 8
A15: 9
A16: 10
A17: 11
A18: 12
... A37: 31
A38: 合計 | B38: =SUM(B7:B37) -> 0 | C38: =SUM(C7:C37) -> 0 | D38: =SUM(D7:D37) -> 0 | E38: =SUM(E7:E37) -> 0

Sheet （入力例）月計表（１棟1泊当たり）
A1: 月計表（１棟1泊当たり）
A2: 令和 | B2: ='（入力例）入力表'!E13 -> 9 | C2: 年 | D2: ='（入力例）入力表'!G13 -> 7 | E2: 月宿泊分
A3: 施設番号 | C3: ='（入力例）入力表'!C12 -> ８７６５４４４４
A4: 宿泊施設名 | C4: ='（入力例）入力表'!C10 -> 山形市税ホテル
A5: 日付 | B5: 課税対象 | D5: 課税対象外（課税免除）
B6: 宿泊者数（人） | C6: 宿泊料金（円） | D6: 宿泊者数（人） | E6: 宿泊料金（円）
A7: 1
A8: 2
A9: 3
A10: 4
A11: 5
A12: 6
A13: 7
A14: 8
A15: 9
A16: 10
A17: 11
A18: 12
... A37: 31
A38: 合計 | B38: =SUM(B7:B37) -> 0 | C38: =SUM(C7:C37) -> 0 | D38: =SUM(D7:D37) -> 0 | E38: =SUM(E7:E37) -> 0

Sheet 入力表
A2: 納入申告書・月計表・納入書作成ツール
A3: このデータの「入力表(着色済)」シート及び「月計表（着色済）」シートに項目を入力することで、「納入申告書」、「月計表」、「納入書」が作成されます。これらのシートには、「入力例」のシートと同内容の事項が記載済ですので、適宜、内容を修正し、ご活用ください。 ※ 毎月の申告納付を3か月ごとにできる「納期の特例」の制度に対応していませんのでご注意ください。
A4: 申告書提出年月日 | C4: 令和 | D4: 9 | E4: 年 | F4: 8 | G4: 月 | H4: 12 | I4: 日
A5: 特別徴収義務者 | B5: 個人番号又は法人番号(最大13桁) | C5: 111111111111
B6: 住所又は所在地 | C6: 山形市旅篭町二丁目〇番▲号
B7: 氏名（名称 及び代表者名） | C7: 氏名（名称） | D7: 株式会社 山形市税観光
C8: 代表者名 | D8: 代表取締役 山形 太郎
B9: 電話番号 | C9: 023-641-0000
A10: 宿泊施設 | B10: 名称 | C10: 山形市税ホテル
B11: 所在地 | C11: 山形市香澄町二丁目▲番〇号
B12: 施設番号 | C12: ８７６５４４４４
A13: 宿泊月 | C13: 令和 | E13: 9 | F13: 年 | G13: 7 | H13: 月宿泊分
A14: 申告月 | E14: 9 | F14: 年 | G14: 8 | H14: 月
A15: 申告期限 | C15: 令和 | D15: 9 | E15: 年 | F15: 8 | G15: 月 | H15: 31 | I15: 日
A16: 税額（円） | E16: =納入申告書!E51 -> 275190
A17: ※ 着色済のセルのみを入力してください。

Sheet 月計表（１人1泊当たり）
A1: 月計表（１人1泊当たり）
A2: 令和 | B2: =入力表!E13 -> 9 | C2: 年 | D2: =入力表!G13 -> 7 | E2: 月宿泊分
A3: 施設番号 | C3: =入力表!C12 -> ８７６５４４４４
A4: 宿泊施設名 | C4: =入力表!C10 -> 山形市税ホテル
A5: 日付 | B5: 課税対象 | D5: 課税対象外（課税免除）
B6: 宿泊者数（人） | C6: 宿泊料金（円） | D6: 宿泊者数（人） | E6: 宿泊料金（円）
A7: 1 | B7: 20 | C7: 160000
A8: 2 | B8: 25 | C8: 187000
A9: 3 | B9: 26 | C9: 234000
A10: 4 | B10: 31 | C10: 248000
A11: 5 | B11: 42 | C11: 336000
A12: 6 | B12: 60 | C12: 480000
A13: 7 | B13: 30 | C13: 240000
A14: 8 | B14: 56 | C14: 448000
A15: 9 | B15: 31 | C15: 248000
A16: 10 | B16: 24 | C16: 192000
A17: 11 | B17: 33 | C17: 264000
A18: 12 | B18: 53 | C18: 424000
... A20: 14 | B20: 41 | C20: 328000
A21: 15 | B21: 54 | C21: 432000 | D21: 20 | E21: 160000
A22: 16 | B22: 20 | C22: 160000
A23: 17 | B23: 32 | C23: 256000
A24: 18 | B24: 48 | C24: 384000
A25: 19 | B25: 29 | C25: 232000
A26: 20 | B26: 33 | C26: 264000
A27: 21 | B27: 35 | C27: 315000
A28: 22 | B28: 42 | C28: 378000 | D28: 15 | E28: 112000
A29: 23 | B29: 55 | C29: 440000
A30: 24 | B30: 30 | C30: 255000
A31: 25 | B31: 36 | C31: 324000
A32: 26 | B32: 22 | C32: 198000
A33: 27 | B33: 33 | C33: 264000
A34: 28 | B34: 42 | C34: 399000
A35: 29 | B35: 22 | C35: 192000
A36: 30 | B36: 36 | C36: 315000
A37: 31 | B37: 35 | C37: 280000
A38: 合計 | B38: =SUM(B7:B37) -> 1113 | C38: =SUM(C7:C37) -> 9173000 | D38: =SUM(D7:D37) -> 35 | E38: =SUM(E7:E37) -> 272000

Sheet 月計表（１部屋1泊当たり）
A1: 月計表（１部屋1泊当たり）
A2: 令和 | B2: =入力表!E13 -> 9 | C2: 年 | D2: =入力表!G13 -> 7 | E2: 月宿泊分
A3: 施設番号 | C3: =入力表!C12 -> ８７６５４４４４
A4: 宿泊施設名 | C4: =入力表!C10 -> 山形市税ホテル
A5: 日付 | B5: 課税対象 | D5: 課税対象外（課税免除）
B6: 宿泊者数（人） | C6: 宿泊料金（円） | D6: 宿泊者数（人） | E6: 宿泊料金（円）
A7: 1
A8: 2
A9: 3
A10: 4
A11: 5
A12: 6
A13: 7
A14: 8
A15: 9
A16: 10
A17: 11
A18: 12
... A37: 31
A38: 合計 | B38: =SUM(B7:B37) -> 0 | C38: =SUM(C7:C37) -> 0 | D38: =SUM(D7:D37) -> 0 | E38: =SUM(E7:E37) -> 0

Sheet 月計表（１棟1泊当たり）
A1: 月計表（１棟1泊当たり）
A2: 令和 | B2: =入力表!E13 -> 9 | C2: 年 | D2: =入力表!G13 -> 7 | E2: 月宿泊分
A3: 施設番号 | C3: =入力表!C12 -> ８７６５４４４４
A4: 宿泊施設名 | C4: =入力表!C10 -> 山形市税ホテル
A5: 日付 | B5: 課税対象 | D5: 課税対象外（課税免除）
B6: 宿泊者数（人） | C6: 宿泊料金（円） | D6: 宿泊者数（人） | E6: 宿泊料金（円）
A7: 1
A8: 2
A9: 3
A10: 4
A11: 5
A12: 6
A13: 7
A14: 8
A15: 9
A16: 10
A17: 11
A18: 12
... A37: 31
A38: 合計 | B38: =SUM(B7:B37) -> 0 | C38: =SUM(C7:C37) -> 0 | D38: =SUM(D7:D37) -> 0 | E38: =SUM(E7:E37) -> 0

Sheet 納入申告書
A1: 様式第１１号（第８条関係）
A2: 宿泊税納入申告書
A3: （宛先）山形市長
G4: =入力表!C4&'（入力例）入力表'!D4&'（入力例）入力表'!E4&'（入力例）入力表'!F4&'（入力例）入力表'!G4&'（入力例）入力表'!H4&'（入力例）入力表'!I4 -> 令和9年8月12日
A6: 宿泊税の納入について、山形市宿泊税条例第１３条第１項の規定により、次のとおり申告します。
A8: （特別徴収義務者）
A9: 住所（所在地） | E9: 氏名（名称及び代表者名）
A10: =入力表!C6 -> 山形市旅篭町二丁目〇番▲号 | E10: =入力表!D7 -> 株式会社 山形市税観光
E11: =入力表!D8 -> 代表取締役 山形 太郎
A12: 個人（法人）番号 | B12: =入力表!C5 -> 111111111111 | E12: 電話番号 | F12: =入力表!C9 -> 023-641-0000
A13: 宿泊施設 | B13: 所在地 | D13: =入力表!C11 -> 山形市香澄町二丁目▲番〇号
B14: 名称 | D14: =入力表!C10 -> 山形市税ホテル
B15: 施設番号 | D15: =入力表!C12 -> ８７６５４４４４
A17: 令和 | B17: =入力表!E13 -> 9 | C17: 年 | D17: =入力表!G13 -> 7 | E17: 月分
A18: 区分 | B18: 課税標準 | D18: 宿泊者数 （人） | E18: 宿泊料金の総額 （円）（Ａ） | F18: 税率 （Ｂ） | G18: 宿泊税額 （円）（Ａ×Ｂ）
A19: 課税対象 | B19: １人１泊当たり | D19: ='月計表（１人1泊当たり）'!B38 -> 1113 | E19: ='月計表（１人1泊当たり）'!C38 -> 9173000 | F19: １００分の３ | G19: =E19*0.03 -> 275190
B20: １部屋１泊当たり | D20: ='月計表（１部屋1泊当たり）'!B38 -> 0 | E20: ='月計表（１部屋1泊当たり）'!C38 -> 0 | G20: =E20*0.03 -> 0
B21: １棟１泊当たり | D21: ='月計表（１棟1泊当たり）'!B38 -> 0 | E21: ='月計表（１棟1泊当たり）'!C38 -> 0 | G21: =E21*0.03 -> 0
B22: 合計 | D22: =SUM(D19:D21) -> 1113 | E22: =SUM(E19:E21) -> 9173000 | F22: 合計① | G22: =SUM(G19:G21) -> 275190
A23: 課税対象外 （課税免除） | B23: １人１泊当たり | D23: ='月計表（１人1泊当たり）'!D38 -> 35 | E23: ='月計表（１人1泊当たり）'!E38 -> 272000
B24: １部屋１泊当たり | D24: ='月計表（１部屋1泊当たり）'!D38 -> 0 | E24: ='月計表（１部屋1泊当たり）'!E38 -> 0
B25: １棟１泊当たり | D25: ='月計表（１棟1泊当たり）'!D38 -> 0 | E25: ='月計表（１棟1泊当たり）'!E38 -> 0
B26: 合計 | D26: =SUM(D23:D25) -> 35 | E26: =SUM(E23:E25) -> 272000
A28: 令和 | C28: 年 | E28: 月分
A29: 区分 | B29: 課税標準 | D29: 宿泊者数 （人） | E29: 宿泊料金の総額 （円）（Ａ） | F29: 税率 （Ｂ） | G29: 宿泊税額 （円）（Ａ×Ｂ）
A30: 課税対象 | B30: １人１泊当たり | F30: １００分の３
B31: １部屋１泊当たり
B32: １棟１泊当たり
B33: 合計 | D33: =SUM(D30:D32) -> 0 | E33: =SUM(E30:E32) -> 0 | F33: 合計② | G33: =SUM(G30:G32) -> 0
A34: 課税対象外 （課税免除） | B34: １人１泊当たり
B35: １部屋１泊当たり
B36: １棟１泊当たり
B37: 合計 | D37: =SUM(D34:D36) -> 0 | E37: =SUM(E34:E36) -> 0
A39: 令和 | C39: 年 | E39: 月分
A40: 区分 | B40: 課税標準 | D40: 宿泊者数 （人） | E40: 宿泊料金の総額 （円）（Ａ） | F40: 税率 （Ｂ） | G40: 宿泊税額 （円）（Ａ×Ｂ）
A41: 課税対象 | B41: １人１泊当たり | F41: １００分の３
B42: １部屋１泊当たり
B43: １棟１泊当たり
B44: 合計 | D44: =SUM(D41:D43) -> 0 | E44: =SUM(E41:E43) -> 0 | F44: 合計③ | G44: =SUM(G41:G43) -> 0
A45: 課税対象外 （課税免除） | B45: １人１泊当たり
...

Sheet 納入書
B4: 市町村コード | AZ4: 市町村コード | CX4: 市町村コード
B5: 0 6 2 0 1 4 | AZ5: 0 6 2 0 1 4 | CX5: 0 6 2 0 1 4
B7: 山形県 | M7: 都道 府県 | X7: 宿泊税領収済通知書 | AZ7: 山形県 | BK7: 都道 府県 | CC7: 宿泊税納入書 | CX7: 山形県 | DI7: 都道 府県 | DX7: 宿泊税領収証書
B9: 山形市 | N9: 市 町 村 | AZ9: 山形市 | BL9: 市 町 村 | CX9: 山形市 | DJ9: 市 町 村
B11: 口 座 番 号 | T11: 加 入 者 | AZ11: 口 座 番 号 | BR11: 加 入 者 | CX11: 口 座 番 号 | DP11: 加 入 者
B12: 02400 - 9 - 960022 | T12: 山形市会計管理者 | AZ12: 02400 - 9 - 960022 | BR12: 山形市会計管理者 | CX12: 02400 - 9 - 960022 | DP12: 山形市会計管理者
C14: 所在地及び氏名又は名称 | BA14: 所在地及び氏名又は名称 | CY14: 所在地及び氏名又は名称
C15: =入力表!C6 -> 山形市旅篭町二丁目〇番▲号 | BA15: =C15 -> 山形市旅篭町二丁目〇番▲号 | CY15: =C15 -> 山形市旅篭町二丁目〇番▲号
C18: =入力表!D7 -> 株式会社 山形市税観光 | BA18: =C18 -> 株式会社 山形市税観光 | CY18: =C18 -> 株式会社 山形市税観光
BA20: =C20 -> 0 | CY20: =C20 -> 0
C22: =入力表!D8 -> 代表取締役 山形 太郎 | AS22: 様 | BA22: =C22 -> 代表取締役 山形 太郎 | CQ22: 様 | CY22: =C22 -> 代表取締役 山形 太郎 | EO22: 様
D24: 宿泊施設名 | BB24: 宿泊施設名 | CZ24: 宿泊施設名
C25: =入力表!C10 -> 山形市税ホテル | BA25: =C25 -> 山形市税ホテル | CY25: =C25 -> 山形市税ホテル
B29: I D | H29: 科目コード | N29: 通知年度 | T29: 賦課年度 | Z29: 月 分 | AF29: 施 設 番 号 | AZ29: I D | BF29: 科目コード | BL29: 通知年度 | BR29: 賦課年度 | BX29: 月 分 | CD29: 施 設 番 号 | CX29: I D | DD29: 科目コード | DJ29: 通知年度 | DP29: 賦課年度 | DV29: 月 分 | EB29: 施 設 番 号
B30: 31 | H30: 74 | N30: =入力表!E14 -> 9 | T30: =入力表!E14 -> 9 | Z30: =入力表!G14 -> 8 | AF30: =入力表!C12 -> ８７６５４４４４ | AZ30: =B30 -> 31 | BF30: =H30 -> 74 | BL30: =N30 -> 9 | BR30: =T30 -> 9 | BX30: =Z30 -> 8 | CD30: =AF30 -> ８７６５４４４４ | CX30: =B30 -> 31 | DD30: =H30 -> 74 | DJ30: =N30 -> 9 | DP30: =T30 -> 9 | DV30: =Z30 -> 8 | EB30: =AF30 -> ８７６５４４４４
C33: 税額 | N33: 01 | Q33: 百 | T33: 十 | W33: 億 | Z33: 千 | AC33: 百 | AF33: 十 | AI33: 万 | AL33: 千 | AO33: 百 | AR33: 十 | AU33: 円 | BA33: 税額 | BL33: 01 | BO33: 百 | BR33: 十 | BU33: 億 | BX33: 千 | CA33: 百 | CD33: 十 | CG33: 万 | CJ33: 千 | CM33: 百 | CP33: 十 | CS33: 円 | CY33: 税額 | DJ33: 01 | DM33: 百 | DP33: 十 | DS33: 億 | DV33: 千 | DY33: 百 | EB33: 十 | EE33: 万 | EH33: 千 | EK33: 百 | EN33: 十 | EQ33: 円
Q34: =MID(RIGHT(" "&TEXT('（入力例）入力表'!$E$16,"0"),11),1,1) | T34: =MID(RIGHT(" "&TEXT('（入力例）入力表'!$E$16,"0"),11),2,1) | W34: =MID(RIGHT(" "&TEXT('（入力例）入力表'!$E$16,"0"),11),3,1) | Z34: =MID(RIGHT(" "&TEXT('（入力例）入力表'!$E$16,"0"),11),4,1) | AC34: =MID(RIGHT(" "&TEXT('（入力例）入力表'!$E$16,"0"),11),5,1) | AF34: =MID(RIGHT(" "&TEXT(入力表!$E$16,"0"),11),6,1) -> 2 | AI34: =MID(RIGHT(" "&TEXT(入力表!$E$16,"0"),11),7,1) -> 7 | AL34: =MID(RIGHT(" "&TEXT(入力表!$E$16,"0"),11),8,1) -> 5 | AO34: =MID(RIGHT(" "&TEXT(入力表!$E$16,"0"),11),9,1) -> 1 | AR34: =MID(RIGHT(" "&TEXT(入力表!$E$16,"0"),11),10,1) -> 9 | AU34: =MID(RIGHT(" "&TEXT(入力表!$E$16,"0"),11),11,1) -> 0 | BO34: =Q34 | BR34: =T34 | BU34: =W34 | BX34: =Z34 | CA34: =AC34 | CD34: =AF34 -> 2 | CG34: =AI34 -> 7 | CJ34: =AL34 -> 5 | CM34: =AO34 -> 1 | CP34: =AR34 -> 9 | CS34: =AU34 -> 0 | DM34: =BO34 | DP34: =BR34 | DS34: =BU34 | DV34: =BX34 | DY34: =CA34 | EB34: =CD34 -> 2 | EE34: =CG34 -> 7 | EH34: =CJ34 -> 5 | EK34: =CM34 -> 1 | EN34: =CP34 -> 9 | EQ34: =CS34 -> 0
C37: 延滞金 | N37: 02 | BA37: 延滞金 | BL37: 02 | CY37: 延滞金 | DJ37: 02
C40: 加算金 | N40: 03 | BA40: 加算金 | BL40: 03 | CY40: 加算金 | DJ40: 03
C43: 合計額 | N43: 04 | Q43: =Q34 | T43: =T34 | W43: =W34 | Z43: =Z34 | AC43: =AC34 | AF43: =AF34 -> 2 | AI43: =AI34 -> 7 | AL43: =AL34 -> 5 | AO43: =AO34 -> 1 | AR43: =AR34 -> 9 | AU43: =AU34 -> 0 | BA43: 合計額 | BL43: 04 | BO43: =BO34 | BR43: =BR34 | BU43: =BU34 | BX43: =BX34 | CA43: =CA34 | CD43: =CD34 -> 2 | CG43: =CG34 -> 7 | CJ43: =CJ34 -> 5 | CM43: =CM34 -> 1 | CP43: =CP34 -> 9 | CS43: =CS34 -> 0 | CY43: 合計額 | DJ43: 04 | DM43: =DM34 | DP43: =DP34 | DS43: =DS34 | DV43: =DV34 | DY43: =DY34 | EB43: =EB34 -> 2 | EE43: =EE34 -> 7 | EH43: =EH34 -> 5 | EK43: =EK34 -> 1 | EN43: =EN34 -> 9 | EQ43: =EQ34 -> 0
B46: 納 期 限 | H46: 令和 | M46: =入力表!D15 -> 9 | Q46: 年 | S46: =入力表!F15 -> 8 | V46: 月 | X46: =入力表!H15 -> 31 | AA46: 日 | AC46: 領収日付印 | AZ46: 納 期 限 | BF46: 令和 | BK46: =M46 -> 9 | BO46: 年 | BQ46: =S46 -> 8 | BT46: 月 | BV46: =X46 -> 31 | BY46: 日 | CA46: 領収日付印 | CX46: 納 期 限 | DD46: 令和 | DI46: =M46 -> 9 | DM46: 年 | DO46: =S46 -> 8 | DR46: 月 | DT46: =X46 -> 31 | DW46: 日 | DY46: 領収日付印
B48: 指定金融 | H48: 山形銀行山形市役所支店 | AZ48: 日 計
B49: 機 関 名 | CY49: 上記のとおり領収しました。
B50: （取りまとめ店） | CY50: （納税者保管）
B51: 取りまとめ局 | H51: 仙台貯金事務センター （〒980-8794）
CY52: ◎この納付書は、必ず3枚1組 で提出してください。
BA53: 上記のとおり納付します。
C54: 上記のとおり通知します。（市保管） | BA54: （金融機関又は郵便局保管）
