Workbook

Sheet （入力例）入力表
A2: (月計表自動作成)山形市宿泊税納入申告書・月計表・納入書作成ツール
A3: このデータの「入力表(着色済)」シート及び「月計表（着色済）」シートに項目を入力することで、「納入申告書」、「月計表」、「納入書」が作成されます。これらのシートには、「入力例」のシートと同内容の事項が記載済ですので、適宜、内容を修正し、ご活用ください。 ※ 月計表シートは、消費税込み１人１泊・１部屋１泊・１棟１泊当たりのいずれかの料金設定の宿泊費から宿泊税を算定するものです。宿泊税込みの宿泊費から割り戻し算定するものではありませんのでご注意ください。 ※２ 毎月の申告納付を3か月ごとにできる「納期の特例」の制度に対応していませんのでご注意ください。
C4: 令和 | D4: 9 | E4: 年 | F4: 8 | G4: 月 | H4: 12 | I4: 日
A5: 特別徴収義務者 | B5: 個人番号又は法人番号(最大13桁) | C5: 111111111111
B6: 住所又は所在地 | C6: 山形市旅篭町二丁目〇番▲号
B7: 氏名（名称 及び代表者名） | C7: 氏名（名称） | D7: 株式会社 山形市税観光
C8: 代表者名 | D8: 代表取締役 山形 太郎
B9: 電話番号 | C9: 023-641-0000
A10: 宿泊施設 | B10: 名称 | C10: 山形市税ホテル
B11: 所在地 | C11: 山形市香澄町二丁目▲番〇号
B12: 施設番号 | C12: ８７６５４４４４
A13: 宿泊月 | C13: 令和 | E13: 9 | F13: 年 | G13: 7 | H13: 月宿泊分
A14: 申告月 | E14: 9 | F14: 年 | G14: 8 | H14: 月
A15: 申告期限 | C15: 令和 | D15: 9 | E15: 年 | F15: 8 | G15: 月 | H15: 31 | I15: 日
A16: 税額（円） | E16: ='（入力反映済）納入申告書'!E51 -> 9810
A17: ※ 着色済のセルのみを入力してください。

Sheet （入力反映済）納入申告書
A1: 様式第１１号（第８条関係）
A2: 宿泊税納入申告書
A3: （宛先）山形市長
G4: ='（入力例）入力表'!C4&'（入力例）入力表'!D4&'（入力例）入力表'!E4&'（入力例）入力表'!F4&'（入力例）入力表'!G4&'（入力例）入力表'!H4&'（入力例）入力表'!I4 -> 令和9年8月12日
A6: 宿泊税の納入について、山形市宿泊税条例第１３条第１項の規定により、次のとおり申告します。
A8: （特別徴収義務者）
A9: 住所（所在地） | E9: 氏名（名称及び代表者名）
A10: ='（入力例）入力表'!C6 -> 山形市旅篭町二丁目〇番▲号 | E10: ='（入力例）入力表'!D7 -> 株式会社 山形市税観光
E11: ='（入力例）入力表'!D8 -> 代表取締役 山形 太郎
A12: 個人（法人）番号 | B12: ='（入力例）入力表'!C5 -> 111111111111 | E12: 電話番号 | F12: ='（入力例）入力表'!C9 -> 023-641-0000
A13: 宿泊施設 | B13: 所在地 | D13: ='（入力例）入力表'!C11 -> 山形市香澄町二丁目▲番〇号
B14: 名称 | D14: ='（入力例）入力表'!C10 -> 山形市税ホテル
B15: 施設番号 | D15: ='（入力例）入力表'!C12 -> ８７６５４４４４
A17: 令和 | B17: ='（入力例）入力表'!E13 -> 9 | C17: 年 | D17: ='（入力例）入力表'!G13 -> 7 | E17: 月分
A18: 区分 | B18: 課税標準 | D18: 宿泊者数 （人） | E18: 宿泊料金の総額 （円）（Ａ） | F18: 税率 （Ｂ） | G18: 宿泊税額 （円）（Ａ×Ｂ）
A19: 課税対象 | B19: １人１泊当たり | D19: ='（入力例）1人１泊当たり月計表 '!O46 -> 24 | E19: ='（入力例）1人１泊当たり月計表 '!P46 -> 225000 | F19: １００分の３ | G19: =E19*0.03 -> 6750
B20: １部屋１泊当たり | D20: ='（入力例）１部屋１泊当たり月計表'!L46 -> 17 | E20: ='（入力例）１部屋１泊当たり月計表'!M46 -> 102000 | G20: =E20*0.03 -> 3060
B21: １棟１泊当たり | G21: =E21*0.03 -> 0
B22: 合計 | D22: =SUM(D19:D21) -> 41 | E22: =SUM(E19:E21) -> 327000 | F22: 合計① | G22: =SUM(G19:G21) -> 9810
A23: 課税対象外 （課税免除） | B23: １人当たり | D23: ='（入力例）1人１泊当たり月計表 '!Q46 -> 4 | E23: ='（入力例）1人１泊当たり月計表 '!R46 -> 52000
B24: １部屋当たり | D24: ='（入力例）１部屋１泊当たり月計表'!N46 -> 2 | E24: ='（入力例）１部屋１泊当たり月計表'!O46 -> 13000
B25: １棟当たり
B26: 合計 | D26: =SUM(D23:D25) -> 6 | E26: =SUM(E23:E25) -> 65000
A28: 令和 | C28: 年 | E28: 月分
A29: 区分 | B29: 課税標準 | D29: 宿泊者数 （人） | E29: 宿泊料金の総額 （円）（Ａ） | F29: 税率 （Ｂ） | G29: 宿泊税額 （円）（Ａ×Ｂ）
A30: 課税対象 | B30: １人１泊当たり | F30: １００分の３
B31: １部屋１泊当たり
B32: １棟１泊当たり
B33: 合計 | D33: =SUM(D30:D32) -> 0 | E33: =SUM(E30:E32) -> 0 | F33: 合計② | G33: =SUM(G30:G32) -> 0
A34: 課税対象外 （課税免除） | B34: １人１泊当たり
B35: １部屋１泊当たり
B36: １棟１泊当たり
B37: 合計 | D37: =SUM(D34:D36) -> 0 | E37: =SUM(E34:E36) -> 0
A39: 令和 | C39: 年 | E39: 月分
A40: 区分 | B40: 課税標準 | D40: 宿泊者数 （人） | E40: 宿泊料金の総額 （円）（Ａ） | F40: 税率 （Ｂ） | G40: 宿泊税額 （円）（Ａ×Ｂ）
A41: 課税対象 | B41: １人１泊当たり | F41: １００分の３
B42: １部屋１泊当たり
B43: １棟１泊当たり
B44: 合計 | D44: =SUM(D41:D43) -> 0 | E44: =SUM(E41:E43) -> 0 | F44: 合計③ | G44: =SUM(G41:G43) -> 0
A45: 課税対象外 （課税免除） | B45: １人１泊当たり
B46: １部屋１泊当たり
B47: １棟１泊当たり
B48: 合計 | D48: =SUM(D45:D47) -> 0 | E48: =SUM(E45:E47) -> 0
E50: 合計宿泊税額（円）（①＋②＋③）
E51: =G22+G33+G44 -> 9810

Sheet （入力反映済）納入書
B4: 市町村コード | AZ4: 市町村コード | CX4: 市町村コード
B5: 0 6 2 0 1 4 | AZ5: 0 6 2 0 1 4 | CX5: 0 6 2 0 1 4
B7: 山形県 | M7: 都道 府県 | X7: 宿泊税領収済通知書 | AZ7: 山形県 | BK7: 都道 府県 | CC7: 宿泊税納入書 | CX7: 山形県 | DI7: 都道 府県 | DX7: 宿泊税領収証書
B9: 山形市 | N9: 市 町 村 | AZ9: 山形市 | BL9: 市 町 村 | CX9: 山形市 | DJ9: 市 町 村
B11: 口 座 番 号 | T11: 加 入 者 | AZ11: 口 座 番 号 | BR11: 加 入 者 | CX11: 口 座 番 号 | DP11: 加 入 者
B12: 02400 - 9 - 960022 | T12: 山形市会計管理者 | AZ12: 02400 - 9 - 960022 | BR12: 山形市会計管理者 | CX12: 02400 - 9 - 960022 | DP12: 山形市会計管理者
C14: 所在地及び氏名又は名称 | BA14: 所在地及び氏名又は名称 | CY14: 所在地及び氏名又は名称
C15: ='（入力例）入力表'!C6 -> 山形市旅篭町二丁目〇番▲号 | BA15: =C15 -> 山形市旅篭町二丁目〇番▲号 | CY15: =C15 -> 山形市旅篭町二丁目〇番▲号
C18: ='（入力例）入力表'!D7 -> 株式会社 山形市税観光 | BA18: =C18 -> 株式会社 山形市税観光 | CY18: =C18 -> 株式会社 山形市税観光
BA20: =C20 -> 0 | CY20: =C20 -> 0
C22: 代表取締役 山形 太郎 | AS22: 様 | BA22: =C22 -> 代表取締役 山形 太郎 | CQ22: 様 | CY22: =C22 -> 代表取締役 山形 太郎 | EO22: 様
D24: 宿泊施設名 | BB24: 宿泊施設名 | CZ24: 宿泊施設名
C25: ='（入力例）入力表'!C10 -> 山形市税ホテル | BA25: =C25 -> 山形市税ホテル | CY25: =C25 -> 山形市税ホテル
B29: I D | H29: 科目コード | N29: 通知年度 | T29: 賦課年度 | Z29: 月 分 | AF29: 施 設 番 号 | AZ29: I D | BF29: 科目コード | BL29: 通知年度 | BR29: 賦課年度 | BX29: 月 分 | CD29: 施 設 番 号 | CX29: I D | DD29: 科目コード | DJ29: 通知年度 | DP29: 賦課年度 | DV29: 月 分 | EB29: 施 設 番 号
B30: 31 | H30: 74 | N30: ='（入力例）入力表'!E14 -> 9 | T30: ='（入力例）入力表'!E14 -> 9 | Z30: ='（入力例）入力表'!G14 -> 8 | AF30: ='（入力例）入力表'!C12 -> ８７６５４４４４ | AZ30: =B30 -> 31 | BF30: =H30 -> 74 | BL30: =N30 -> 9 | BR30: =T30 -> 9 | BX30: =Z30 -> 8 | CD30: =AF30 -> ８７６５４４４４ | CX30: =B30 -> 31 | DD30: =H30 -> 74 | DJ30: =N30 -> 9 | DP30: =T30 -> 9 | DV30: =Z30 -> 8 | EB30: =AF30 -> ８７６５４４４４
C33: 税額 | N33: 01 | Q33: 百 | T33: 十 | W33: 億 | Z33: 千 | AC33: 百 | AF33: 十 | AI33: 万 | AL33: 千 | AO33: 百 | AR33: 十 | AU33: 円 | BA33: 税額 | BL33: 01 | BO33: 百 | BR33: 十 | BU33: 億 | BX33: 千 | CA33: 百 | CD33: 十 | CG33: 万 | CJ33: 千 | CM33: 百 | CP33: 十 | CS33: 円 | CY33: 税額 | DJ33: 01 | DM33: 百 | DP33: 十 | DS33: 億 | DV33: 千 | DY33: 百 | EB33: 十 | EE33: 万 | EH33: 千 | EK33: 百 | EN33: 十 | EQ33: 円
Q34: =MID(RIGHT(" "&TEXT('（入力例）入力表'!$E$16,"0"),11),1,1) | T34: =MID(RIGHT(" "&TEXT('（入力例）入力表'!$E$16,"0"),11),2,1) | W34: =MID(RIGHT(" "&TEXT('（入力例）入力表'!$E$16,"0"),11),3,1) | Z34: =MID(RIGHT(" "&TEXT('（入力例）入力表'!$E$16,"0"),11),4,1) | AC34: =MID(RIGHT(" "&TEXT('（入力例）入力表'!$E$16,"0"),11),5,1) | AF34: =MID(RIGHT(" "&TEXT('（入力例）入力表'!$E$16,"0"),11),6,1) | AI34: =MID(RIGHT(" "&TEXT('（入力例）入力表'!$E$16,"0"),11),7,1) | AL34: =MID(RIGHT(" "&TEXT('（入力例）入力表'!$E$16,"0"),11),8,1) -> 9 | AO34: =MID(RIGHT(" "&TEXT('（入力例）入力表'!$E$16,"0"),11),9,1) -> 8 | AR34: =MID(RIGHT(" "&TEXT('（入力例）入力表'!$E$16,"0"),11),10,1) -> 1 | AU34: =MID(RIGHT(" "&TEXT('（入力例）入力表'!$E$16,"0"),11),11,1) -> 0 | BO34: =Q34 | BR34: =T34 | BU34: =W34 | BX34: =Z34 | CA34: =AC34 | CD34: =AF34 | CG34: =AI34 | CJ34: =AL34 -> 9 | CM34: =AO34 -> 8 | CP34: =AR34 -> 1 | CS34: =AU34 -> 0 | DM34: =BO34 | DP34: =BR34 | DS34: =BU34 | DV34: =BX34 | DY34: =CA34 | EB34: =CD34 | EE34: =CG34 | EH34: =CJ34 -> 9 | EK34: =CM34 -> 8 | EN34: =CP34 -> 1 | EQ34: =CS34 -> 0
C37: 延滞金 | N37: 02 | BA37: 延滞金 | BL37: 02 | CY37: 延滞金 | DJ37: 02
C40: 加算金 | N40: 03 | BA40: 加算金 | BL40: 03 | CY40: 加算金 | DJ40: 03
C43: 合計額 | N43: 04 | Q43: =Q34 | T43: =T34 | W43: =W34 | Z43: =Z34 | AC43: =AC34 | AF43: =AF34 | AI43: =AI34 | AL43: =AL34 -> 9 | AO43: =AO34 -> 8 | AR43: =AR34 -> 1 | AU43: =AU34 -> 0 | BA43: 合計額 | BL43: 04 | BO43: =BO34 | BR43: =BR34 | BU43: =BU34 | BX43: =BX34 | CA43: =CA34 | CD43: =CD34 | CG43: =CG34 | CJ43: =CJ34 -> 9 | CM43: =CM34 -> 8 | CP43: =CP34 -> 1 | CS43: =CS34 -> 0 | CY43: 合計額 | DJ43: 04 | DM43: =DM34 | DP43: =DP34 | DS43: =DS34 | DV43: =DV34 | DY43: =DY34 | EB43: =EB34 | EE43: =EE34 | EH43: =EH34 -> 9 | EK43: =EK34 -> 8 | EN43: =EN34 -> 1 | EQ43: =EQ34 -> 0
B46: 納 期 限 | H46: 令和 | M46: ='（入力例）入力表'!D15 -> 9 | Q46: 年 | S46: ='（入力例）入力表'!F15 -> 8 | V46: 月 | X46: ='（入力例）入力表'!H15 -> 31 | AA46: 日 | AC46: 領収日付印 | AZ46: 納 期 限 | BF46: 令和 | BK46: =M46 -> 9 | BO46: 年 | BQ46: =S46 -> 8 | BT46: 月 | BV46: =X46 -> 31 | BY46: 日 | CA46: 領収日付印 | CX46: 納 期 限 | DD46: 令和 | DI46: =M46 -> 9 | DM46: 年 | DO46: =S46 -> 8 | DR46: 月 | DT46: =X46 -> 31 | DW46: 日 | DY46: 領収日付印
B48: 指定金融 | H48: 山形銀行山形市役所支店 | AZ48: 日 計
B49: 機 関 名 | CY49: 上記のとおり領収しました。
B50: （取りまとめ店） | CY50: （納税者保管）
B51: 取りまとめ局 | H51: 仙台貯金事務センター （〒980-8794）
CY52: ◎この納付書は、必ず3枚1組 で提出してください。
BA53: 上記のとおり納付します。
C54: 上記のとおり通知します。（市保管） | BA54: （金融機関又は郵便局保管）

Sheet （入力例）1人１泊当たり月計表 
A1: 1人1泊当たり宿泊料金（宿泊税）が確認できる場合の計算シート
A6: ↓こちらの①～⑥に宿泊者情報を入力してください。
A7: ① | B7: ② | C7: ③ | D7: ④ | E7: ⑤ | F7: ⑥
A8: 日付 | B8: 宿泊者名等 | C8: 宿泊者数（人） | D8: 総額（消費税込・食事代等込の総額）/人 | E8: 食事代など宿泊税の対象外経費（消費税込）/人 | F8: 宿泊税課税対象 | G8: 宿泊料金（税抜）/人 | H8: 宿泊料金（税抜、千円未満切捨て）/人 | I8: 宿泊税（3%）/人 | J8: 宿泊料金（税抜）×人数 | K8: 宿泊料金（税抜、千円未満切捨て）×人数 | L8: 宿泊税×人数
A9: 1 | B9: 鈴木 太郎 | C9: 1 | D9: 11000 | E9: 1000 | F9: 1 | G9: =ROUNDDOWN((D9-E9)/1.1, 0) -> 9090 | H9: =ROUNDDOWN(G9, -3) -> 9000 | I9: =IF(F9=1,MIN(H9 * 0.03),0) -> 270 | J9: =G9*C9 -> 9090 | K9: =H9*C9 -> 9000 | L9: =IF(F9=1,I9*C9,0) -> 270 | N9: 月計表（１人1泊当たり）
A10: 1 | B10: 斉藤 花子 | C10: 2 | D10: 13000 | E10: 5500 | F10: 1 | G10: =ROUNDDOWN((D10-E10)/1.1, 0) -> 6818 | H10: =ROUNDDOWN(G10, -3) -> 6000 | I10: =IF(F10=1,MIN(H10 * 0.03),0) -> 180 | J10: =G10*C10 -> 13636 | K10: =H10*C10 -> 12000 | L10: =IF(F10=1,I10*C10,0) -> 360 | N10: 令和 | O10: ='（入力例）入力表'!$E$13 -> 9 | P10: 年 | Q10: ='（入力例）入力表'!$G$13 -> 7 | R10: 月宿泊分
A11: 2 | B11: 高橋 次郎 | C11: 3 | D11: 11000 | E11: 1000 | F11: 1 | G11: =ROUNDDOWN((D11-E11)/1.1, 0) -> 9090 | H11: =ROUNDDOWN(G11, -3) -> 9000 | I11: =IF(F11=1,MIN(H11 * 0.03),0) -> 270 | J11: =G11*C11 -> 27270 | K11: =H11*C11 -> 27000 | L11: =IF(F11=1,I11*C11,0) -> 810 | N11: 施設番号 | P11: ='（入力例）入力表'!$C$12 -> ８７６５４４４４
A12: 2 | B12: 鈴木 一郎 | C12: 2 | D12: 6000 | E12: 0 | F12: 1 | G12: =ROUNDDOWN((D12-E12)/1.1, 0) -> 5454 | H12: =ROUNDDOWN(G12, -3) -> 5000 | I12: =IF(F12=1,MIN(H12 * 0.03),0) -> 150 | J12: =G12*C12 -> 10908 | K12: =H12*C12 -> 10000 | L12: =IF(F12=1,I12*C12,0) -> 300 | N12: 宿泊施設名 | P12: ='（入力例）入力表'!$C$10 -> 山形市税ホテル
A13: 3 | B13: 田中 花子 | C13: 1 | D13: 16000 | E13: 10000 | F13: 1 | G13: =ROUNDDOWN((D13-E13)/1.1, 0) -> 5454 | H13: =ROUNDDOWN(G13, -3) -> 5000 | I13: =IF(F13=1,MIN(H13 * 0.03),0) -> 150 | J13: =G13*C13 -> 5454 | K13: =H13*C13 -> 5000 | L13: =IF(F13=1,I13*C13,0) -> 150 | N13: 日付 | O13: 課税対象 | Q13: 課税対象外（課税免除）
A14: 3 | B14: 伊藤 太郎 | C14: 4 | D14: 15000 | E14: 0 | F14: 0 | G14: =ROUNDDOWN((D14-E14)/1.1, 0) -> 13636 | H14: =ROUNDDOWN(G14, -3) -> 13000 | I14: =IF(F14=1,MIN(H14 * 0.03),0) -> 0 | J14: =G14*C14 -> 54544 | K14: =H14*C14 -> 52000 | L14: =IF(F14=1,I14*C14,0) -> 0 | O14: 宿泊者数（人） | P14: 宿泊料金（円） | Q14: 宿泊者数（人） | R14: 宿泊料金（円）
A15: 4 | B15: 山田 太郎 | C15: 5 | D15: 25000 | E15: 12000 | F15: 1 | G15: =ROUNDDOWN((D15-E15)/1.1, 0) -> 11818 | H15: =ROUNDDOWN(G15, -3) -> 11000 | I15: =IF(F15=1,MIN(H15 * 0.03),0) -> 330 | J15: =G15*C15 -> 59090 | K15: =H15*C15 -> 55000 | L15: =IF(F15=1,I15*C15,0) -> 1650 | N15: 1 | O15: =SUMIFS(C:C,$A:$A,$N15,$F:$F,1) -> 3 | P15: =SUMIFS(K:K,$A:$A,$N15,$F:$F,1) -> 21000 | Q15: =SUMIFS(C:C,$A:$A,$N15,$F:$F,0) -> 0 | R15: =SUMIFS(K:K,$A:$A,$N15,$F:$F,0) -> 0
A16: 4 | B16: 大原 花子 | C16: 3 | D16: 21000 | E16: 6000 | F16: 1 | G16: =ROUNDDOWN((D16-E16)/1.1, 0) -> 13636 | H16: =ROUNDDOWN(G16, -3) -> 13000 | I16: =IF(F16=1,MIN(H16 * 0.03),0) -> 390 | J16: =G16*C16 -> 40908 | K16: =H16*C16 -> 39000 | L16: =IF(F16=1,I16*C16,0) -> 1170 | N16: 2 | O16: =SUMIFS(C:C,$A:$A,$N16,$F:$F,1) -> 5 | P16: =SUMIFS(K:K,$A:$A,$N16,$F:$F,1) -> 37000 | Q16: =SUMIFS(C:C,$A:$A,$N16,$F:$F,0) -> 0 | R16: =SUMIFS(K:K,$A:$A,$N16,$F:$F,0) -> 0
A17: 4 | B17: 齋藤 太郎 | C17: 2 | D17: 12000 | E17: 6000 | F17: 1 | G17: =ROUNDDOWN((D17-E17)/1.1, 0) -> 5454 | H17: =ROUNDDOWN(G17, -3) -> 5000 | I17: =IF(F17=1,MIN(H17 * 0.03),0) -> 150 | J17: =G17*C17 -> 10908 | K17: =H17*C17 -> 10000 | L17: =IF(F17=1,I17*C17,0) -> 300 | N17: 3 | O17: =SUMIFS(C:C,$A:$A,$N17,$F:$F,1) -> 1 | P17: =SUMIFS(K:K,$A:$A,$N17,$F:$F,1) -> 5000 | Q17: =SUMIFS(C:C,$A:$A,$N17,$F:$F,0) -> 4 | R17: =SUMIFS(K:K,$A:$A,$N17,$F:$F,0) -> 52000
A18: 5 | B18: 齋藤 太郎 | C18: 2 | D18: 12000 | E18: 6000 | F18: 1 | G18: =ROUNDDOWN((D18-E18)/1.1, 0) -> 5454 | H18: =ROUNDDOWN(G18, -3) -> 5000 | I18: =IF(F18=1,MIN(H18 * 0.03),0) -> 150 | J18: =G18*C18 -> 10908 | K18: =H18*C18 -> 10000 | L18: =IF(F18=1,I18*C18,0) -> 300 | N18: 4 | O18: =SUMIFS(C:C,$A:$A,$N18,$F:$F,1) -> 10 | P18: =SUMIFS(K:K,$A:$A,$N18,$F:$F,1) -> 104000 | Q18: =SUMIFS(C:C,$A:$A,$N18,$F:$F,0) -> 0 | R18: =SUMIFS(K:K,$A:$A,$N18,$F:$F,0) -> 0
A19: 5 | B19: 武田 三郎 | C19: 3 | D19: 21000 | E19: 3000 | F19: 1 | G19: =ROUNDDOWN((D19-E19)/1.1, 0) -> 16363 | H19: =ROUNDDOWN(G19, -3) -> 16000 | I19: =IF(F19=1,MIN(H19 * 0.03),0) -> 480 | J19: =G19*C19 -> 49089 | K19: =H19*C19 -> 48000 | L19: =IF(F19=1,I19*C19,0) -> 1440 | N19: 5 | O19: =SUMIFS(C:C,$A:$A,$N19,$F:$F,1) -> 5 | P19: =SUMIFS(K:K,$A:$A,$N19,$F:$F,1) -> 58000 | Q19: =SUMIFS(C:C,$A:$A,$N19,$F:$F,0) -> 0 | R19: =SUMIFS(K:K,$A:$A,$N19,$F:$F,0) -> 0
G20: =ROUNDDOWN((D20-E20)/1.1, 0) -> 0 | H20: =ROUNDDOWN(G20, -3) -> 0 | I20: =IF(F20=1,MIN(H20 * 0.03),0) -> 0 | J20: =G20*C20 -> 0 | K20: =H20*C20 -> 0 | L20: =IF(F20=1,I20*C20,0) -> 0 | N20: 6 | O20: =SUMIFS(C:C,$A:$A,$N20,$F:$F,1) -> 0 | P20: =SUMIFS(K:K,$A:$A,$N20,$F:$F,1) -> 0 | Q20: =SUMIFS(C:C,$A:$A,$N20,$F:$F,0) -> 0 | R20: =SUMIFS(K:K,$A:$A,$N20,$F:$F,0) -> 0
G21: =ROUNDDOWN((D21-E21)/1.1, 0) -> 0 | H21: =ROUNDDOWN(G21, -3) -> 0 | I21: =IF(F21=1,MIN(H21 * 0.03),0) -> 0 | J21: =G21*C21 -> 0 | K21: =H21*C21 -> 0 | L21: =IF(F21=1,I21*C21,0) -> 0 | N21: 7 | O21: =SUMIFS(C:C,$A:$A,$N21,$F:$F,1) -> 0 | P21: =SUMIFS(K:K,$A:$A,$N21,$F:$F,1) -> 0 | Q21: =SUMIFS(C:C,$A:$A,$N21,$F:$F,0) -> 0 | R21: =SUMIFS(K:K,$A:$A,$N21,$F:$F,0) -> 0
G22: =ROUNDDOWN((D22-E22)/1.1, 0) -> 0 | H22: =ROUNDDOWN(G22, -3) -> 0 | I22: =IF(F22=1,MIN(H22 * 0.03),0) -> 0 | J22: =G22*C22 -> 0 | K22: =H22*C22 -> 0 | L22: =IF(F22=1,I22*C22,0) -> 0 | N22: 8 | O22: =SUMIFS(C:C,$A:$A,$N22,$F:$F,1) -> 0 | P22: =SUMIFS(K:K,$A:$A,$N22,$F:$F,1) -> 0 | Q22: =SUMIFS(C:C,$A:$A,$N22,$F:$F,0) -> 0 | R22: =SUMIFS(K:K,$A:$A,$N22,$F:$F,0) -> 0
G23: =ROUNDDOWN((D23-E23)/1.1, 0) -> 0 | H23: =ROUNDDOWN(G23, -3) -> 0 | I23: =IF(F23=1,MIN(H23 * 0.03),0) -> 0 | J23: =G23*C23 -> 0 | K23: =H23*C23 -> 0 | L23: =IF(F23=1,I23*C23,0) -> 0 | N23: 9 | O23: =SUMIFS(C:C,$A:$A,$N23,$F:$F,1) -> 0 | P23: =SUMIFS(K:K,$A:$A,$N23,$F:$F,1) -> 0 | Q23: =SUMIFS(C:C,$A:$A,$N23,$F:$F,0) -> 0 | R23: =SUMIFS(K:K,$A:$A,$N23,$F:$F,0) -> 0
G24: =ROUNDDOWN((D24-E24)/1.1, 0) -> 0 | H24: =ROUNDDOWN(G24, -3) -> 0 | I24: =IF(F24=1,MIN(H24 * 0.03),0) -> 0 | J24: =G24*C24 -> 0 | K24: =H24*C24 -> 0 | L24: =IF(F24=1,I24*C24,0) -> 0 | N24: 10 | O24: =SUMIFS(C:C,$A:$A,$N24,$F:$F,1) -> 0 | P24: =SUMIFS(K:K,$A:$A,$N24,$F:$F,1) -> 0 | Q24: =SUMIFS(C:C,$A:$A,$N24,$F:$F,0) -> 0 | R24: =SUMIFS(K:K,$A:$A,$N24,$F:$F,0) -> 0
G25: =ROUNDDOWN((D25-E25)/1.1, 0) -> 0 | H25: =ROUNDDOWN(G25, -3) -> 0 | I25: =IF(F25=1,MIN(H25 * 0.03),0) -> 0 | J25: =G25*C25 -> 0 | K25: =H25*C25 -> 0 | L25: =IF(F25=1,I25*C25,0) -> 0 | N25: 11 | O25: =SUMIFS(C:C,$A:$A,$N25,$F:$F,1) -> 0 | P25: =SUMIFS(K:K,$A:$A,$N25,$F:$F,1) -> 0 | Q25: =SUMIFS(C:C,$A:$A,$N25,$F:$F,0) -> 0 | R25: =SUMIFS(K:K,$A:$A,$N25,$F:$F,0) -> 0
G26: =ROUNDDOWN((D26-E26)/1.1, 0) -> 0 | H26: =ROUNDDOWN(G26, -3) -> 0 | I26: =IF(F26=1,MIN(H26 * 0.03),0) -> 0 | J26: =G26*C26 -> 0 | K26: =H26*C26 -> 0 | L26: =IF(F26=1,I26*C26,0) -> 0 | N26: 12 | O26: =SUMIFS(C:C,$A:$A,$N26,$F:$F,1) -> 0 | P26: =SUMIFS(K:K,$A:$A,$N26,$F:$F,1) -> 0 | Q26: =SUMIFS(C:C,$A:$A,$N26,$F:$F,0) -> 0 | R26: =SUMIFS(K:K,$A:$A,$N26,$F:$F,0) -> 0
G27: =ROUNDDOWN((D27-E27)/1.1, 0) -> 0 | H27: =ROUNDDOWN(G27, -3) -> 0 | I27: =IF(F27=1,MIN(H27 * 0.03),0) -> 0 | J27: =G27*C27 -> 0 | K27: =H27*C27 -> 0 | L27: =IF(F27=1,I27*C27,0) -> 0 | N27: 13 | O27: =SUMIFS(C:C,$A:$A,$N27,$F:$F,1) -> 0 | P27: =SUMIFS(K:K,$A:$A,$N27,$F:$F,1) -> 0 | Q27: =SUMIFS(C:C,$A:$A,$N27,$F:$F,0) -> 0 | R27: =SUMIFS(K:K,$A:$A,$N27,$F:$F,0) -> 0
G28: =ROUNDDOWN((D28-E28)/1.1, 0) -> 0 | H28: =ROUNDDOWN(G28, -3) -> 0 | I28: =IF(F28=1,MIN(H28 * 0.03),0) -> 0 | J28: =G28*C28 -> 0 | K28: =H28*C28 -> 0 | L28: =IF(F28=1,I28*C28,0) -> 0 | N28: 14 | O28: =SUMIFS(C:C,$A:$A,$N28,$F:$F,1) -> 0 | P28: =SUMIFS(K:K,$A:$A,$N28,$F:$F,1) -> 0 | Q28: =SUMIFS(C:C,$A:$A,$N28,$F:$F,0) -> 0 | R28: =SUMIFS(K:K,$A:$A,$N28,$F:$F,0) -> 0
G29: =ROUNDDOWN((D29-E29)/1.1, 0) -> 0 | H29: =ROUNDDOWN(G29, -3) -> 0 | I29: =IF(F29=1,MIN(H29 * 0.03),0) -> 0 | J29: =G29*C29 -> 0 | K29: =H29*C29 -> 0 | L29: =IF(F29=1,I29*C29,0) -> 0 | N29: 15 | O29: =SUMIFS(C:C,$A:$A,$N29,$F:$F,1) -> 0 | P29: =SUMIFS(K:K,$A:$A,$N29,$F:$F,1) -> 0 | Q29: =SUMIFS(C:C,$A:$A,$N29,$F:$F,0) -> 0 | R29: =SUMIFS(K:K,$A:$A,$N29,$F:$F,0) -> 0
G30: =ROUNDDOWN((D30-E30)/1.1, 0) -> 0 | H30: =ROUNDDOWN(G30, -3) -> 0 | I30: =IF(F30=1,MIN(H30 * 0.03),0) -> 0 | J30: =G30*C30 -> 0 | K30: =H30*C30 -> 0 | L30: =IF(F30=1,I30*C30,0) -> 0 | N30: 16 | O30: =SUMIFS(C:C,$A:$A,$N30,$F:$F,1) -> 0 | P30: =SUMIFS(K:K,$A:$A,$N30,$F:$F,1) -> 0 | Q30: =SUMIFS(C:C,$A:$A,$N30,$F:$F,0) -> 0 | R30: =SUMIFS(K:K,$A:$A,$N30,$F:$F,0) -> 0
G31: =ROUNDDOWN((D31-E31)/1.1, 0) -> 0 | H31: =ROUNDDOWN(G31, -3) -> 0 | I31: =IF(F31=1,MIN(H31 * 0.03),0) -> 0 | J31: =G31*C31 -> 0 | K31: =H31*C31 -> 0 | L31: =IF(F31=1,I31*C31,0) -> 0 | N31: 17 | O31: =SUMIFS(C:C,$A:$A,$N31,$F:$F,1) -> 0 | P31: =SUMIFS(K:K,$A:$A,$N31,$F:$F,1) -> 0 | Q31: =SUMIFS(C:C,$A:$A,$N31,$F:$F,0) -> 0 | R31: =SUMIFS(K:K,$A:$A,$N31,$F:$F,0) -> 0
... G45: =ROUNDDOWN((D45-E45)/1.1, 0) -> 0 | H45: =ROUNDDOWN(G45, -3) -> 0 | I45: =IF(F45=1,MIN(H45 * 0.03),0) -> 0 | J45: =G45*C45 -> 0 | K45: =H45*C45 -> 0 | L45: =IF(F45=1,I45*C45,0) -> 0 | N45: 31 | O45: =SUMIFS(C:C,$A:$A,$N45,$F:$F,1) -> 0 | P45: =SUMIFS(K:K,$A:$A,$N45,$F:$F,1) -> 0 | Q45: =SUMIFS(C:C,$A:$A,$N45,$F:$F,0) -> 0 | R45: =SUMIFS(K:K,$A:$A,$N45,$F:$F,0) -> 0
G46: =ROUNDDOWN((D46-E46)/1.1, 0) -> 0 | H46: =ROUNDDOWN(G46, -3) -> 0 | I46: =IF(F46=1,MIN(H46 * 0.03),0) -> 0 | J46: =G46*C46 -> 0 | K46: =H46*C46 -> 0 | L46: =IF(F46=1,I46*C46,0) -> 0 | N46: 合計 | O46: =SUM(O15:O45) -> 24 | P46: =SUM(P15:P45) -> 225000 | Q46: =SUM(Q15:Q45) -> 4 | R46: =SUM(R15:R45) -> 52000
G47: =ROUNDDOWN((D47-E47)/1.1, 0) -> 0 | H47: =ROUNDDOWN(G47, -3) -> 0 | I47: =IF(F47=1,MIN(H47 * 0.03),0) -> 0 | J47: =G47*C47 -> 0 | K47: =H47*C47 -> 0 | L47: =IF(F47=1,I47*C47,0) -> 0
G48: =ROUNDDOWN((D48-E48)/1.1, 0) -> 0 | H48: =ROUNDDOWN(G48, -3) -> 0 | I48: =IF(F48=1,MIN(H48 * 0.03),0) -> 0 | J48: =G48*C48 -> 0 | K48: =H48*C48 -> 0 | L48: =IF(F48=1,I48*C48,0) -> 0
G49: =ROUNDDOWN((D49-E49)/1.1, 0) -> 0 | H49: =ROUNDDOWN(G49, -3) -> 0 | I49: =IF(F49=1,MIN(H49 * 0.03),0) -> 0 | J49: =G49*C49 -> 0 | K49: =H49*C49 -> 0 | L49: =IF(F49=1,I49*C49,0) -> 0
G50: =ROUNDDOWN((D50-E50)/1.1, 0) -> 0 | H50: =ROUNDDOWN(G50, -3) -> 0 | I50: =IF(F50=1,MIN(H50 * 0.03),0) -> 0 | J50: =G50*C50 -> 0 | K50: =H50*C50 -> 0 | L50: =IF(F50=1,I50*C50,0) -> 0
G51: =ROUNDDOWN((D51-E51)/1.1, 0) -> 0 | H51: =ROUNDDOWN(G51, -3) -> 0 | I51: =IF(F51=1,MIN(H51 * 0.03),0) -> 0 | J51: =G51*C51 -> 0 | K51: =H51*C51 -> 0 | L51: =IF(F51=1,I51*C51,0) -> 0
G52: =ROUNDDOWN((D52-E52)/1.1, 0) -> 0 | H52: =ROUNDDOWN(G52, -3) -> 0 | I52: =IF(F52=1,MIN(H52 * 0.03),0) -> 0 | J52: =G52*C52 -> 0 | K52: =H52*C52 -> 0 | L52: =IF(F52=1,I52*C52,0) -> 0
G53: =ROUNDDOWN((D53-E53)/1.1, 0) -> 0 | H53: =ROUNDDOWN(G53, -3) -> 0 | I53: =IF(F53=1,MIN(H53 * 0.03),0) -> 0 | J53: =G53*C53 -> 0 | K53: =H53*C53 -> 0 | L53: =IF(F53=1,I53*C53,0) -> 0
G54: =ROUNDDOWN((D54-E54)/1.1, 0) -> 0 | H54: =ROUNDDOWN(G54, -3) -> 0 | I54: =IF(F54=1,MIN(H54 * 0.03),0) -> 0 | J54: =G54*C54 -> 0 | K54: =H54*C54 -> 0 | L54: =IF(F54=1,I54*C54,0) -> 0
G55: =ROUNDDOWN((D55-E55)/1.1, 0) -> 0 | H55: =ROUNDDOWN(G55, -3) -> 0 | I55: =IF(F55=1,MIN(H55 * 0.03),0) -> 0 | J55: =G55*C55 -> 0 | K55: =H55*C55 -> 0 | L55: =IF(F55=1,I55*C55,0) -> 0
G56: =ROUNDDOWN((D56-E56)/1.1, 0) -> 0 | H56: =ROUNDDOWN(G56, -3) -> 0 | I56: =IF(F56=1,MIN(H56 * 0.03),0) -> 0 | J56: =G56*C56 -> 0 | K56: =H56*C56 -> 0 | L56: =IF(F56=1,I56*C56,0) -> 0
G57: =ROUNDDOWN((D57-E57)/1.1, 0) -> 0 | H57: =ROUNDDOWN(G57, -3) -> 0 | I57: =IF(F57=1,MIN(H57 * 0.03),0) -> 0 | J57: =G57*C57 -> 0 | K57: =H57*C57 -> 0 | L57: =IF(F57=1,I57*C57,0) -> 0
G58: =ROUNDDOWN((D58-E58)/1.1, 0) -> 0 | H58: =ROUNDDOWN(G58, -3) -> 0 | I58: =IF(F58=1,MIN(H58 * 0.03),0) -> 0 | J58: =G58*C58 -> 0 | K58: =H58*C58 -> 0 | L58: =IF(F58=1,I58*C58,0) -> 0
... G1008: =ROUNDDOWN((D1008-E1008)/1.1, 0) -> 0 | H1008: =ROUNDDOWN(G1008, -3) -> 0 | I1008: =IF(F1008=1,MIN(H1008 * 0.03),0) -> 0 | J1008: =G1008*C1008 -> 0 | K1008: =H1008*C1008 -> 0 | L1008: =IF(F1008=1,I1008*C1008,0) -> 0

Sheet （入力例）１部屋１泊当たり月計表
A1: 1部屋（棟）1泊当たり宿泊料金（宿泊税）が確認できる場合の計算シート
A6: ↓こちらの①～⑥に宿泊者情報を入力してください。
A7: ① | B7: ② | C7: ③ | D7: ④ | E7: ⑤ | F7: ⑥
A8: 日付 | B8: 宿泊者名等 | C8: 宿泊者数（不明な場合は定員数）（人） | D8: 総額（消費税込・食事代等込の総額） | E8: 食事代など宿泊税の対象外経費（消費税込） | F8: 宿泊税課税対象 | G8: 宿泊料金（税抜） | H8: 宿泊料金（税抜、千円未満切捨て） | I8: 宿泊税（3%）
A9: 1 | B9: 鈴木 太郎 | C9: 1 | D9: 11000 | E9: 1000 | F9: 1 | G9: =ROUNDDOWN((D9-E9)/1.1, 0) -> 9090 | H9: =ROUNDDOWN(G9, -3) -> 9000 | I9: =IF(F9=1,MIN(H9 * 0.03),0) -> 270 | K9: 月計表（１部屋1泊当たり）
A10: 1 | B10: 斉藤 花子 | C10: 2 | D10: 13000 | E10: 5500 | F10: 1 | G10: =ROUNDDOWN((D10-E10)/1.1, 0) -> 6818 | H10: =ROUNDDOWN(G10, -3) -> 6000 | I10: =IF(F10=1,MIN(H10 * 0.03),0) -> 180 | K10: 令和 | L10: ='（入力例）入力表'!$E$13 -> 9 | M10: 年 | N10: ='（入力例）入力表'!$G$13 -> 7 | O10: 月宿泊分
A11: 2 | B11: 高橋 次郎 | C11: 1 | D11: 11000 | E11: 1000 | F11: 1 | G11: =ROUNDDOWN((D11-E11)/1.1, 0) -> 9090 | H11: =ROUNDDOWN(G11, -3) -> 9000 | I11: =IF(F11=1,MIN(H11 * 0.03),0) -> 270 | K11: 施設番号 | M11: ='（入力例）入力表'!$C$12 -> ８７６５４４４４
A12: 2 | B12: 鈴木 一郎 | C12: 2 | D12: 6000 | E12: 0 | F12: 1 | G12: =ROUNDDOWN((D12-E12)/1.1, 0) -> 5454 | H12: =ROUNDDOWN(G12, -3) -> 5000 | I12: =IF(F12=1,MIN(H12 * 0.03),0) -> 150 | K12: 宿泊施設名 | M12: ='（入力例）入力表'!$C$10 -> 山形市税ホテル
A13: 3 | B13: 田中 花子 | C13: 1 | D13: 25000 | E13: 10000 | F13: 1 | G13: =ROUNDDOWN((D13-E13)/1.1, 0) -> 13636 | H13: =ROUNDDOWN(G13, -3) -> 13000 | I13: =IF(F13=1,MIN(H13 * 0.03),0) -> 390 | K13: 日付 | L13: 課税対象 | N13: 課税対象外（課税免除）
A14: 3 | B14: 伊藤 太郎 | C14: 2 | D14: 15000 | E14: 0 | F14: 0 | G14: =ROUNDDOWN((D14-E14)/1.1, 0) -> 13636 | H14: =ROUNDDOWN(G14, -3) -> 13000 | I14: =IF(F14=1,MIN(H14 * 0.03),0) -> 0 | L14: 宿泊者数（人） | M14: 宿泊料金（円） | N14: 宿泊者数（人） | O14: 宿泊料金（円）
A15: 4 | B15: 山田 太郎 | C15: 5 | D15: 45000 | E15: 12000 | F15: 1 | G15: =ROUNDDOWN((D15-E15)/1.1, 0) -> 30000 | H15: =ROUNDDOWN(G15, -3) -> 30000 | I15: =IF(F15=1,MIN(H15 * 0.03),0) -> 900 | K15: 1 | L15: =SUMIFS(C:C,$A:$A,$K15,$F:$F,1) -> 3 | M15: =SUMIFS(H:H,$A:$A,$K15,$F:$F,1) -> 15000 | N15: =SUMIFS(C:C,$A:$A,$K15,$F:$F,0) -> 0 | O15: =SUMIFS(H:H,$A:$A,$K15,$F:$F,0) -> 0
A16: 4 | B16: 大原 花子 | C16: 3 | D16: 21000 | E16: 6000 | F16: 1 | G16: =ROUNDDOWN((D16-E16)/1.1, 0) -> 13636 | H16: =ROUNDDOWN(G16, -3) -> 13000 | I16: =IF(F16=1,MIN(H16 * 0.03),0) -> 390 | K16: 2 | L16: =SUMIFS(C:C,$A:$A,$K16,$F:$F,1) -> 3 | M16: =SUMIFS(H:H,$A:$A,$K16,$F:$F,1) -> 14000 | N16: =SUMIFS(C:C,$A:$A,$K16,$F:$F,0) -> 0 | O16: =SUMIFS(H:H,$A:$A,$K16,$F:$F,0) -> 0
A17: 4 | B17: 齋藤 太郎 | C17: 2 | D17: 25000 | E17: 6000 | F17: 1 | G17: =ROUNDDOWN((D17-E17)/1.1, 0) -> 17272 | H17: =ROUNDDOWN(G17, -3) -> 17000 | I17: =IF(F17=1,MIN(H17 * 0.03),0) -> 510 | K17: 3 | L17: =SUMIFS(C:C,$A:$A,$K17,$F:$F,1) -> 1 | M17: =SUMIFS(H:H,$A:$A,$K17,$F:$F,1) -> 13000 | N17: =SUMIFS(C:C,$A:$A,$K17,$F:$F,0) -> 2 | O17: =SUMIFS(H:H,$A:$A,$K17,$F:$F,0) -> 13000
G18: =ROUNDDOWN((D18-E18)/1.1, 0) -> 0 | H18: =ROUNDDOWN(G18, -3) -> 0 | I18: =IF(F18=1,MIN(H18 * 0.03),0) -> 0 | K18: 4 | L18: =SUMIFS(C:C,$A:$A,$K18,$F:$F,1) -> 10 | M18: =SUMIFS(H:H,$A:$A,$K18,$F:$F,1) -> 60000 | N18: =SUMIFS(C:C,$A:$A,$K18,$F:$F,0) -> 0 | O18: =SUMIFS(H:H,$A:$A,$K18,$F:$F,0) -> 0
G19: =ROUNDDOWN((D19-E19)/1.1, 0) -> 0 | H19: =ROUNDDOWN(G19, -3) -> 0 | I19: =IF(F19=1,MIN(H19 * 0.03),0) -> 0 | K19: 5 | L19: =SUMIFS(C:C,$A:$A,$K19,$F:$F,1) -> 0 | M19: =SUMIFS(H:H,$A:$A,$K19,$F:$F,1) -> 0 | N19: =SUMIFS(C:C,$A:$A,$K19,$F:$F,0) -> 0 | O19: =SUMIFS(H:H,$A:$A,$K19,$F:$F,0) -> 0
G20: =ROUNDDOWN((D20-E20)/1.1, 0) -> 0 | H20: =ROUNDDOWN(G20, -3) -> 0 | I20: =IF(F20=1,MIN(H20 * 0.03),0) -> 0 | K20: 6 | L20: =SUMIFS(C:C,$A:$A,$K20,$F:$F,1) -> 0 | M20: =SUMIFS(H:H,$A:$A,$K20,$F:$F,1) -> 0 | N20: =SUMIFS(C:C,$A:$A,$K20,$F:$F,0) -> 0 | O20: =SUMIFS(H:H,$A:$A,$K20,$F:$F,0) -> 0
G21: =ROUNDDOWN((D21-E21)/1.1, 0) -> 0 | H21: =ROUNDDOWN(G21, -3) -> 0 | I21: =IF(F21=1,MIN(H21 * 0.03),0) -> 0 | K21: 7 | L21: =SUMIFS(C:C,$A:$A,$K21,$F:$F,1) -> 0 | M21: =SUMIFS(H:H,$A:$A,$K21,$F:$F,1) -> 0 | N21: =SUMIFS(C:C,$A:$A,$K21,$F:$F,0) -> 0 | O21: =SUMIFS(H:H,$A:$A,$K21,$F:$F,0) -> 0
G22: =ROUNDDOWN((D22-E22)/1.1, 0) -> 0 | H22: =ROUNDDOWN(G22, -3) -> 0 | I22: =IF(F22=1,MIN(H22 * 0.03),0) -> 0 | K22: 8 | L22: =SUMIFS(C:C,$A:$A,$K22,$F:$F,1) -> 0 | M22: =SUMIFS(H:H,$A:$A,$K22,$F:$F,1) -> 0 | N22: =SUMIFS(C:C,$A:$A,$K22,$F:$F,0) -> 0 | O22: =SUMIFS(H:H,$A:$A,$K22,$F:$F,0) -> 0
G23: =ROUNDDOWN((D23-E23)/1.1, 0) -> 0 | H23: =ROUNDDOWN(G23, -3) -> 0 | I23: =IF(F23=1,MIN(H23 * 0.03),0) -> 0 | K23: 9 | L23: =SUMIFS(C:C,$A:$A,$K23,$F:$F,1) -> 0 | M23: =SUMIFS(H:H,$A:$A,$K23,$F:$F,1) -> 0 | N23: =SUMIFS(C:C,$A:$A,$K23,$F:$F,0) -> 0 | O23: =SUMIFS(H:H,$A:$A,$K23,$F:$F,0) -> 0
G24: =ROUNDDOWN((D24-E24)/1.1, 0) -> 0 | H24: =ROUNDDOWN(G24, -3) -> 0 | I24: =IF(F24=1,MIN(H24 * 0.03),0) -> 0 | K24: 10 | L24: =SUMIFS(C:C,$A:$A,$K24,$F:$F,1) -> 0 | M24: =SUMIFS(H:H,$A:$A,$K24,$F:$F,1) -> 0 | N24: =SUMIFS(C:C,$A:$A,$K24,$F:$F,0) -> 0 | O24: =SUMIFS(H:H,$A:$A,$K24,$F:$F,0) -> 0
G25: =ROUNDDOWN((D25-E25)/1.1, 0) -> 0 | H25: =ROUNDDOWN(G25, -3) -> 0 | I25: =IF(F25=1,MIN(H25 * 0.03),0) -> 0 | K25: 11 | L25: =SUMIFS(C:C,$A:$A,$K25,$F:$F,1) -> 0 | M25: =SUMIFS(H:H,$A:$A,$K25,$F:$F,1) -> 0 | N25: =SUMIFS(C:C,$A:$A,$K25,$F:$F,0) -> 0 | O25: =SUMIFS(H:H,$A:$A,$K25,$F:$F,0) -> 0
G26: =ROUNDDOWN((D26-E26)/1.1, 0) -> 0 | H26: =ROUNDDOWN(G26, -3) -> 0 | I26: =IF(F26=1,MIN(H26 * 0.03),0) -> 0 | K26: 12 | L26: =SUMIFS(C:C,$A:$A,$K26,$F:$F,1) -> 0 | M26: =SUMIFS(H:H,$A:$A,$K26,$F:$F,1) -> 0 | N26: =SUMIFS(C:C,$A:$A,$K26,$F:$F,0) -> 0 | O26: =SUMIFS(H:H,$A:$A,$K26,$F:$F,0) -> 0
G27: =ROUNDDOWN((D27-E27)/1.1, 0) -> 0 | H27: =ROUNDDOWN(G27, -3) -> 0 | I27: =IF(F27=1,MIN(H27 * 0.03),0) -> 0 | K27: 13 | L27: =SUMIFS(C:C,$A:$A,$K27,$F:$F,1) -> 0 | M27: =SUMIFS(H:H,$A:$A,$K27,$F:$F,1) -> 0 | N27: =SUMIFS(C:C,$A:$A,$K27,$F:$F,0) -> 0 | O27: =SUMIFS(H:H,$A:$A,$K27,$F:$F,0) -> 0
G28: =ROUNDDOWN((D28-E28)/1.1, 0) -> 0 | H28: =ROUNDDOWN(G28, -3) -> 0 | I28: =IF(F28=1,MIN(H28 * 0.03),0) -> 0 | K28: 14 | L28: =SUMIFS(C:C,$A:$A,$K28,$F:$F,1) -> 0 | M28: =SUMIFS(H:H,$A:$A,$K28,$F:$F,1) -> 0 | N28: =SUMIFS(C:C,$A:$A,$K28,$F:$F,0) -> 0 | O28: =SUMIFS(H:H,$A:$A,$K28,$F:$F,0) -> 0
G29: =ROUNDDOWN((D29-E29)/1.1, 0) -> 0 | H29: =ROUNDDOWN(G29, -3) -> 0 | I29: =IF(F29=1,MIN(H29 * 0.03),0) -> 0 | K29: 15 | L29: =SUMIFS(C:C,$A:$A,$K29,$F:$F,1) -> 0 | M29: =SUMIFS(H:H,$A:$A,$K29,$F:$F,1) -> 0 | N29: =SUMIFS(C:C,$A:$A,$K29,$F:$F,0) -> 0 | O29: =SUMIFS(H:H,$A:$A,$K29,$F:$F,0) -> 0
... G45: =ROUNDDOWN((D45-E45)/1.1, 0) -> 0 | H45: =ROUNDDOWN(G45, -3) -> 0 | I45: =IF(F45=1,MIN(H45 * 0.03),0) -> 0 | K45: 31 | L45: =SUMIFS(C:C,$A:$A,$K45,$F:$F,1) -> 0 | M45: =SUMIFS(H:H,$A:$A,$K45,$F:$F,1) -> 0 | N45: =SUMIFS(C:C,$A:$A,$K45,$F:$F,0) -> 0 | O45: =SUMIFS(H:H,$A:$A,$K45,$F:$F,0) -> 0
G46: =ROUNDDOWN((D46-E46)/1.1, 0) -> 0 | H46: =ROUNDDOWN(G46, -3) -> 0 | I46: =IF(F46=1,MIN(H46 * 0.03),0) -> 0 | K46: 合計 | L46: =SUM(L15:L45) -> 17 | M46: =SUM(M15:M45) -> 102000 | N46: =SUM(N15:N45) -> 2 | O46: =SUM(O15:O45) -> 13000
G47: =ROUNDDOWN((D47-E47)/1.1, 0) -> 0 | H47: =ROUNDDOWN(G47, -3) -> 0 | I47: =IF(F47=1,MIN(H47 * 0.03),0) -> 0
G48: =ROUNDDOWN((D48-E48)/1.1, 0) -> 0 | H48: =ROUNDDOWN(G48, -3) -> 0 | I48: =IF(F48=1,MIN(H48 * 0.03),0) -> 0
G49: =ROUNDDOWN((D49-E49)/1.1, 0) -> 0 | H49: =ROUNDDOWN(G49, -3) -> 0 | I49: =IF(F49=1,MIN(H49 * 0.03),0) -> 0
G50: =ROUNDDOWN((D50-E50)/1.1, 0) -> 0 | H50: =ROUNDDOWN(G50, -3) -> 0 | I50: =IF(F50=1,MIN(H50 * 0.03),0) -> 0
G51: =ROUNDDOWN((D51-E51)/1.1, 0) -> 0 | H51: =ROUNDDOWN(G51, -3) -> 0 | I51: =IF(F51=1,MIN(H51 * 0.03),0) -> 0
G52: =ROUNDDOWN((D52-E52)/1.1, 0) -> 0 | H52: =ROUNDDOWN(G52, -3) -> 0 | I52: =IF(F52=1,MIN(H52 * 0.03),0) -> 0
G53: =ROUNDDOWN((D53-E53)/1.1, 0) -> 0 | H53: =ROUNDDOWN(G53, -3) -> 0 | I53: =IF(F53=1,MIN(H53 * 0.03),0) -> 0
G54: =ROUNDDOWN((D54-E54)/1.1, 0) -> 0 | H54: =ROUNDDOWN(G54, -3) -> 0 | I54: =IF(F54=1,MIN(H54 * 0.03),0) -> 0
G55: =ROUNDDOWN((D55-E55)/1.1, 0) -> 0 | H55: =ROUNDDOWN(G55, -3) -> 0 | I55: =IF(F55=1,MIN(H55 * 0.03),0) -> 0
G56: =ROUNDDOWN((D56-E56)/1.1, 0) -> 0 | H56: =ROUNDDOWN(G56, -3) -> 0 | I56: =IF(F56=1,MIN(H56 * 0.03),0) -> 0
G57: =ROUNDDOWN((D57-E57)/1.1, 0) -> 0 | H57: =ROUNDDOWN(G57, -3) -> 0 | I57: =IF(F57=1,MIN(H57 * 0.03),0) -> 0
G58: =ROUNDDOWN((D58-E58)/1.1, 0) -> 0 | H58: =ROUNDDOWN(G58, -3) -> 0 | I58: =IF(F58=1,MIN(H58 * 0.03),0) -> 0
... G1008: =ROUNDDOWN((D1008-E1008)/1.1, 0) -> 0 | H1008: =ROUNDDOWN(G1008, -3) -> 0 | I1008: =IF(F1008=1,MIN(H1008 * 0.03),0) -> 0

Sheet 入力表
A2: 山形市宿泊税納入申告書・月計表・納入書作成ツール
A3: このデータの「入力表」シート及び「月計表」シートを入力することで、「納入申告書」、「月計表」、「納入書」が作成されます。 ※ 月計表シートは、消費税込み１人１泊・１部屋１泊・１棟１泊当たりのいずれかの料金設定の宿泊費から宿泊税を算定するものです。宿泊税込みの宿泊費から割り戻し算定するものではありませんのでご注意ください。 ※２ 毎月の申告納付を3か月ごとにできる「納期の特例」の制度に対応していませんのでご注意ください。
A4: 申告書提出年月日 | C4: 令和 | D4: 9 | E4: 年 | F4: 8 | G4: 月 | H4: 12 | I4: 日
A5: 特別徴収義務者 | B5: 個人番号又は法人番号(最大13桁) | C5: 1234567891012
B6: 住所又は所在地 | C6: 山形市旅篭町二丁目〇番▲号
B7: 氏名（名称 及び代表者名） | C7: 氏名（名称） | D7: 株式会社 山形市税観光
C8: 代表者名 | D8: 代表取締役 山形 太郎
B9: 電話番号 | C9: 023-641-0000
A10: 宿泊施設 | B10: 名称 | C10: 山形市税ホテル
B11: 所在地 | C11: 山形市香澄町二丁目▲番〇号
B12: 施設番号 | C12: ６５４４４４
A13: 宿泊月 | C13: 令和 | E13: 9 | F13: 年 | G13: 7 | H13: 月宿泊分
A14: 申告月 | E14: 9 | F14: 年 | G14: 8 | H14: 月
A15: 申告期限 | C15: 令和 | D15: 9 | E15: 年 | F15: 8 | G15: 月 | H15: 31 | I15: 日
A16: 税額（円） | E16: =納入申告書!E51 -> 14940
A17: ※ 着色済のセルのみを入力してください。

Sheet 納入申告書
A1: 様式第１１号（第８条関係）
A2: 宿泊税納入申告書
A3: （宛先）山形市長
G4: =入力表!C4&入力表!D4&入力表!E4&入力表!F4&入力表!G4&入力表!H4&入力表!I4 -> 令和9年8月12日
A6: 宿泊税の納入について、山形市宿泊税条例第１３条第１項の規定により、次のとおり申告します。
A8: （特別徴収義務者）
A9: 住所（所在地） | E9: 氏名（名称及び代表者名）
A10: =入力表!C6 -> 山形市旅篭町二丁目〇番▲号 | E10: =入力表!D7 -> 株式会社 山形市税観光
E11: =入力表!D8 -> 代表取締役 山形 太郎
A12: 個人（法人）番号 | B12: =入力表!C5 -> 1234567891012 | E12: 電話番号 | F12: =入力表!C9 -> 023-641-0000
A13: 宿泊施設 | B13: 所在地 | D13: =入力表!C11 -> 山形市香澄町二丁目▲番〇号
B14: 名称 | D14: =入力表!C10 -> 山形市税ホテル
B15: 施設番号 | D15: =入力表!C12 -> ６５４４４４
A17: 令和 | B17: =入力表!E13 -> 9 | C17: 年 | D17: =入力表!G13 -> 7 | E17: 月分
A18: 区分 | B18: 課税標準 | D18: 宿泊者数 （人） | E18: 宿泊料金の総額 （円）（Ａ） | F18: 税率 （Ｂ） | G18: 宿泊税額 （円）（Ａ×Ｂ）
A19: 課税対象 | B19: １人１泊当たり | D19: ='1人1泊当たり月計表'!O46 -> 24 | E19: ='1人1泊当たり月計表'!P46 -> 272000 | F19: １００分の３ | G19: =E19*0.03 -> 8160
B20: １部屋１泊当たり | D20: ='１部屋1泊当たり月計表'!L46 -> 17 | E20: ='１部屋1泊当たり月計表'!M46 -> 102000 | G20: =E20*0.03 -> 3060
B21: １棟１泊当たり | D21: ='１棟1泊当たり月計表'!L46 -> 17 | E21: ='１棟1泊当たり月計表'!M46 -> 124000 | G21: =E21*0.03 -> 3720
B22: 合計 | D22: =SUM(D19:D21) -> 58 | E22: =SUM(E19:E21) -> 498000 | F22: 合計① | G22: =SUM(G19:G21) -> 14940
A23: 課税対象外 （課税免除） | B23: １人１泊当たり | D23: ='1人1泊当たり月計表'!Q46 -> 4 | E23: ='1人1泊当たり月計表'!P46 -> 272000
B24: １部屋１泊当たり | D24: ='１部屋1泊当たり月計表'!N46 -> 2 | E24: ='１部屋1泊当たり月計表'!O46 -> 13000
B25: １棟１泊当たり | D25: ='１棟1泊当たり月計表'!N46 -> 2 | E25: ='１棟1泊当たり月計表'!O46 -> 136000
B26: 合計 | D26: =SUM(D23:D25) -> 8 | E26: =SUM(E23:E25) -> 421000
A28: 令和 | C28: 年 | E28: 月分
A29: 区分 | B29: 課税標準 | D29: 宿泊者数 （人） | E29: 宿泊料金の総額 （円）（Ａ） | F29: 税率 （Ｂ） | G29: 宿泊税額 （円）（Ａ×Ｂ）
A30: 課税対象 | B30: １人１泊当たり | F30: １００分の３
B31: １部屋１泊当たり
B32: １棟１泊当たり
B33: 合計 | D33: =SUM(D30:D32) -> 0 | E33: =SUM(E30:E32) -> 0 | F33: 合計② | G33: =SUM(G30:G32) -> 0
A34: 課税対象外 （課税免除） | B34: １人１泊当たり
B35: １部屋１泊当たり
B36: １棟１泊当たり
B37: 合計 | D37: =SUM(D34:D36) -> 0 | E37: =SUM(E34:E36) -> 0
A39: 令和 | C39: 年 | E39: 月分
A40: 区分 | B40: 課税標準 | D40: 宿泊者数 （人） | E40: 宿泊料金の総額 （円）（Ａ） | F40: 税率 （Ｂ） | G40: 宿泊税額 （円）（Ａ×Ｂ）
A41: 課税対象 | B41: １人１泊当たり | F41: １００分の３
B42: １部屋１泊当たり
B43: １棟１泊当たり
B44: 合計 | D44: =SUM(D41:D43) -> 0 | E44: =SUM(E41:E43) -> 0 | F44: 合計③ | G44: =SUM(G41:G43) -> 0
A45: 課税対象外 （課税免除） | B45: １人１泊当たり
B46: １部屋１泊当たり
B47: １棟１泊当たり
B48: 合計 | D48: =SUM(D45:D47) -> 0 | E48: =SUM(E45:E47) -> 0
E50: 合計宿泊税額（円）（①＋②＋③）
E51: =G22+G33+G44 -> 14940

Sheet 納入書
B4: 市町村コード | AZ4: 市町村コード | CX4: 市町村コード
B5: 0 6 2 0 1 4 | AZ5: 0 6 2 0 1 4 | CX5: 0 6 2 0 1 4
B7: 山形県 | M7: 都道 府県 | X7: 宿泊税領収済通知書 | AZ7: 山形県 | BK7: 都道 府県 | CC7: 宿泊税納入書 | CX7: 山形県 | DI7: 都道 府県 | DX7: 宿泊税領収証書
B9: 山形市 | N9: 市 町 村 | AZ9: 山形市 | BL9: 市 町 村 | CX9: 山形市 | DJ9: 市 町 村
B11: 口 座 番 号 | T11: 加 入 者 | AZ11: 口 座 番 号 | BR11: 加 入 者 | CX11: 口 座 番 号 | DP11: 加 入 者
B12: 02400 - 9 - 960022 | T12: 山形市会計管理者 | AZ12: 02400 - 9 - 960022 | BR12: 山形市会計管理者 | CX12: 02400 - 9 - 960022 | DP12: 山形市会計管理者
C14: 所在地及び氏名又は名称 | BA14: 所在地及び氏名又は名称 | CY14: 所在地及び氏名又は名称
C15: =入力表!C6 -> 山形市旅篭町二丁目〇番▲号 | BA15: =C15 -> 山形市旅篭町二丁目〇番▲号 | CY15: =C15 -> 山形市旅篭町二丁目〇番▲号
C18: =入力表!D7 -> 株式会社 山形市税観光 | BA18: =C18 -> 株式会社 山形市税観光 | CY18: =C18 -> 株式会社 山形市税観光
BA20: =C20 -> 0 | CY20: =C20 -> 0
C22: =入力表!D8 -> 代表取締役 山形 太郎 | AS22: 様 | BA22: =C22 -> 代表取締役 山形 太郎 | CQ22: 様 | CY22: =C22 -> 代表取締役 山形 太郎 | EO22: 様
D24: 宿泊施設名 | BB24: 宿泊施設名 | CZ24: 宿泊施設名
C25: =入力表!C10 -> 山形市税ホテル | BA25: =C25 -> 山形市税ホテル | CY25: =C25 -> 山形市税ホテル
B29: I D | H29: 科目コード | N29: 通知年度 | T29: 賦課年度 | Z29: 月 分 | AF29: 施 設 番 号 | AZ29: I D | BF29: 科目コード | BL29: 通知年度 | BR29: 賦課年度 | BX29: 月 分 | CD29: 施 設 番 号 | CX29: I D | DD29: 科目コード | DJ29: 通知年度 | DP29: 賦課年度 | DV29: 月 分 | EB29: 施 設 番 号
B30: 31 | H30: 74 | N30: =入力表!E14 -> 9 | T30: =入力表!E14 -> 9 | Z30: =入力表!G14 -> 8 | AF30: =入力表!C12 -> ６５４４４４ | AZ30: =B30 -> 31 | BF30: =H30 -> 74 | BL30: =N30 -> 9 | BR30: =T30 -> 9 | BX30: =Z30 -> 8 | CD30: =AF30 -> ６５４４４４ | CX30: =B30 -> 31 | DD30: =H30 -> 74 | DJ30: =N30 -> 9 | DP30: =T30 -> 9 | DV30: =Z30 -> 8 | EB30: =AF30 -> ６５４４４４
C33: 税額 | N33: 01 | Q33: 百 | T33: 十 | W33: 億 | Z33: 千 | AC33: 百 | AF33: 十 | AI33: 万 | AL33: 千 | AO33: 百 | AR33: 十 | AU33: 円 | BA33: 税額 | BL33: 01 | BO33: 百 | BR33: 十 | BU33: 億 | BX33: 千 | CA33: 百 | CD33: 十 | CG33: 万 | CJ33: 千 | CM33: 百 | CP33: 十 | CS33: 円 | CY33: 税額 | DJ33: 01 | DM33: 百 | DP33: 十 | DS33: 億 | DV33: 千 | DY33: 百 | EB33: 十 | EE33: 万 | EH33: 千 | EK33: 百 | EN33: 十 | EQ33: 円
Q34: =MID(RIGHT(" "&TEXT(入力表!$E$16,"0"),11),1,1) | T34: =MID(RIGHT(" "&TEXT(入力表!$E$16,"0"),11),2,1) | W34: =MID(RIGHT(" "&TEXT(入力表!$E$16,"0"),11),3,1) | Z34: =MID(RIGHT(" "&TEXT(入力表!$E$16,"0"),11),4,1) | AC34: =MID(RIGHT(" "&TEXT(入力表!$E$16,"0"),11),5,1) | AF34: =MID(RIGHT(" "&TEXT(入力表!$E$16,"0"),11),6,1) | AI34: =MID(RIGHT(" "&TEXT(入力表!$E$16,"0"),11),7,1) -> 1 | AL34: =MID(RIGHT(" "&TEXT(入力表!$E$16,"0"),11),8,1) -> 4 | AO34: =MID(RIGHT(" "&TEXT(入力表!$E$16,"0"),11),9,1) -> 9 | AR34: =MID(RIGHT(" "&TEXT(入力表!$E$16,"0"),11),10,1) -> 4 | AU34: =MID(RIGHT(" "&TEXT(入力表!$E$16,"0"),11),11,1) -> 0 | BO34: =Q34 | BR34: =T34 | BU34: =W34 | BX34: =Z34 | CA34: =AC34 | CD34: =AF34 | CG34: =AI34 -> 1 | CJ34: =AL34 -> 4 | CM34: =AO34 -> 9 | CP34: =AR34 -> 4 | CS34: =AU34 -> 0 | DM34: =BO34 | DP34: =BR34 | DS34: =BU34 | DV34: =BX34 | DY34: =CA34 | EB34: =CD34 | EE34: =CG34 -> 1 | EH34: =CJ34 -> 4 | EK34: =CM34 -> 9 | EN34: =CP34 -> 4 | EQ34: =CS34 -> 0
C37: 延滞金 | N37: 02 | BA37: 延滞金 | BL37: 02 | CY37: 延滞金 | DJ37: 02
C40: 加算金 | N40: 03 | BA40: 加算金 | BL40: 03 | CY40: 加算金 | DJ40: 03
C43: 合計額 | N43: 04 | Q43: =Q34 | T43: =T34 | W43: =W34 | Z43: =Z34 | AC43: =AC34 | AF43: =AF34 | AI43: =AI34 -> 1 | AL43: =AL34 -> 4 | AO43: =AO34 -> 9 | AR43: =AR34 -> 4 | AU43: =AU34 -> 0 | BA43: 合計額 | BL43: 04 | BO43: =BO34 | BR43: =BR34 | BU43: =BU34 | BX43: =BX34 | CA43: =CA34 | CD43: =CD34 | CG43: =CG34 -> 1 | CJ43: =CJ34 -> 4 | CM43: =CM34 -> 9 | CP43: =CP34 -> 4 | CS43: =CS34 -> 0 | CY43: 合計額 | DJ43: 04 | DM43: =DM34 | DP43: =DP34 | DS43: =DS34 | DV43: =DV34 | DY43: =DY34 | EB43: =EB34 | EE43: =EE34 -> 1 | EH43: =EH34 -> 4 | EK43: =EK34 -> 9 | EN43: =EN34 -> 4 | EQ43: =EQ34 -> 0
B46: 納 期 限 | H46: 令和 | M46: =入力表!D15 -> 9 | Q46: 年 | S46: =入力表!F15 -> 8 | V46: 月 | X46: =入力表!H15 -> 31 | AA46: 日 | AC46: 領収日付印 | AZ46: 納 期 限 | BF46: 令和 | BK46: =M46 -> 9 | BO46: 年 | BQ46: =S46 -> 8 | BT46: 月 | BV46: =X46 -> 31 | BY46: 日 | CA46: 領収日付印 | CX46: 納 期 限 | DD46: 令和 | DI46: =M46 -> 9 | DM46: 年 | DO46: =S46 -> 8 | DR46: 月 | DT46: =X46 -> 31 | DW46: 日 | DY46: 領収日付印
B48: 指定金融 | H48: 山形銀行山形市役所支店 | AZ48: 日 計
B49: 機 関 名 | CY49: 上記のとおり領収しました。
B50: （取りまとめ店） | CY50: （納税者保管）
B51: 取りまとめ局 | H51: 仙台貯金事務センター （〒980-8794）
CY52: ◎この納付書は、必ず3枚1組 で提出してください。
BA53: 上記のとおり納付します。
C54: 上記のとおり通知します。（市保管） | BA54: （金融機関又は郵便局保管）

Sheet 1人1泊当たり月計表
A1: 1人1泊当たり宿泊料金（宿泊税）が確認できる場合の計算シート
A6: ↓こちらの①～⑥に宿泊者情報を入力してください。
A7: ① | B7: ② | C7: ③ | D7: ④ | E7: ⑤ | F7: ⑥
A8: 日付 | B8: 宿泊者名等 | C8: 宿泊者数（人） | D8: 総額（消費税込・食事代等込の総額）/人 | E8: 食事代など宿泊税の対象外経費（消費税込）/人 | F8: 宿泊税課税対象 | G8: 宿泊料金（税抜）/人 | H8: 宿泊料金（税抜、千円未満切捨て）/人 | I8: 宿泊税（3%）/人 | J8: 宿泊料金（税抜）×人数 | K8: 宿泊料金（税抜、千円未満切捨て）×人数 | L8: 宿泊税×人数
A9: 1 | B9: 鈴木 太郎 | C9: 1 | D9: 11000 | E9: 1000 | F9: 1 | G9: =ROUNDDOWN((D9-E9)/1.1, 0) -> 9090 | H9: =ROUNDDOWN(G9, -3) -> 9000 | I9: =IF(F9=1,MIN(H9 * 0.03),0) -> 270 | J9: =G9*C9 -> 9090 | K9: =H9*C9 -> 9000 | L9: =IF(F9=1,I9*C9,0) -> 270 | N9: 月計表（１人1泊当たり）
A10: 1 | B10: 斉藤 花子 | C10: 2 | D10: 13000 | E10: 5500 | F10: 1 | G10: =ROUNDDOWN((D10-E10)/1.1, 0) -> 6818 | H10: =ROUNDDOWN(G10, -3) -> 6000 | I10: =IF(F10=1,MIN(H10 * 0.03),0) -> 180 | J10: =G10*C10 -> 13636 | K10: =H10*C10 -> 12000 | L10: =IF(F10=1,I10*C10,0) -> 360 | N10: 令和 | O10: =入力表!E13 -> 9 | P10: 年 | Q10: =入力表!G13 -> 7 | R10: 月宿泊分
A11: 2 | B11: 高橋 次郎 | C11: 3 | D11: 11000 | E11: 1000 | F11: 1 | G11: =ROUNDDOWN((D11-E11)/1.1, 0) -> 9090 | H11: =ROUNDDOWN(G11, -3) -> 9000 | I11: =IF(F11=1,MIN(H11 * 0.03),0) -> 270 | J11: =G11*C11 -> 27270 | K11: =H11*C11 -> 27000 | L11: =IF(F11=1,I11*C11,0) -> 810 | N11: 施設番号 | P11: =入力表!C12 -> ６５４４４４
A12: 2 | B12: 鈴木 一郎 | C12: 2 | D12: 6000 | E12: 0 | F12: 1 | G12: =ROUNDDOWN((D12-E12)/1.1, 0) -> 5454 | H12: =ROUNDDOWN(G12, -3) -> 5000 | I12: =IF(F12=1,MIN(H12 * 0.03),0) -> 150 | J12: =G12*C12 -> 10908 | K12: =H12*C12 -> 10000 | L12: =IF(F12=1,I12*C12,0) -> 300 | N12: 宿泊施設名 | P12: =入力表!C10 -> 山形市税ホテル
A13: 3 | B13: 田中 花子 | C13: 1 | D13: 15000 | E13: 10000 | F13: 1 | G13: =ROUNDDOWN((D13-E13)/1.1, 0) -> 4545 | H13: =ROUNDDOWN(G13, -3) -> 4000 | I13: =IF(F13=1,MIN(H13 * 0.03),0) -> 120 | J13: =G13*C13 -> 4545 | K13: =H13*C13 -> 4000 | L13: =IF(F13=1,I13*C13,0) -> 120 | N13: 日付 | O13: 課税対象 | Q13: 課税対象外（課税免除）
A14: 3 | B14: 伊藤 太郎 | C14: 4 | D14: 15000 | E14: 0 | F14: 0 | G14: =ROUNDDOWN((D14-E14)/1.1, 0) -> 13636 | H14: =ROUNDDOWN(G14, -3) -> 13000 | I14: =IF(F14=1,MIN(H14 * 0.03),0) -> 0 | J14: =G14*C14 -> 54544 | K14: =H14*C14 -> 52000 | L14: =IF(F14=1,I14*C14,0) -> 0 | O14: 宿泊者数（人） | P14: 宿泊料金（円） | Q14: 宿泊者数（人） | R14: 宿泊料金（円）
A15: 4 | B15: 山田 太郎 | C15: 5 | D15: 25000 | E15: 12000 | F15: 1 | G15: =ROUNDDOWN((D15-E15)/1.1, 0) -> 11818 | H15: =ROUNDDOWN(G15, -3) -> 11000 | I15: =IF(F15=1,MIN(H15 * 0.03),0) -> 330 | J15: =G15*C15 -> 59090 | K15: =H15*C15 -> 55000 | L15: =IF(F15=1,I15*C15,0) -> 1650 | N15: 1 | O15: =SUMIFS(C:C,$A:$A,$N15,$F:$F,1) -> 3 | P15: =SUMIFS(K:K,$A:$A,$N15,$F:$F,1) -> 21000 | Q15: =SUMIFS(C:C,$A:$A,$N15,$F:$F,0) -> 0 | R15: =SUMIFS(K:K,$A:$A,$N15,$F:$F,0) -> 0
A16: 4 | B16: 大原 花子 | C16: 3 | D16: 21000 | E16: 6000 | F16: 1 | G16: =ROUNDDOWN((D16-E16)/1.1, 0) -> 13636 | H16: =ROUNDDOWN(G16, -3) -> 13000 | I16: =IF(F16=1,MIN(H16 * 0.03),0) -> 390 | J16: =G16*C16 -> 40908 | K16: =H16*C16 -> 39000 | L16: =IF(F16=1,I16*C16,0) -> 1170 | N16: 2 | O16: =SUMIFS(C:C,$A:$A,$N16,$F:$F,1) -> 5 | P16: =SUMIFS(K:K,$A:$A,$N16,$F:$F,1) -> 37000 | Q16: =SUMIFS(C:C,$A:$A,$N16,$F:$F,0) -> 0 | R16: =SUMIFS(K:K,$A:$A,$N16,$F:$F,0) -> 0
A17: 4 | B17: 齋藤 太郎 | C17: 2 | D17: 25000 | E17: 6000 | F17: 1 | G17: =ROUNDDOWN((D17-E17)/1.1, 0) -> 17272 | H17: =ROUNDDOWN(G17, -3) -> 17000 | I17: =IF(F17=1,MIN(H17 * 0.03),0) -> 510 | J17: =G17*C17 -> 34544 | K17: =H17*C17 -> 34000 | L17: =IF(F17=1,I17*C17,0) -> 1020 | N17: 3 | O17: =SUMIFS(C:C,$A:$A,$N17,$F:$F,1) -> 1 | P17: =SUMIFS(K:K,$A:$A,$N17,$F:$F,1) -> 4000 | Q17: =SUMIFS(C:C,$A:$A,$N17,$F:$F,0) -> 4 | R17: =SUMIFS(K:K,$A:$A,$N17,$F:$F,0) -> 52000
A18: 5 | B18: 齋藤 太郎 | C18: 2 | D18: 25000 | E18: 6000 | F18: 1 | G18: =ROUNDDOWN((D18-E18)/1.1, 0) -> 17272 | H18: =ROUNDDOWN(G18, -3) -> 17000 | I18: =IF(F18=1,MIN(H18 * 0.03),0) -> 510 | J18: =G18*C18 -> 34544 | K18: =H18*C18 -> 34000 | L18: =IF(F18=1,I18*C18,0) -> 1020 | N18: 4 | O18: =SUMIFS(C:C,$A:$A,$N18,$F:$F,1) -> 10 | P18: =SUMIFS(K:K,$A:$A,$N18,$F:$F,1) -> 128000 | Q18: =SUMIFS(C:C,$A:$A,$N18,$F:$F,0) -> 0 | R18: =SUMIFS(K:K,$A:$A,$N18,$F:$F,0) -> 0
A19: 5 | B19: 武田 三郎 | C19: 3 | D19: 21000 | E19: 3000 | F19: 1 | G19: =ROUNDDOWN((D19-E19)/1.1, 0) -> 16363 | H19: =ROUNDDOWN(G19, -3) -> 16000 | I19: =IF(F19=1,MIN(H19 * 0.03),0) -> 480 | J19: =G19*C19 -> 49089 | K19: =H19*C19 -> 48000 | L19: =IF(F19=1,I19*C19,0) -> 1440 | N19: 5 | O19: =SUMIFS(C:C,$A:$A,$N19,$F:$F,1) -> 5 | P19: =SUMIFS(K:K,$A:$A,$N19,$F:$F,1) -> 82000 | Q19: =SUMIFS(C:C,$A:$A,$N19,$F:$F,0) -> 0 | R19: =SUMIFS(K:K,$A:$A,$N19,$F:$F,0) -> 0
G20: =ROUNDDOWN((D20-E20)/1.1, 0) -> 0 | H20: =ROUNDDOWN(G20, -3) -> 0 | I20: =IF(F20=1,MIN(H20 * 0.03),0) -> 0 | J20: =G20*C20 -> 0 | K20: =H20*C20 -> 0 | L20: =IF(F20=1,I20*C20,0) -> 0 | N20: 6 | O20: =SUMIFS(C:C,$A:$A,$N20,$F:$F,1) -> 0 | P20: =SUMIFS(K:K,$A:$A,$N20,$F:$F,1) -> 0 | Q20: =SUMIFS(C:C,$A:$A,$N20,$F:$F,0) -> 0 | R20: =SUMIFS(K:K,$A:$A,$N20,$F:$F,0) -> 0
G21: =ROUNDDOWN((D21-E21)/1.1, 0) -> 0 | H21: =ROUNDDOWN(G21, -3) -> 0 | I21: =IF(F21=1,MIN(H21 * 0.03),0) -> 0 | J21: =G21*C21 -> 0 | K21: =H21*C21 -> 0 | L21: =IF(F21=1,I21*C21,0) -> 0 | N21: 7 | O21: =SUMIFS(C:C,$A:$A,$N21,$F:$F,1) -> 0 | P21: =SUMIFS(K:K,$A:$A,$N21,$F:$F,1) -> 0 | Q21: =SUMIFS(C:C,$A:$A,$N21,$F:$F,0) -> 0 | R21: =SUMIFS(K:K,$A:$A,$N21,$F:$F,0) -> 0
G22: =ROUNDDOWN((D22-E22)/1.1, 0) -> 0 | H22: =ROUNDDOWN(G22, -3) -> 0 | I22: =IF(F22=1,MIN(H22 * 0.03),0) -> 0 | J22: =G22*C22 -> 0 | K22: =H22*C22 -> 0 | L22: =IF(F22=1,I22*C22,0) -> 0 | N22: 8 | O22: =SUMIFS(C:C,$A:$A,$N22,$F:$F,1) -> 0 | P22: =SUMIFS(K:K,$A:$A,$N22,$F:$F,1) -> 0 | Q22: =SUMIFS(C:C,$A:$A,$N22,$F:$F,0) -> 0 | R22: =SUMIFS(K:K,$A:$A,$N22,$F:$F,0) -> 0
G23: =ROUNDDOWN((D23-E23)/1.1, 0) -> 0 | H23: =ROUNDDOWN(G23, -3) -> 0 | I23: =IF(F23=1,MIN(H23 * 0.03),0) -> 0 | J23: =G23*C23 -> 0 | K23: =H23*C23 -> 0 | L23: =IF(F23=1,I23*C23,0) -> 0 | N23: 9 | O23: =SUMIFS(C:C,$A:$A,$N23,$F:$F,1) -> 0 | P23: =SUMIFS(K:K,$A:$A,$N23,$F:$F,1) -> 0 | Q23: =SUMIFS(C:C,$A:$A,$N23,$F:$F,0) -> 0 | R23: =SUMIFS(K:K,$A:$A,$N23,$F:$F,0) -> 0
G24: =ROUNDDOWN((D24-E24)/1.1, 0) -> 0 | H24: =ROUNDDOWN(G24, -3) -> 0 | I24: =IF(F24=1,MIN(H24 * 0.03),0) -> 0 | J24: =G24*C24 -> 0 | K24: =H24*C24 -> 0 | L24: =IF(F24=1,I24*C24,0) -> 0 | N24: 10 | O24: =SUMIFS(C:C,$A:$A,$N24,$F:$F,1) -> 0 | P24: =SUMIFS(K:K,$A:$A,$N24,$F:$F,1) -> 0 | Q24: =SUMIFS(C:C,$A:$A,$N24,$F:$F,0) -> 0 | R24: =SUMIFS(K:K,$A:$A,$N24,$F:$F,0) -> 0
G25: =ROUNDDOWN((D25-E25)/1.1, 0) -> 0 | H25: =ROUNDDOWN(G25, -3) -> 0 | I25: =IF(F25=1,MIN(H25 * 0.03),0) -> 0 | J25: =G25*C25 -> 0 | K25: =H25*C25 -> 0 | L25: =IF(F25=1,I25*C25,0) -> 0 | N25: 11 | O25: =SUMIFS(C:C,$A:$A,$N25,$F:$F,1) -> 0 | P25: =SUMIFS(K:K,$A:$A,$N25,$F:$F,1) -> 0 | Q25: =SUMIFS(C:C,$A:$A,$N25,$F:$F,0) -> 0 | R25: =SUMIFS(K:K,$A:$A,$N25,$F:$F,0) -> 0
G26: =ROUNDDOWN((D26-E26)/1.1, 0) -> 0 | H26: =ROUNDDOWN(G26, -3) -> 0 | I26: =IF(F26=1,MIN(H26 * 0.03),0) -> 0 | J26: =G26*C26 -> 0 | K26: =H26*C26 -> 0 | L26: =IF(F26=1,I26*C26,0) -> 0 | N26: 12 | O26: =SUMIFS(C:C,$A:$A,$N26,$F:$F,1) -> 0 | P26: =SUMIFS(K:K,$A:$A,$N26,$F:$F,1) -> 0 | Q26: =SUMIFS(C:C,$A:$A,$N26,$F:$F,0) -> 0 | R26: =SUMIFS(K:K,$A:$A,$N26,$F:$F,0) -> 0
G27: =ROUNDDOWN((D27-E27)/1.1, 0) -> 0 | H27: =ROUNDDOWN(G27, -3) -> 0 | I27: =IF(F27=1,MIN(H27 * 0.03),0) -> 0 | J27: =G27*C27 -> 0 | K27: =H27*C27 -> 0 | L27: =IF(F27=1,I27*C27,0) -> 0 | N27: 13 | O27: =SUMIFS(C:C,$A:$A,$N27,$F:$F,1) -> 0 | P27: =SUMIFS(K:K,$A:$A,$N27,$F:$F,1) -> 0 | Q27: =SUMIFS(C:C,$A:$A,$N27,$F:$F,0) -> 0 | R27: =SUMIFS(K:K,$A:$A,$N27,$F:$F,0) -> 0
G28: =ROUNDDOWN((D28-E28)/1.1, 0) -> 0 | H28: =ROUNDDOWN(G28, -3) -> 0 | I28: =IF(F28=1,MIN(H28 * 0.03),0) -> 0 | J28: =G28*C28 -> 0 | K28: =H28*C28 -> 0 | L28: =IF(F28=1,I28*C28,0) -> 0 | N28: 14 | O28: =SUMIFS(C:C,$A:$A,$N28,$F:$F,1) -> 0 | P28: =SUMIFS(K:K,$A:$A,$N28,$F:$F,1) -> 0 | Q28: =SUMIFS(C:C,$A:$A,$N28,$F:$F,0) -> 0 | R28: =SUMIFS(K:K,$A:$A,$N28,$F:$F,0) -> 0
G29: =ROUNDDOWN((D29-E29)/1.1, 0) -> 0 | H29: =ROUNDDOWN(G29, -3) -> 0 | I29: =IF(F29=1,MIN(H29 * 0.03),0) -> 0 | J29: =G29*C29 -> 0 | K29: =H29*C29 -> 0 | L29: =IF(F29=1,I29*C29,0) -> 0 | N29: 15 | O29: =SUMIFS(C:C,$A:$A,$N29,$F:$F,1) -> 0 | P29: =SUMIFS(K:K,$A:$A,$N29,$F:$F,1) -> 0 | Q29: =SUMIFS(C:C,$A:$A,$N29,$F:$F,0) -> 0 | R29: =SUMIFS(K:K,$A:$A,$N29,$F:$F,0) -> 0
G30: =ROUNDDOWN((D30-E30)/1.1, 0) -> 0 | H30: =ROUNDDOWN(G30, -3) -> 0 | I30: =IF(F30=1,MIN(H30 * 0.03),0) -> 0 | J30: =G30*C30 -> 0 | K30: =H30*C30 -> 0 | L30: =IF(F30=1,I30*C30,0) -> 0 | N30: 16 | O30: =SUMIFS(C:C,$A:$A,$N30,$F:$F,1) -> 0 | P30: =SUMIFS(K:K,$A:$A,$N30,$F:$F,1) -> 0 | Q30: =SUMIFS(C:C,$A:$A,$N30,$F:$F,0) -> 0 | R30: =SUMIFS(K:K,$A:$A,$N30,$F:$F,0) -> 0
G31: =ROUNDDOWN((D31-E31)/1.1, 0) -> 0 | H31: =ROUNDDOWN(G31, -3) -> 0 | I31: =IF(F31=1,MIN(H31 * 0.03),0) -> 0 | J31: =G31*C31 -> 0 | K31: =H31*C31 -> 0 | L31: =IF(F31=1,I31*C31,0) -> 0 | N31: 17 | O31: =SUMIFS(C:C,$A:$A,$N31,$F:$F,1) -> 0 | P31: =SUMIFS(K:K,$A:$A,$N31,$F:$F,1) -> 0 | Q31: =SUMIFS(C:C,$A:$A,$N31,$F:$F,0) -> 0 | R31: =SUMIFS(K:K,$A:$A,$N31,$F:$F,0) -> 0
... G45: =ROUNDDOWN((D45-E45)/1.1, 0) -> 0 | H45: =ROUNDDOWN(G45, -3) -> 0 | I45: =IF(F45=1,MIN(H45 * 0.03),0) -> 0 | J45: =G45*C45 -> 0 | K45: =H45*C45 -> 0 | L45: =IF(F45=1,I45*C45,0) -> 0 | N45: 31 | O45: =SUMIFS(C:C,$A:$A,$N45,$F:$F,1) -> 0 | P45: =SUMIFS(K:K,$A:$A,$N45,$F:$F,1) -> 0 | Q45: =SUMIFS(C:C,$A:$A,$N45,$F:$F,0) -> 0 | R45: =SUMIFS(K:K,$A:$A,$N45,$F:$F,0) -> 0
G46: =ROUNDDOWN((D46-E46)/1.1, 0) -> 0 | H46: =ROUNDDOWN(G46, -3) -> 0 | I46: =IF(F46=1,MIN(H46 * 0.03),0) -> 0 | J46: =G46*C46 -> 0 | K46: =H46*C46 -> 0 | L46: =IF(F46=1,I46*C46,0) -> 0 | N46: 合計 | O46: =SUM(O15:O45) -> 24 | P46: =SUM(P15:P45) -> 272000 | Q46: =SUM(Q15:Q45) -> 4 | R46: =SUM(R15:R45) -> 52000
G47: =ROUNDDOWN((D47-E47)/1.1, 0) -> 0 | H47: =ROUNDDOWN(G47, -3) -> 0 | I47: =IF(F47=1,MIN(H47 * 0.03),0) -> 0 | J47: =G47*C47 -> 0 | K47: =H47*C47 -> 0 | L47: =IF(F47=1,I47*C47,0) -> 0
G48: =ROUNDDOWN((D48-E48)/1.1, 0) -> 0 | H48: =ROUNDDOWN(G48, -3) -> 0 | I48: =IF(F48=1,MIN(H48 * 0.03),0) -> 0 | J48: =G48*C48 -> 0 | K48: =H48*C48 -> 0 | L48: =IF(F48=1,I48*C48,0) -> 0
G49: =ROUNDDOWN((D49-E49)/1.1, 0) -> 0 | H49: =ROUNDDOWN(G49, -3) -> 0 | I49: =IF(F49=1,MIN(H49 * 0.03),0) -> 0 | J49: =G49*C49 -> 0 | K49: =H49*C49 -> 0 | L49: =IF(F49=1,I49*C49,0) -> 0
G50: =ROUNDDOWN((D50-E50)/1.1, 0) -> 0 | H50: =ROUNDDOWN(G50, -3) -> 0 | I50: =IF(F50=1,MIN(H50 * 0.03),0) -> 0 | J50: =G50*C50 -> 0 | K50: =H50*C50 -> 0 | L50: =IF(F50=1,I50*C50,0) -> 0
G51: =ROUNDDOWN((D51-E51)/1.1, 0) -> 0 | H51: =ROUNDDOWN(G51, -3) -> 0 | I51: =IF(F51=1,MIN(H51 * 0.03),0) -> 0 | J51: =G51*C51 -> 0 | K51: =H51*C51 -> 0 | L51: =IF(F51=1,I51*C51,0) -> 0
G52: =ROUNDDOWN((D52-E52)/1.1, 0) -> 0 | H52: =ROUNDDOWN(G52, -3) -> 0 | I52: =IF(F52=1,MIN(H52 * 0.03),0) -> 0 | J52: =G52*C52 -> 0 | K52: =H52*C52 -> 0 | L52: =IF(F52=1,I52*C52,0) -> 0
G53: =ROUNDDOWN((D53-E53)/1.1, 0) -> 0 | H53: =ROUNDDOWN(G53, -3) -> 0 | I53: =IF(F53=1,MIN(H53 * 0.03),0) -> 0 | J53: =G53*C53 -> 0 | K53: =H53*C53 -> 0 | L53: =IF(F53=1,I53*C53,0) -> 0
G54: =ROUNDDOWN((D54-E54)/1.1, 0) -> 0 | H54: =ROUNDDOWN(G54, -3) -> 0 | I54: =IF(F54=1,MIN(H54 * 0.03),0) -> 0 | J54: =G54*C54 -> 0 | K54: =H54*C54 -> 0 | L54: =IF(F54=1,I54*C54,0) -> 0
G55: =ROUNDDOWN((D55-E55)/1.1, 0) -> 0 | H55: =ROUNDDOWN(G55, -3) -> 0 | I55: =IF(F55=1,MIN(H55 * 0.03),0) -> 0 | J55: =G55*C55 -> 0 | K55: =H55*C55 -> 0 | L55: =IF(F55=1,I55*C55,0) -> 0
G56: =ROUNDDOWN((D56-E56)/1.1, 0) -> 0 | H56: =ROUNDDOWN(G56, -3) -> 0 | I56: =IF(F56=1,MIN(H56 * 0.03),0) -> 0 | J56: =G56*C56 -> 0 | K56: =H56*C56 -> 0 | L56: =IF(F56=1,I56*C56,0) -> 0
G57: =ROUNDDOWN((D57-E57)/1.1, 0) -> 0 | H57: =ROUNDDOWN(G57, -3) -> 0 | I57: =IF(F57=1,MIN(H57 * 0.03),0) -> 0 | J57: =G57*C57 -> 0 | K57: =H57*C57 -> 0 | L57: =IF(F57=1,I57*C57,0) -> 0
G58: =ROUNDDOWN((D58-E58)/1.1, 0) -> 0 | H58: =ROUNDDOWN(G58, -3) -> 0 | I58: =IF(F58=1,MIN(H58 * 0.03),0) -> 0 | J58: =G58*C58 -> 0 | K58: =H58*C58 -> 0 | L58: =IF(F58=1,I58*C58,0) -> 0
... G1008: =ROUNDDOWN((D1008-E1008)/1.1, 0) -> 0 | H1008: =ROUNDDOWN(G1008, -3) -> 0 | I1008: =IF(F1008=1,MIN(H1008 * 0.03),0) -> 0 | J1008: =G1008*C1008 -> 0 | K1008: =H1008*C1008 -> 0 | L1008: =IF(F1008=1,I1008*C1008,0) -> 0

Sheet １部屋1泊当たり月計表
A1: 1部屋1泊当たり宿泊料金（宿泊税）が確認できる場合の計算シート
A6: ↓こちらの①～⑥に宿泊者情報を入力してください。
A7: ① | B7: ② | C7: ③ | D7: ④ | E7: ⑤ | F7: ⑥
A8: 日付 | B8: 宿泊者名等 | C8: 宿泊者数（不明な場合は定員数）（人） | D8: 総額（消費税込・食事代等込の総額） | E8: 食事代など宿泊税の対象外経費（消費税込） | F8: 宿泊税課税対象 | G8: 宿泊料金（税抜） | H8: 宿泊料金（税抜、千円未満切捨て） | I8: 宿泊税（3%）
A9: 1 | B9: 鈴木 太郎 | C9: 1 | D9: 11000 | E9: 1000 | F9: 1 | G9: =ROUNDDOWN((D9-E9)/1.1, 0) -> 9090 | H9: =ROUNDDOWN(G9, -3) -> 9000 | I9: =IF(F9=1,MIN(H9 * 0.03),0) -> 270 | K9: 月計表（１部屋1泊当たり）
A10: 1 | B10: 斉藤 花子 | C10: 2 | D10: 13000 | E10: 5500 | F10: 1 | G10: =ROUNDDOWN((D10-E10)/1.1, 0) -> 6818 | H10: =ROUNDDOWN(G10, -3) -> 6000 | I10: =IF(F10=1,MIN(H10 * 0.03),0) -> 180 | K10: 令和 | L10: =入力表!E13 -> 9 | M10: 年 | N10: =入力表!G13 -> 7 | O10: 月宿泊分
A11: 2 | B11: 高橋 次郎 | C11: 1 | D11: 11000 | E11: 1000 | F11: 1 | G11: =ROUNDDOWN((D11-E11)/1.1, 0) -> 9090 | H11: =ROUNDDOWN(G11, -3) -> 9000 | I11: =IF(F11=1,MIN(H11 * 0.03),0) -> 270 | K11: 施設番号 | M11: =入力表!C12 -> ６５４４４４
A12: 2 | B12: 鈴木 一郎 | C12: 2 | D12: 6000 | E12: 0 | F12: 1 | G12: =ROUNDDOWN((D12-E12)/1.1, 0) -> 5454 | H12: =ROUNDDOWN(G12, -3) -> 5000 | I12: =IF(F12=1,MIN(H12 * 0.03),0) -> 150 | K12: 宿泊施設名 | M12: =入力表!C10 -> 山形市税ホテル
A13: 3 | B13: 田中 花子 | C13: 1 | D13: 25000 | E13: 10000 | F13: 1 | G13: =ROUNDDOWN((D13-E13)/1.1, 0) -> 13636 | H13: =ROUNDDOWN(G13, -3) -> 13000 | I13: =IF(F13=1,MIN(H13 * 0.03),0) -> 390 | K13: 日付 | L13: 課税対象 | N13: 課税対象外（課税免除）
A14: 3 | B14: 伊藤 太郎 | C14: 2 | D14: 15000 | E14: 0 | F14: 0 | G14: =ROUNDDOWN((D14-E14)/1.1, 0) -> 13636 | H14: =ROUNDDOWN(G14, -3) -> 13000 | I14: =IF(F14=1,MIN(H14 * 0.03),0) -> 0 | L14: 宿泊者数（人） | M14: 宿泊料金（円） | N14: 宿泊者数（人） | O14: 宿泊料金（円）
A15: 4 | B15: 山田 太郎 | C15: 5 | D15: 45000 | E15: 12000 | F15: 1 | G15: =ROUNDDOWN((D15-E15)/1.1, 0) -> 30000 | H15: =ROUNDDOWN(G15, -3) -> 30000 | I15: =IF(F15=1,MIN(H15 * 0.03),0) -> 900 | K15: 1 | L15: =SUMIFS(C:C,$A:$A,$K15,$F:$F,1) -> 3 | M15: =SUMIFS(H:H,$A:$A,$K15,$F:$F,1) -> 15000 | N15: =SUMIFS(C:C,$A:$A,$K15,$F:$F,0) -> 0 | O15: =SUMIFS(H:H,$A:$A,$K15,$F:$F,0) -> 0
A16: 4 | B16: 大原 花子 | C16: 3 | D16: 21000 | E16: 6000 | F16: 1 | G16: =ROUNDDOWN((D16-E16)/1.1, 0) -> 13636 | H16: =ROUNDDOWN(G16, -3) -> 13000 | I16: =IF(F16=1,MIN(H16 * 0.03),0) -> 390 | K16: 2 | L16: =SUMIFS(C:C,$A:$A,$K16,$F:$F,1) -> 3 | M16: =SUMIFS(H:H,$A:$A,$K16,$F:$F,1) -> 14000 | N16: =SUMIFS(C:C,$A:$A,$K16,$F:$F,0) -> 0 | O16: =SUMIFS(H:H,$A:$A,$K16,$F:$F,0) -> 0
A17: 4 | B17: 齋藤 太郎 | C17: 2 | D17: 25000 | E17: 6000 | F17: 1 | G17: =ROUNDDOWN((D17-E17)/1.1, 0) -> 17272 | H17: =ROUNDDOWN(G17, -3) -> 17000 | I17: =IF(F17=1,MIN(H17 * 0.03),0) -> 510 | K17: 3 | L17: =SUMIFS(C:C,$A:$A,$K17,$F:$F,1) -> 1 | M17: =SUMIFS(H:H,$A:$A,$K17,$F:$F,1) -> 13000 | N17: =SUMIFS(C:C,$A:$A,$K17,$F:$F,0) -> 2 | O17: =SUMIFS(H:H,$A:$A,$K17,$F:$F,0) -> 13000
G18: =ROUNDDOWN((D18-E18)/1.1, 0) -> 0 | H18: =ROUNDDOWN(G18, -3) -> 0 | I18: =IF(F18=1,MIN(H18 * 0.03),0) -> 0 | K18: 4 | L18: =SUMIFS(C:C,$A:$A,$K18,$F:$F,1) -> 10 | M18: =SUMIFS(H:H,$A:$A,$K18,$F:$F,1) -> 60000 | N18: =SUMIFS(C:C,$A:$A,$K18,$F:$F,0) -> 0 | O18: =SUMIFS(H:H,$A:$A,$K18,$F:$F,0) -> 0
G19: =ROUNDDOWN((D19-E19)/1.1, 0) -> 0 | H19: =ROUNDDOWN(G19, -3) -> 0 | I19: =IF(F19=1,MIN(H19 * 0.03),0) -> 0 | K19: 5 | L19: =SUMIFS(C:C,$A:$A,$K19,$F:$F,1) -> 0 | M19: =SUMIFS(H:H,$A:$A,$K19,$F:$F,1) -> 0 | N19: =SUMIFS(C:C,$A:$A,$K19,$F:$F,0) -> 0 | O19: =SUMIFS(H:H,$A:$A,$K19,$F:$F,0) -> 0
G20: =ROUNDDOWN((D20-E20)/1.1, 0) -> 0 | H20: =ROUNDDOWN(G20, -3) -> 0 | I20: =IF(F20=1,MIN(H20 * 0.03),0) -> 0 | K20: 6 | L20: =SUMIFS(C:C,$A:$A,$K20,$F:$F,1) -> 0 | M20: =SUMIFS(H:H,$A:$A,$K20,$F:$F,1) -> 0 | N20: =SUMIFS(C:C,$A:$A,$K20,$F:$F,0) -> 0 | O20: =SUMIFS(H:H,$A:$A,$K20,$F:$F,0) -> 0
G21: =ROUNDDOWN((D21-E21)/1.1, 0) -> 0 | H21: =ROUNDDOWN(G21, -3) -> 0 | I21: =IF(F21=1,MIN(H21 * 0.03),0) -> 0 | K21: 7 | L21: =SUMIFS(C:C,$A:$A,$K21,$F:$F,1) -> 0 | M21: =SUMIFS(H:H,$A:$A,$K21,$F:$F,1) -> 0 | N21: =SUMIFS(C:C,$A:$A,$K21,$F:$F,0) -> 0 | O21: =SUMIFS(H:H,$A:$A,$K21,$F:$F,0) -> 0
G22: =ROUNDDOWN((D22-E22)/1.1, 0) -> 0 | H22: =ROUNDDOWN(G22, -3) -> 0 | I22: =IF(F22=1,MIN(H22 * 0.03),0) -> 0 | K22: 8 | L22: =SUMIFS(C:C,$A:$A,$K22,$F:$F,1) -> 0 | M22: =SUMIFS(H:H,$A:$A,$K22,$F:$F,1) -> 0 | N22: =SUMIFS(C:C,$A:$A,$K22,$F:$F,0) -> 0 | O22: =SUMIFS(H:H,$A:$A,$K22,$F:$F,0) -> 0
G23: =ROUNDDOWN((D23-E23)/1.1, 0) -> 0 | H23: =ROUNDDOWN(G23, -3) -> 0 | I23: =IF(F23=1,MIN(H23 * 0.03),0) -> 0 | K23: 9 | L23: =SUMIFS(C:C,$A:$A,$K23,$F:$F,1) -> 0 | M23: =SUMIFS(H:H,$A:$A,$K23,$F:$F,1) -> 0 | N23: =SUMIFS(C:C,$A:$A,$K23,$F:$F,0) -> 0 | O23: =SUMIFS(H:H,$A:$A,$K23,$F:$F,0) -> 0
G24: =ROUNDDOWN((D24-E24)/1.1, 0) -> 0 | H24: =ROUNDDOWN(G24, -3) -> 0 | I24: =IF(F24=1,MIN(H24 * 0.03),0) -> 0 | K24: 10 | L24: =SUMIFS(C:C,$A:$A,$K24,$F:$F,1) -> 0 | M24: =SUMIFS(H:H,$A:$A,$K24,$F:$F,1) -> 0 | N24: =SUMIFS(C:C,$A:$A,$K24,$F:$F,0) -> 0 | O24: =SUMIFS(H:H,$A:$A,$K24,$F:$F,0) -> 0
G25: =ROUNDDOWN((D25-E25)/1.1, 0) -> 0 | H25: =ROUNDDOWN(G25, -3) -> 0 | I25: =IF(F25=1,MIN(H25 * 0.03),0) -> 0 | K25: 11 | L25: =SUMIFS(C:C,$A:$A,$K25,$F:$F,1) -> 0 | M25: =SUMIFS(H:H,$A:$A,$K25,$F:$F,1) -> 0 | N25: =SUMIFS(C:C,$A:$A,$K25,$F:$F,0) -> 0 | O25: =SUMIFS(H:H,$A:$A,$K25,$F:$F,0) -> 0
G26: =ROUNDDOWN((D26-E26)/1.1, 0) -> 0 | H26: =ROUNDDOWN(G26, -3) -> 0 | I26: =IF(F26=1,MIN(H26 * 0.03),0) -> 0 | K26: 12 | L26: =SUMIFS(C:C,$A:$A,$K26,$F:$F,1) -> 0 | M26: =SUMIFS(H:H,$A:$A,$K26,$F:$F,1) -> 0 | N26: =SUMIFS(C:C,$A:$A,$K26,$F:$F,0) -> 0 | O26: =SUMIFS(H:H,$A:$A,$K26,$F:$F,0) -> 0
G27: =ROUNDDOWN((D27-E27)/1.1, 0) -> 0 | H27: =ROUNDDOWN(G27, -3) -> 0 | I27: =IF(F27=1,MIN(H27 * 0.03),0) -> 0 | K27: 13 | L27: =SUMIFS(C:C,$A:$A,$K27,$F:$F,1) -> 0 | M27: =SUMIFS(H:H,$A:$A,$K27,$F:$F,1) -> 0 | N27: =SUMIFS(C:C,$A:$A,$K27,$F:$F,0) -> 0 | O27: =SUMIFS(H:H,$A:$A,$K27,$F:$F,0) -> 0
G28: =ROUNDDOWN((D28-E28)/1.1, 0) -> 0 | H28: =ROUNDDOWN(G28, -3) -> 0 | I28: =IF(F28=1,MIN(H28 * 0.03),0) -> 0 | K28: 14 | L28: =SUMIFS(C:C,$A:$A,$K28,$F:$F,1) -> 0 | M28: =SUMIFS(H:H,$A:$A,$K28,$F:$F,1) -> 0 | N28: =SUMIFS(C:C,$A:$A,$K28,$F:$F,0) -> 0 | O28: =SUMIFS(H:H,$A:$A,$K28,$F:$F,0) -> 0
G29: =ROUNDDOWN((D29-E29)/1.1, 0) -> 0 | H29: =ROUNDDOWN(G29, -3) -> 0 | I29: =IF(F29=1,MIN(H29 * 0.03),0) -> 0 | K29: 15 | L29: =SUMIFS(C:C,$A:$A,$K29,$F:$F,1) -> 0 | M29: =SUMIFS(H:H,$A:$A,$K29,$F:$F,1) -> 0 | N29: =SUMIFS(C:C,$A:$A,$K29,$F:$F,0) -> 0 | O29: =SUMIFS(H:H,$A:$A,$K29,$F:$F,0) -> 0
... G45: =ROUNDDOWN((D45-E45)/1.1, 0) -> 0 | H45: =ROUNDDOWN(G45, -3) -> 0 | I45: =IF(F45=1,MIN(H45 * 0.03),0) -> 0 | K45: 31 | L45: =SUMIFS(C:C,$A:$A,$K45,$F:$F,1) -> 0 | M45: =SUMIFS(H:H,$A:$A,$K45,$F:$F,1) -> 0 | N45: =SUMIFS(C:C,$A:$A,$K45,$F:$F,0) -> 0 | O45: =SUMIFS(H:H,$A:$A,$K45,$F:$F,0) -> 0
G46: =ROUNDDOWN((D46-E46)/1.1, 0) -> 0 | H46: =ROUNDDOWN(G46, -3) -> 0 | I46: =IF(F46=1,MIN(H46 * 0.03),0) -> 0 | K46: 合計 | L46: =SUM(L15:L45) -> 17 | M46: =SUM(M15:M45) -> 102000 | N46: =SUM(N15:N45) -> 2 | O46: =SUM(O15:O45) -> 13000
G47: =ROUNDDOWN((D47-E47)/1.1, 0) -> 0 | H47: =ROUNDDOWN(G47, -3) -> 0 | I47: =IF(F47=1,MIN(H47 * 0.03),0) -> 0
G48: =ROUNDDOWN((D48-E48)/1.1, 0) -> 0 | H48: =ROUNDDOWN(G48, -3) -> 0 | I48: =IF(F48=1,MIN(H48 * 0.03),0) -> 0
G49: =ROUNDDOWN((D49-E49)/1.1, 0) -> 0 | H49: =ROUNDDOWN(G49, -3) -> 0 | I49: =IF(F49=1,MIN(H49 * 0.03),0) -> 0
G50: =ROUNDDOWN((D50-E50)/1.1, 0) -> 0 | H50: =ROUNDDOWN(G50, -3) -> 0 | I50: =IF(F50=1,MIN(H50 * 0.03),0) -> 0
G51: =ROUNDDOWN((D51-E51)/1.1, 0) -> 0 | H51: =ROUNDDOWN(G51, -3) -> 0 | I51: =IF(F51=1,MIN(H51 * 0.03),0) -> 0
G52: =ROUNDDOWN((D52-E52)/1.1, 0) -> 0 | H52: =ROUNDDOWN(G52, -3) -> 0 | I52: =IF(F52=1,MIN(H52 * 0.03),0) -> 0
G53: =ROUNDDOWN((D53-E53)/1.1, 0) -> 0 | H53: =ROUNDDOWN(G53, -3) -> 0 | I53: =IF(F53=1,MIN(H53 * 0.03),0) -> 0
G54: =ROUNDDOWN((D54-E54)/1.1, 0) -> 0 | H54: =ROUNDDOWN(G54, -3) -> 0 | I54: =IF(F54=1,MIN(H54 * 0.03),0) -> 0
G55: =ROUNDDOWN((D55-E55)/1.1, 0) -> 0 | H55: =ROUNDDOWN(G55, -3) -> 0 | I55: =IF(F55=1,MIN(H55 * 0.03),0) -> 0
G56: =ROUNDDOWN((D56-E56)/1.1, 0) -> 0 | H56: =ROUNDDOWN(G56, -3) -> 0 | I56: =IF(F56=1,MIN(H56 * 0.03),0) -> 0
G57: =ROUNDDOWN((D57-E57)/1.1, 0) -> 0 | H57: =ROUNDDOWN(G57, -3) -> 0 | I57: =IF(F57=1,MIN(H57 * 0.03),0) -> 0
G58: =ROUNDDOWN((D58-E58)/1.1, 0) -> 0 | H58: =ROUNDDOWN(G58, -3) -> 0 | I58: =IF(F58=1,MIN(H58 * 0.03),0) -> 0
... G1008: =ROUNDDOWN((D1008-E1008)/1.1, 0) -> 0 | H1008: =ROUNDDOWN(G1008, -3) -> 0 | I1008: =IF(F1008=1,MIN(H1008 * 0.03),0) -> 0

Sheet １棟1泊当たり月計表
A1: １棟１泊当たり宿泊料金（宿泊税）が確認できる場合の計算シート
A6: ↓こちらの①～⑥に宿泊者情報を入力してください。
A7: ① | B7: ② | C7: ③ | D7: ④ | E7: ⑤ | F7: ⑥
A8: 日付 | B8: 宿泊者名等 | C8: 宿泊者数（不明な場合は定員数）（人） | D8: 総額（消費税込・食事代等込の総額） | E8: 食事代など宿泊税の対象外経費（消費税込） | F8: 宿泊税課税対象 | G8: 宿泊料金（税抜） | H8: 宿泊料金（税抜、千円未満切捨て） | I8: 宿泊税（3%）
A9: 1 | B9: 鈴木 太郎 | C9: 1 | D9: 11000 | E9: 1000 | F9: 1 | G9: =ROUNDDOWN((D9-E9)/1.1, 0) -> 9090 | H9: =ROUNDDOWN(G9, -3) -> 9000 | I9: =IF(F9=1,MIN(H9 * 0.03),0) -> 270 | K9: 月計表（１棟1泊当たり）
A10: 1 | B10: 斉藤 花子 | C10: 2 | D10: 13000 | E10: 5500 | F10: 1 | G10: =ROUNDDOWN((D10-E10)/1.1, 0) -> 6818 | H10: =ROUNDDOWN(G10, -3) -> 6000 | I10: =IF(F10=1,MIN(H10 * 0.03),0) -> 180 | K10: 令和 | L10: =入力表!E13 -> 9 | M10: 年 | N10: =入力表!G13 -> 7 | O10: 月宿泊分
A11: 2 | B11: 高橋 次郎 | C11: 1 | D11: 11000 | E11: 1000 | F11: 1 | G11: =ROUNDDOWN((D11-E11)/1.1, 0) -> 9090 | H11: =ROUNDDOWN(G11, -3) -> 9000 | I11: =IF(F11=1,MIN(H11 * 0.03),0) -> 270 | K11: 施設番号 | M11: =入力表!C12 -> ６５４４４４
A12: 2 | B12: 鈴木 一郎 | C12: 2 | D12: 6000 | E12: 0 | F12: 1 | G12: =ROUNDDOWN((D12-E12)/1.1, 0) -> 5454 | H12: =ROUNDDOWN(G12, -3) -> 5000 | I12: =IF(F12=1,MIN(H12 * 0.03),0) -> 150 | K12: 宿泊施設名 | M12: =入力表!C10 -> 山形市税ホテル
A13: 3 | B13: 田中 花子 | C13: 1 | D13: 25000 | E13: 10000 | F13: 1 | G13: =ROUNDDOWN((D13-E13)/1.1, 0) -> 13636 | H13: =ROUNDDOWN(G13, -3) -> 13000 | I13: =IF(F13=1,MIN(H13 * 0.03),0) -> 390 | K13: 日付 | L13: 課税対象 | N13: 課税対象外（課税免除）
A14: 3 | B14: 伊藤 太郎 | C14: 2 | D14: 150000 | E14: 0 | F14: 0 | G14: =ROUNDDOWN((D14-E14)/1.1, 0) -> 136363 | H14: =ROUNDDOWN(G14, -3) -> 136000 | I14: =IF(F14=1,MIN(H14 * 0.03),0) -> 0 | L14: 宿泊者数（人） | M14: 宿泊料金（円） | N14: 宿泊者数（人） | O14: 宿泊料金（円）
A15: 4 | B15: 山田 太郎 | C15: 5 | D15: 70000 | E15: 12000 | F15: 1 | G15: =ROUNDDOWN((D15-E15)/1.1, 0) -> 52727 | H15: =ROUNDDOWN(G15, -3) -> 52000 | I15: =IF(F15=1,MIN(H15 * 0.03),0) -> 1560 | K15: 1 | L15: =SUMIFS(C:C,$A:$A,$K15,$F:$F,1) -> 3 | M15: =SUMIFS(H:H,$A:$A,$K15,$F:$F,1) -> 15000 | N15: =SUMIFS(C:C,$A:$A,$K15,$F:$F,0) -> 0 | O15: =SUMIFS(H:H,$A:$A,$K15,$F:$F,0) -> 0
A16: 4 | B16: 大原 花子 | C16: 3 | D16: 21000 | E16: 6000 | F16: 1 | G16: =ROUNDDOWN((D16-E16)/1.1, 0) -> 13636 | H16: =ROUNDDOWN(G16, -3) -> 13000 | I16: =IF(F16=1,MIN(H16 * 0.03),0) -> 390 | K16: 2 | L16: =SUMIFS(C:C,$A:$A,$K16,$F:$F,1) -> 3 | M16: =SUMIFS(H:H,$A:$A,$K16,$F:$F,1) -> 14000 | N16: =SUMIFS(C:C,$A:$A,$K16,$F:$F,0) -> 0 | O16: =SUMIFS(H:H,$A:$A,$K16,$F:$F,0) -> 0
A17: 4 | B17: 齋藤 太郎 | C17: 2 | D17: 25000 | E17: 6000 | F17: 1 | G17: =ROUNDDOWN((D17-E17)/1.1, 0) -> 17272 | H17: =ROUNDDOWN(G17, -3) -> 17000 | I17: =IF(F17=1,MIN(H17 * 0.03),0) -> 510 | K17: 3 | L17: =SUMIFS(C:C,$A:$A,$K17,$F:$F,1) -> 1 | M17: =SUMIFS(H:H,$A:$A,$K17,$F:$F,1) -> 13000 | N17: =SUMIFS(C:C,$A:$A,$K17,$F:$F,0) -> 2 | O17: =SUMIFS(H:H,$A:$A,$K17,$F:$F,0) -> 136000
G18: =ROUNDDOWN((D18-E18)/1.1, 0) -> 0 | H18: =ROUNDDOWN(G18, -3) -> 0 | I18: =IF(F18=1,MIN(H18 * 0.03),0) -> 0 | K18: 4 | L18: =SUMIFS(C:C,$A:$A,$K18,$F:$F,1) -> 10 | M18: =SUMIFS(H:H,$A:$A,$K18,$F:$F,1) -> 82000 | N18: =SUMIFS(C:C,$A:$A,$K18,$F:$F,0) -> 0 | O18: =SUMIFS(H:H,$A:$A,$K18,$F:$F,0) -> 0
G19: =ROUNDDOWN((D19-E19)/1.1, 0) -> 0 | H19: =ROUNDDOWN(G19, -3) -> 0 | I19: =IF(F19=1,MIN(H19 * 0.03),0) -> 0 | K19: 5 | L19: =SUMIFS(C:C,$A:$A,$K19,$F:$F,1) -> 0 | M19: =SUMIFS(H:H,$A:$A,$K19,$F:$F,1) -> 0 | N19: =SUMIFS(C:C,$A:$A,$K19,$F:$F,0) -> 0 | O19: =SUMIFS(H:H,$A:$A,$K19,$F:$F,0) -> 0
G20: =ROUNDDOWN((D20-E20)/1.1, 0) -> 0 | H20: =ROUNDDOWN(G20, -3) -> 0 | I20: =IF(F20=1,MIN(H20 * 0.03),0) -> 0 | K20: 6 | L20: =SUMIFS(C:C,$A:$A,$K20,$F:$F,1) -> 0 | M20: =SUMIFS(H:H,$A:$A,$K20,$F:$F,1) -> 0 | N20: =SUMIFS(C:C,$A:$A,$K20,$F:$F,0) -> 0 | O20: =SUMIFS(H:H,$A:$A,$K20,$F:$F,0) -> 0
G21: =ROUNDDOWN((D21-E21)/1.1, 0) -> 0 | H21: =ROUNDDOWN(G21, -3) -> 0 | I21: =IF(F21=1,MIN(H21 * 0.03),0) -> 0 | K21: 7 | L21: =SUMIFS(C:C,$A:$A,$K21,$F:$F,1) -> 0 | M21: =SUMIFS(H:H,$A:$A,$K21,$F:$F,1) -> 0 | N21: =SUMIFS(C:C,$A:$A,$K21,$F:$F,0) -> 0 | O21: =SUMIFS(H:H,$A:$A,$K21,$F:$F,0) -> 0
G22: =ROUNDDOWN((D22-E22)/1.1, 0) -> 0 | H22: =ROUNDDOWN(G22, -3) -> 0 | I22: =IF(F22=1,MIN(H22 * 0.03),0) -> 0 | K22: 8 | L22: =SUMIFS(C:C,$A:$A,$K22,$F:$F,1) -> 0 | M22: =SUMIFS(H:H,$A:$A,$K22,$F:$F,1) -> 0 | N22: =SUMIFS(C:C,$A:$A,$K22,$F:$F,0) -> 0 | O22: =SUMIFS(H:H,$A:$A,$K22,$F:$F,0) -> 0
G23: =ROUNDDOWN((D23-E23)/1.1, 0) -> 0 | H23: =ROUNDDOWN(G23, -3) -> 0 | I23: =IF(F23=1,MIN(H23 * 0.03),0) -> 0 | K23: 9 | L23: =SUMIFS(C:C,$A:$A,$K23,$F:$F,1) -> 0 | M23: =SUMIFS(H:H,$A:$A,$K23,$F:$F,1) -> 0 | N23: =SUMIFS(C:C,$A:$A,$K23,$F:$F,0) -> 0 | O23: =SUMIFS(H:H,$A:$A,$K23,$F:$F,0) -> 0
G24: =ROUNDDOWN((D24-E24)/1.1, 0) -> 0 | H24: =ROUNDDOWN(G24, -3) -> 0 | I24: =IF(F24=1,MIN(H24 * 0.03),0) -> 0 | K24: 10 | L24: =SUMIFS(C:C,$A:$A,$K24,$F:$F,1) -> 0 | M24: =SUMIFS(H:H,$A:$A,$K24,$F:$F,1) -> 0 | N24: =SUMIFS(C:C,$A:$A,$K24,$F:$F,0) -> 0 | O24: =SUMIFS(H:H,$A:$A,$K24,$F:$F,0) -> 0
G25: =ROUNDDOWN((D25-E25)/1.1, 0) -> 0 | H25: =ROUNDDOWN(G25, -3) -> 0 | I25: =IF(F25=1,MIN(H25 * 0.03),0) -> 0 | K25: 11 | L25: =SUMIFS(C:C,$A:$A,$K25,$F:$F,1) -> 0 | M25: =SUMIFS(H:H,$A:$A,$K25,$F:$F,1) -> 0 | N25: =SUMIFS(C:C,$A:$A,$K25,$F:$F,0) -> 0 | O25: =SUMIFS(H:H,$A:$A,$K25,$F:$F,0) -> 0
G26: =ROUNDDOWN((D26-E26)/1.1, 0) -> 0 | H26: =ROUNDDOWN(G26, -3) -> 0 | I26: =IF(F26=1,MIN(H26 * 0.03),0) -> 0 | K26: 12 | L26: =SUMIFS(C:C,$A:$A,$K26,$F:$F,1) -> 0 | M26: =SUMIFS(H:H,$A:$A,$K26,$F:$F,1) -> 0 | N26: =SUMIFS(C:C,$A:$A,$K26,$F:$F,0) -> 0 | O26: =SUMIFS(H:H,$A:$A,$K26,$F:$F,0) -> 0
G27: =ROUNDDOWN((D27-E27)/1.1, 0) -> 0 | H27: =ROUNDDOWN(G27, -3) -> 0 | I27: =IF(F27=1,MIN(H27 * 0.03),0) -> 0 | K27: 13 | L27: =SUMIFS(C:C,$A:$A,$K27,$F:$F,1) -> 0 | M27: =SUMIFS(H:H,$A:$A,$K27,$F:$F,1) -> 0 | N27: =SUMIFS(C:C,$A:$A,$K27,$F:$F,0) -> 0 | O27: =SUMIFS(H:H,$A:$A,$K27,$F:$F,0) -> 0
G28: =ROUNDDOWN((D28-E28)/1.1, 0) -> 0 | H28: =ROUNDDOWN(G28, -3) -> 0 | I28: =IF(F28=1,MIN(H28 * 0.03),0) -> 0 | K28: 14 | L28: =SUMIFS(C:C,$A:$A,$K28,$F:$F,1) -> 0 | M28: =SUMIFS(H:H,$A:$A,$K28,$F:$F,1) -> 0 | N28: =SUMIFS(C:C,$A:$A,$K28,$F:$F,0) -> 0 | O28: =SUMIFS(H:H,$A:$A,$K28,$F:$F,0) -> 0
G29: =ROUNDDOWN((D29-E29)/1.1, 0) -> 0 | H29: =ROUNDDOWN(G29, -3) -> 0 | I29: =IF(F29=1,MIN(H29 * 0.03),0) -> 0 | K29: 15 | L29: =SUMIFS(C:C,$A:$A,$K29,$F:$F,1) -> 0 | M29: =SUMIFS(H:H,$A:$A,$K29,$F:$F,1) -> 0 | N29: =SUMIFS(C:C,$A:$A,$K29,$F:$F,0) -> 0 | O29: =SUMIFS(H:H,$A:$A,$K29,$F:$F,0) -> 0
... G45: =ROUNDDOWN((D45-E45)/1.1, 0) -> 0 | H45: =ROUNDDOWN(G45, -3) -> 0 | I45: =IF(F45=1,MIN(H45 * 0.03),0) -> 0 | K45: 31 | L45: =SUMIFS(C:C,$A:$A,$K45,$F:$F,1) -> 0 | M45: =SUMIFS(H:H,$A:$A,$K45,$F:$F,1) -> 0 | N45: =SUMIFS(C:C,$A:$A,$K45,$F:$F,0) -> 0 | O45: =SUMIFS(H:H,$A:$A,$K45,$F:$F,0) -> 0
G46: =ROUNDDOWN((D46-E46)/1.1, 0) -> 0 | H46: =ROUNDDOWN(G46, -3) -> 0 | I46: =IF(F46=1,MIN(H46 * 0.03),0) -> 0 | K46: 合計 | L46: =SUM(L15:L45) -> 17 | M46: =SUM(M15:M45) -> 124000 | N46: =SUM(N15:N45) -> 2 | O46: =SUM(O15:O45) -> 136000
G47: =ROUNDDOWN((D47-E47)/1.1, 0) -> 0 | H47: =ROUNDDOWN(G47, -3) -> 0 | I47: =IF(F47=1,MIN(H47 * 0.03),0) -> 0
G48: =ROUNDDOWN((D48-E48)/1.1, 0) -> 0 | H48: =ROUNDDOWN(G48, -3) -> 0 | I48: =IF(F48=1,MIN(H48 * 0.03),0) -> 0
G49: =ROUNDDOWN((D49-E49)/1.1, 0) -> 0 | H49: =ROUNDDOWN(G49, -3) -> 0 | I49: =IF(F49=1,MIN(H49 * 0.03),0) -> 0
G50: =ROUNDDOWN((D50-E50)/1.1, 0) -> 0 | H50: =ROUNDDOWN(G50, -3) -> 0 | I50: =IF(F50=1,MIN(H50 * 0.03),0) -> 0
G51: =ROUNDDOWN((D51-E51)/1.1, 0) -> 0 | H51: =ROUNDDOWN(G51, -3) -> 0 | I51: =IF(F51=1,MIN(H51 * 0.03),0) -> 0
G52: =ROUNDDOWN((D52-E52)/1.1, 0) -> 0 | H52: =ROUNDDOWN(G52, -3) -> 0 | I52: =IF(F52=1,MIN(H52 * 0.03),0) -> 0
G53: =ROUNDDOWN((D53-E53)/1.1, 0) -> 0 | H53: =ROUNDDOWN(G53, -3) -> 0 | I53: =IF(F53=1,MIN(H53 * 0.03),0) -> 0
G54: =ROUNDDOWN((D54-E54)/1.1, 0) -> 0 | H54: =ROUNDDOWN(G54, -3) -> 0 | I54: =IF(F54=1,MIN(H54 * 0.03),0) -> 0
G55: =ROUNDDOWN((D55-E55)/1.1, 0) -> 0 | H55: =ROUNDDOWN(G55, -3) -> 0 | I55: =IF(F55=1,MIN(H55 * 0.03),0) -> 0
G56: =ROUNDDOWN((D56-E56)/1.1, 0) -> 0 | H56: =ROUNDDOWN(G56, -3) -> 0 | I56: =IF(F56=1,MIN(H56 * 0.03),0) -> 0
G57: =ROUNDDOWN((D57-E57)/1.1, 0) -> 0 | H57: =ROUNDDOWN(G57, -3) -> 0 | I57: =IF(F57=1,MIN(H57 * 0.03),0) -> 0
G58: =ROUNDDOWN((D58-E58)/1.1, 0) -> 0 | H58: =ROUNDDOWN(G58, -3) -> 0 | I58: =IF(F58=1,MIN(H58 * 0.03),0) -> 0
... G1008: =ROUNDDOWN((D1008-E1008)/1.1, 0) -> 0 | H1008: =ROUNDDOWN(G1008, -3) -> 0 | I1008: =IF(F1008=1,MIN(H1008 * 0.03),0) -> 0
