Workbook

Sheet 納入申告書
A1: 様式第１１号（第８条関係）
A2: 宿泊税納入申告書
A3: （宛先）山形市長
A6: 宿泊税の納入について、山形市宿泊税条例第１３条第１項の規定により、次のとおり申告します。
A8: （特別徴収義務者）
A9: 住所（所在地） | E9: 氏名（名称及び代表者名）
A11: 個人（法人）番号 | E11: 電話番号
A12: 宿泊施設 | B12: 所在地
B13: 名称
B14: 施設番号
A16: 令和 | C16: 年 | E16: 月分
A17: 区分 | B17: 課税標準 | D17: 宿泊者数 （人） | E17: 宿泊料金の総額 （円）（Ａ） | F17: 税率 （Ｂ） | G17: 宿泊税額 （円）（Ａ×Ｂ）
A18: 課税対象 | B18: １人１泊当たり | D18: ='月計表（１人1泊当たり）'!B38 -> 0 | E18: ='月計表（１人1泊当たり）'!C38 -> 0 | F18: １００分の３ | G18: =E18*0.03 -> 0
B19: １部屋１泊当たり | D19: ='月計表（１部屋1泊当たり）'!B38 -> 0 | E19: ='月計表（１部屋1泊当たり）'!C38 -> 0 | G19: =E19*0.03 -> 0
B20: １棟１泊当たり | D20: ='月計表（１棟1泊当たり）'!B38 -> 0 | E20: ='月計表（１棟1泊当たり）'!C38 -> 0 | G20: =E20*0.03 -> 0
B21: 合計 | D21: =SUM(D18:D20) -> 0 | E21: ='月計表（１棟1泊当たり）'!C38 -> 0 | F21: 合計① | G21: =SUM(G18:G20) -> 0
A22: 課税対象外 （課税免除） | B22: １人１泊当たり | D22: ='月計表（１人1泊当たり）'!D38 -> 0 | E22: ='月計表（１人1泊当たり）'!E38 -> 0
B23: １部屋１泊当たり | D23: ='月計表（１部屋1泊当たり）'!D38 -> 0 | E23: ='月計表（１部屋1泊当たり）'!E38 -> 0
B24: １棟１泊当たり | D24: ='月計表（１棟1泊当たり）'!D38 -> 0 | E24: ='月計表（１棟1泊当たり）'!E38 -> 0
B25: 合計 | D25: =SUM(D22:D24) -> 0 | E25: =SUM(E22:E24) -> 0
A27: 令和 | C27: 年 | E27: 月分
A28: 区分 | B28: 課税標準 | D28: 宿泊者数 （人） | E28: 宿泊料金の総額 （円）（Ａ） | F28: 税率 （Ｂ） | G28: 宿泊税額 （円）（Ａ×Ｂ）
A29: 課税対象 | B29: １人１泊当たり | D29: ='特例用②月計表（１人1泊当たり）'!B38 -> 0 | E29: ='特例用②月計表（１人1泊当たり）'!C38 -> 0 | F29: １００分の３ | G29: =E29*0.03 -> 0
B30: １部屋１泊当たり | D30: ='特例用②月計表（１部屋1泊当たり)'!B38 -> 0 | E30: ='特例用②月計表（１部屋1泊当たり)'!C38 -> 0 | G30: =E30*0.03 -> 0
B31: １棟１泊当たり | D31: ='特例用②月計表（１棟1泊当たり） '!B38 -> 0 | E31: ='特例用②月計表（１棟1泊当たり） '!C38 -> 0 | G31: =E31*0.03 -> 0
B32: 合計 | D32: =SUM(D29:D31) -> 0 | E32: =SUM(E29:E31) -> 0 | F32: 合計② | G32: =SUM(G29:G31) -> 0
A33: 課税対象外 （課税免除） | B33: １人１泊当たり | D33: ='特例用②月計表（１人1泊当たり）'!D38 -> 0 | E33: ='特例用②月計表（１人1泊当たり）'!E38 -> 0
B34: １部屋１泊当たり | D34: ='特例用②月計表（１部屋1泊当たり)'!D38 -> 0 | E34: ='特例用②月計表（１部屋1泊当たり)'!E38 -> 0
B35: １棟１泊当たり | D35: ='特例用②月計表（１棟1泊当たり） '!D38 -> 0 | E35: ='特例用②月計表（１棟1泊当たり） '!E38 -> 0
B36: 合計 | D36: =SUM(D33:D35) -> 0 | E36: =SUM(E33:E35) -> 0
A38: 令和 | C38: 年 | E38: 月分
A39: 区分 | B39: 課税標準 | D39: 宿泊者数 （人） | E39: 宿泊料金の総額 （円）（Ａ） | F39: 税率 （Ｂ） | G39: 宿泊税額 （円）（Ａ×Ｂ）
A40: 課税対象 | B40: １人１泊当たり | D40: ='特例用③月計表（１人1泊当たり）'!B38 -> 0 | E40: ='特例用③月計表（１人1泊当たり）'!C38 -> 0 | F40: １００分の３ | G40: =E40*0.03 -> 0
B41: １部屋１泊当たり | D41: ='特例用③月計表（１部屋１泊当たり）'!B38 -> 0 | E41: ='特例用③月計表（１部屋１泊当たり）'!C38 -> 0 | G41: =E41*0.03 -> 0
B42: １棟１泊当たり | D42: ='特例用③月計表（１棟1泊当たり）'!B38 -> 0 | E42: ='特例用③月計表（１棟1泊当たり）'!C38 -> 0 | G42: =E42*0.03 -> 0
B43: 合計 | D43: =SUM(D40:D42) -> 0 | E43: =SUM(E40:E42) -> 0 | F43: 合計③ | G43: =SUM(G40:G42) -> 0
A44: 課税対象外 （課税免除） | B44: １人１泊当たり | D44: ='特例用③月計表（１人1泊当たり）'!D38 -> 0 | E44: ='特例用③月計表（１人1泊当たり）'!E38 -> 0
B45: １部屋１泊当たり | D45: ='特例用③月計表（１部屋１泊当たり）'!D38 -> 0 | E45: ='特例用③月計表（１部屋１泊当たり）'!E38 -> 0
B46: １棟１泊当たり | D46: ='特例用③月計表（１棟1泊当たり）'!D38 -> 0 | E46: ='特例用③月計表（１棟1泊当たり）'!E37 -> 0
B47: 合計 | D47: =SUM(D44:D46) -> 0 | E47: =SUM(E44:E46) -> 0
...

Sheet 月計表（１人1泊当たり）
A1: 月計表（１人1泊当たり）
A2: 令和 | B2: =納入申告書!B16 -> 0 | C2: 年 | D2: =納入申告書!D16 -> 0 | E2: 月宿泊分
A3: 施設番号 | C3: =納入申告書!D14 -> 0
A4: 宿泊施設名 | C4: =納入申告書!D13 -> 0
A5: 日付 | B5: 課税対象 | D5: 課税対象外（課税免除）
B6: 宿泊者数（人） | C6: 宿泊料金（円） | D6: 宿泊者数（人） | E6: 宿泊料金（円）
A7: 1
A8: 2
A9: 3
A10: 4
A11: 5
A12: 6
A13: 7
A14: 8
A15: 9
A16: 10
A17: 11
A18: 12
... A37: 31
A38: 合計 | B38: =SUM(B7:B37) -> 0 | C38: =SUM(C7:C37) -> 0 | D38: =SUM(D7:D37) -> 0 | E38: =SUM(E7:E37) -> 0

Sheet 月計表（１部屋1泊当たり）
A1: 月計表（１部屋１泊当たり）
A2: 令和 | B2: =納入申告書!B16 -> 0 | C2: 年 | D2: =納入申告書!D16 -> 0 | E2: 月宿泊分
A3: 施設番号 | C3: =納入申告書!D14 -> 0
A4: 宿泊施設名 | C4: =納入申告書!D13 -> 0
A5: 日付 | B5: 課税対象 | D5: 課税対象外（課税免除）
B6: 宿泊者数（人） | C6: 宿泊料金（円） | D6: 宿泊者数（人） | E6: 宿泊料金（円）
A7: 1
A8: 2
A9: 3
A10: 4
A11: 5
A12: 6
A13: 7
A14: 8
A15: 9
A16: 10
A17: 11
A18: 12
... A37: 31
A38: 合計 | B38: =SUM(B7:B37) -> 0 | C38: =SUM(C7:C37) -> 0 | D38: =SUM(D7:D37) -> 0 | E38: =SUM(E7:E37) -> 0

Sheet 月計表（１棟1泊当たり）
A1: 月計表（１棟１泊当たり）
A2: 令和 | B2: =納入申告書!B16 -> 0 | C2: 年 | D2: =納入申告書!D16 -> 0 | E2: 月宿泊分
A3: 施設番号 | C3: =納入申告書!D14 -> 0
A4: 宿泊施設名 | C4: =納入申告書!D13 -> 0
A5: 日付 | B5: 課税対象 | D5: 課税対象外（課税免除）
B6: 宿泊者数（人） | C6: 宿泊料金（円） | D6: 宿泊者数（人） | E6: 宿泊料金（円）
A7: 1
A8: 2
A9: 3
A10: 4
A11: 5
A12: 6
A13: 7
A14: 8
A15: 9
A16: 10
A17: 11
A18: 12
... A37: 31
A38: 合計 | B38: =SUM(B7:B37) -> 0 | C38: =SUM(C7:C37) -> 0 | D38: =SUM(D7:D37) -> 0 | E38: =SUM(E7:E37) -> 0

Sheet 特例用②月計表（１人1泊当たり）
A1: 月計表（１人1泊当たり）
A2: 令和 | B2: =納入申告書!B27 -> 0 | C2: 年 | D2: =納入申告書!D27 -> 0 | E2: 月宿泊分
A3: 施設番号 | C3: =納入申告書!D14 -> 0
A4: 宿泊施設名 | C4: =納入申告書!D13 -> 0
A5: 日付 | B5: 課税対象 | D5: 課税対象外（課税免除）
B6: 宿泊者数（人） | C6: 宿泊料金（円） | D6: 宿泊者数（人） | E6: 宿泊料金（円）
A7: 1
A8: 2
A9: 3
A10: 4
A11: 5
A12: 6
A13: 7
A14: 8
A15: 9
A16: 10
A17: 11
A18: 12
... A37: 31
A38: 合計 | B38: =SUM(B7:B37) -> 0 | C38: =SUM(C7:C37) -> 0 | D38: =SUM(D7:D37) -> 0 | E38: =SUM(E7:E37) -> 0

Sheet 特例用②月計表（１部屋1泊当たり)
A1: 月計表（１部屋1泊当たり）
A2: 令和 | B2: =納入申告書!B27 -> 0 | C2: 年 | D2: =納入申告書!D27 -> 0 | E2: 月宿泊分
A3: 施設番号 | C3: =納入申告書!D14 -> 0
A4: 宿泊施設名 | C4: =納入申告書!D13 -> 0
A5: 日付 | B5: 課税対象 | D5: 課税対象外（課税免除）
B6: 宿泊者数（人） | C6: 宿泊料金（円） | D6: 宿泊者数（人） | E6: 宿泊料金（円）
A7: 1
A8: 2
A9: 3
A10: 4
A11: 5
A12: 6
A13: 7
A14: 8
A15: 9
A16: 10
A17: 11
A18: 12
... A37: 31
A38: 合計 | B38: =SUM(B7:B37) -> 0 | C38: =SUM(C7:C37) -> 0 | D38: =SUM(D7:D37) -> 0 | E38: =SUM(E7:E37) -> 0

Sheet 特例用②月計表（１棟1泊当たり） 
A1: 月計表（１棟1泊当たり）
A2: 令和 | B2: =納入申告書!B27 -> 0 | C2: 年 | D2: =納入申告書!D27 -> 0 | E2: 月宿泊分
A3: 施設番号 | C3: =納入申告書!D14 -> 0
A4: 宿泊施設名 | C4: =納入申告書!D13 -> 0
A5: 日付 | B5: 課税対象 | D5: 課税対象外（課税免除）
B6: 宿泊者数（人） | C6: 宿泊料金（円） | D6: 宿泊者数（人） | E6: 宿泊料金（円）
A7: 1
A8: 2
A9: 3
A10: 4
A11: 5
A12: 6
A13: 7
A14: 8
A15: 9
A16: 10
A17: 11
A18: 12
... A37: 31
A38: 合計 | B38: =SUM(B7:B37) -> 0 | C38: =SUM(C7:C37) -> 0 | D38: =SUM(D7:D37) -> 0 | E38: =SUM(E7:E37) -> 0

Sheet 特例用③月計表（１人1泊当たり）
A1: 月計表（１人1泊当たり）
A2: 令和 | B2: =納入申告書!B38 -> 0 | C2: 年 | D2: =納入申告書!D38 -> 0 | E2: 月宿泊分
A3: 施設番号 | C3: =納入申告書!D14 -> 0
A4: 宿泊施設名 | C4: =納入申告書!D13 -> 0
A5: 日付 | B5: 課税対象 | D5: 課税対象外（課税免除）
B6: 宿泊者数（人） | C6: 宿泊料金（円） | D6: 宿泊者数（人） | E6: 宿泊料金（円）
A7: 1
A8: 2
A9: 3
A10: 4
A11: 5
A12: 6
A13: 7
A14: 8
A15: 9
A16: 10
A17: 11
A18: 12
... A37: 31
A38: 合計 | B38: =SUM(B7:B37) -> 0 | C38: =SUM(C7:C37) -> 0 | D38: =SUM(D7:D37) -> 0 | E38: =SUM(E7:E37) -> 0

Sheet 特例用③月計表（１部屋１泊当たり）
A1: 月計表（１部屋1泊当たり）
A2: 令和 | B2: =納入申告書!B38 -> 0 | C2: 年 | D2: =納入申告書!D38 -> 0 | E2: 月宿泊分
A3: 施設番号 | C3: =納入申告書!D14 -> 0
A4: 宿泊施設名 | C4: =納入申告書!D13 -> 0
A5: 日付 | B5: 課税対象 | D5: 課税対象外（課税免除）
B6: 宿泊者数（人） | C6: 宿泊料金（円） | D6: 宿泊者数（人） | E6: 宿泊料金（円）
A7: 1
A8: 2
A9: 3
A10: 4
A11: 5
A12: 6
A13: 7
A14: 8
A15: 9
A16: 10
A17: 11
A18: 12
... A37: 31
A38: 合計 | B38: =SUM(B7:B37) -> 0 | C38: =SUM(C7:C37) -> 0 | D38: =SUM(D7:D37) -> 0 | E38: =SUM(E7:E37) -> 0

Sheet 特例用③月計表（１棟1泊当たり）
A1: 月計表（１棟1泊当たり）
A2: 令和 | C2: 年 | D2: =納入申告書!D16 -> 0 | E2: 月宿泊分
A3: 施設番号 | C3: =納入申告書!D14 -> 0
A4: 宿泊施設名 | C4: =納入申告書!D13 -> 0
A5: 日付 | B5: 課税対象 | D5: 課税対象外（課税免除）
B6: 宿泊者数（人） | C6: 宿泊料金（円） | D6: 宿泊者数（人） | E6: 宿泊料金（円）
A7: 1
A8: 2
A9: 3
A10: 4
A11: 5
A12: 6
A13: 7
A14: 8
A15: 9
A16: 10
A17: 11
A18: 12
... A37: 31
A38: 合計 | B38: =SUM(B7:B37) -> 0 | C38: =SUM(C7:C37) -> 0 | D38: =SUM(D7:D37) -> 0 | E38: =SUM(E7:E37) -> 0
