Workbook

Sheet 様式第２号(2) 入力用
B1: 様式第７号（２） （第７条関係）
R2: 給食施設栄養管理状況報告書
G3: (学校、児童福祉施設、事業所、寄宿舎、矯正施設、一般給食センターその他の給食施設用）
D5: (宛先) 山形市保健所長 | BH5: 年 | BL5: 月 | BP5: 日
AN6: 施設の名称
AN7: 所在地
AN8: 管理者氏名
AN9: 電話番号 | AU9: （ | BB9: ） | BI9: ―
B11: 給食施設の現況及び栄養管理状況を次のとおり報告します。
B12: 1 | D12: 設置者の名称及び代表者の職氏名
B13: 2 | D13: 設置者の住所又は主たる事務所の所在地 | AE13: 〒
B14: 3 | D14: 給食施設の種類 | S14: □ | U14: 学校 | AA14: □ | AC14: 児童福祉施設 | AK14: □ | AM14: 事業所（従業員数 | BB14: 人） | BF14: □ | BH14: 寄宿舎 | BR14: 学校 | BS14: =IF(NOT(S14="□"),TRUE,FALSE) -> FALSE | BT14: 児童福祉施設 | BU14: =IF(NOT(AA14="□"),TRUE,FALSE) -> FALSE | BV14: 事業所 | BW14: =IF(NOT(AK14="□"),TRUE,FALSE) -> FALSE | BX14: 寄宿舎 | BY14: =IF(NOT(BF14="□"),TRUE,FALSE) -> FALSE
S15: □ | U15: 矯正施設 | AA15: □ | AC15: 一般給食センター | AN15: □ | AP15: その他（ | BD15: ） | BR15: 矯正施設 | BS15: =IF(NOT(S15="□"),TRUE,FALSE) -> FALSE | BT15: 一般給食センター | BU15: =IF(NOT(AA15="□"),TRUE,FALSE) -> FALSE | BV15: その他 | BW15: =IF(NOT(AN15="□"),TRUE,FALSE) -> FALSE
B16: 4 | D16: 運営形態 | R16: 調理方式 | Y16: □ | AA16: 施設内調理 | AI16: □ | AK16: 一部施設外調理 | AU16: □ | AW16: その他 | BA16: ( | BN16: ) | BR16: 施設内調理 | BS16: =IF(NOT(Y16="□"),TRUE,FALSE) -> FALSE | BT16: 一部施設外調理 | BU16: =IF(NOT(AI16="□"),TRUE,FALSE) -> FALSE | BV16: その他 | BW16: =IF(NOT(AU16="□"),TRUE,FALSE) -> FALSE
R17: 委託 | Y17: □ | AA17: 有 | AD17: □ | AF17: 無 | AH17: （有の場合は委託内容及び委託先名称を記入すること。） | BR17: 有 | BS17: =IF(NOT(Y17="□"),TRUE,FALSE) -> FALSE | BT17: 無 | BU17: =IF(NOT(AD17="□"),TRUE,FALSE) -> FALSE
X18: 委託内容 | AD18: □ | AF18: 献立作成 | AL18: □ | AN18: 発注 | AR18: □ | AT18: 調理 | AX18: □ | AZ18: 盛付 | BR18: 献立作成 | BS18: =IF(NOT(AD18="□"),TRUE,FALSE) -> FALSE | BT18: 発注 | BU18: =IF(NOT(AL18="□"),TRUE,FALSE) -> FALSE | BV18: 調理 | BW18: =IF(NOT(AR18="□"),TRUE,FALSE) -> FALSE | BX18: 盛付 | BY18: =IF(NOT(AX18="□"),TRUE,FALSE) -> FALSE | BZ18: 配膳 | CA18: =IF(NOT(AD19="□"),TRUE,FALSE) -> FALSE | CB18: 食器等洗浄 | CC18: =IF(NOT(AJ19="□"),TRUE,FALSE) -> FALSE | CD18: その他 | CE18: =IF(NOT(AS19="□"),TRUE,FALSE) -> FALSE
AD19: □ | AF19: 配膳 | AJ19: □ | AL19: 食器等洗浄 | AS19: □ | AU19: その他( | BP19: )
X20: 委託先名称
B21: 5 | D21: 従事者 | J21: 区 分 | X21: 人数 | AJ21: 常勤者氏名 | BA21: 非常勤者氏名
AD22: うち常勤者 の人数
J23: 管理栄養士 | R23: 施設職員
AB24: 人 | AH24: 人
R26: 委託先職員 | AB26: 人 | AH26: 人
J27: 栄養士 | R27: 施設職員 | AB27: 人 | AH27: 人
R28: 委託先職員 | AB28: 人 | AH28: 人
J29: 調理師 | AB29: 人 | AH29: 人
J30: 調理師以外の調理従事者 | AB30: 人
J31: その他 | AB31: 人
B32: 6 | D32: 健康増進法第21条第１項の規定による指定 | Y32: □ | AA32: 有 | AC32: (指定番号 | AM32: 号) | AQ32: □ | AS32: 無 | BR32: 有 | BS32: =IF(NOT(Y32="□"),TRUE,FALSE) -> FALSE | BT32: 無 | BU32: =IF(NOT(AQ32="□"),TRUE,FALSE) -> FALSE
B33: 7 | D33: 衛生管理体制 | S33: HACCPに沿った衛生管理の実施 | AQ33: □ | AS33: 有 | AU33: □ | AW33: 無 | BR33: 有 | BS33: =IF(NOT(AQ33="□"),TRUE,FALSE) -> FALSE | BT33: 無 | BU33: =IF(NOT(AU33="□"),TRUE,FALSE) -> FALSE
B34: 8 | D34: 非常時危機管理対策 | S34: 災害時における食事提供マニュアルの整備 | AQ34: □ | AS34: 有 | AU34: □ | AW34: 無 | BR34: 有 | BS34: =IF(NOT(AQ34="□"),TRUE,FALSE) -> FALSE | BT34: 無 | BU34: =IF(NOT(AU34="□"),TRUE,FALSE) -> FALSE
S35: 備蓄食 | X35: □ | Z35: 有 | AB35: □ | AD35: 無 | AH35: 備蓄量（ | AQ35: ）人分を( | AY35: ）回・食分 | BR35: 有 | BS35: =IF(NOT(X35="□"),TRUE,FALSE) -> FALSE | BT35: 無 | BU35: =IF(NOT(AB35="□"),TRUE,FALSE) -> FALSE
B36: 9 | D36: 給食定員数 | Y36: 人
B37: 10 | D37: 給食形態 | R37: □ | T37: 単一献立 | Y37: □ | AA37: 選択メニュー(頻度 | AN37: ) | AO37: □ | AQ37: カフェテリア(頻度 | BD37: ) | BE37: □ | BG37: その他（ | BP37: ) | BR37: 単一献立 | BS37: =IF(NOT(R37="□"),TRUE,FALSE) -> FALSE | BT37: 選択メニュー | BU37: =IF(NOT(Y37="□"),TRUE,FALSE) -> FALSE | BV37: カフェテリア | BW37: =IF(NOT(AO37="□"),TRUE,FALSE) -> FALSE | BX37: その他 | BY37: =IF(NOT(BE37="□"),TRUE,FALSE) -> FALSE
B38: 11 | D38: 食事の種類及び給食数 | W38: 給 食 提 供 区 分
R39: ３歳未満 | W39: ３歳以上 | AB39: 児童・生徒 | AH39: 成人 | AM39: その他 | AS39: 小計 | AX39: 職員 (事業所以外) | BE39: その他 | BK39: 合計
AM40: （ | AR40: ） | BE40: （ | BJ40: ）
D41: 朝 食（食） | AS41: =SUM(R41:AR41) -> 0 | BK41: =AS41+AX41+BE41 -> 0
D42: 昼 食（食） | AS42: =SUM(R42:AR42) -> 0 | BK42: =AS42+AX42+BE42 -> 0
D43: 夕 食（食） | AS43: =SUM(R43:AR43) -> 0 | BK43: =AS43+AX43+BE43 -> 0
D44: その他（食） | AS44: =SUM(R44:AR44) -> 0 | BK44: =AS44+AX44+BE44 -> 0
D45: １日合計（食） | R45: =SUM(R41:V44) -> 0 | W45: =SUM(W41:AA44) -> 0 | AB45: =SUM(AB41:AG44) -> 0 | AH45: =SUM(AH41:AL44) -> 0 | AM45: =SUM(AM41:AR44) -> 0 | AS45: =SUM(AS41:AW44) -> 0 | AX45: =SUM(AX41:BD44) -> 0 | BE45: =SUM(BE41:BJ44) -> 0 | BK45: =SUM(BK41:BP44) -> 0
B46: 12 | D46: １人１日当たり給食材料費 | AE46: 円 | AH46: ( | BJ46: )
B47: 13 | D47: 報告書作成者 | S47: 所属 | AL47: 職名 | AZ47: 氏名
S48: 電話番号 | Y48: ( | AF48: ） | AM48: ―
B49: 14 | D49: 身体の状況及び生活習慣の把握
D50: □ | F50: 肥満 | L50: 利用者 | AI50: 判定方法 | AO50: □ | AQ50: ＢＭＩ | BB50: □ | BD50: 幼児身長体重曲線 | BR50: 肥満 | BS50: =IF(NOT(D50="□"),TRUE,FALSE) -> FALSE | BT50: BMI | BU50: =IF(NOT(AO50="□"),TRUE,FALSE) -> FALSE | BV50: 幼児身長体重曲線 | BW50: =IF(NOT(BB50="□"),TRUE,FALSE) -> FALSE
L51: ( | P51: )人中( | W51: )人 | Z51: ( | AA51: =T51/M51*100 -> #DIV/0! | AE51: )％ | AO51: □ | AQ51: 学校保健統計調査方式 | BB51: □ | BD51: その他( | BO51: ) | BT51: 学校保健統計調査方式 | BU51: =IF(NOT(AO51="□"),TRUE,FALSE) -> FALSE | BV51: その他 | BW51: =IF(NOT(BB51="□"),TRUE,FALSE) -> FALSE
D52: □ | F52: やせ | L52: 利用者 | AI52: 判定方法 | AO52: □ | AQ52: ＢＭＩ | BB52: □ | BD52: 幼児身長体重曲線 | BR52: やせ | BS52: =IF(NOT(D52="□"),TRUE,FALSE) -> FALSE | BT52: BMI | BU52: =IF(NOT(AO52="□"),TRUE,FALSE) -> FALSE | BV52: 幼児身長体重曲線 | BW52: =IF(NOT(BB52="□"),TRUE,FALSE) -> FALSE
L53: ( | P53: )人中( | W53: )人 | Z53: ( | AA53: =T53/M53*100 -> #DIV/0! | AE53: )％ | AO53: □ | AQ53: 学校保健統計調査方式 | BB53: □ | BD53: その他( | BO53: ) | BT53: 学校保健統計調査方式 | BU53: =IF(NOT(AO53="□"),TRUE,FALSE) -> FALSE | BV53: その他 | BW53: =IF(NOT(BB53="□"),TRUE,FALSE) -> FALSE
D54: □ | F54: その他 | K54: □ | M54: アレルギー | S54: □ | U54: 食事内容 | Z54: □ | AB54: 間食 | AE54: □ | AG54: 飲酒 | AJ54: □ | AL54: 喫煙 | AO54: □ | AQ54: 運動 | AT54: □ | AV54: その他( | BJ54: ) | BR54: その他 | BS54: =IF(NOT(D54="□"),TRUE,FALSE) -> FALSE | BT54: アレルギー | BU54: =IF(NOT(K54="□"),TRUE,FALSE) -> FALSE | BV54: 食事内容 | BW54: =IF(NOT(S54="□"),TRUE,FALSE) -> FALSE | BX54: 間食 | BY54: =IF(NOT(Z54="□"),TRUE,FALSE) -> FALSE | BZ54: 飲酒 | CA54: =IF(NOT(AE54="□"),TRUE,FALSE) -> FALSE | CB54: 喫煙 | CC54: =IF(NOT(AJ54="□"),TRUE,FALSE) -> FALSE | CD54: 運動 | CE54: =IF(NOT(AO54="□"),TRUE,FALSE) -> FALSE | CF54: その他 | CG54: =IF(NOT(AT54="□"),TRUE,FALSE) -> FALSE
B55: 15 | D55: 栄養指導 | N55: □ | P55: 有 | R55: □ | T55: 無 | W55: （有の場合は栄養指導の状況を記入すること。） | BR55: 有 | BS55: =IF(NOT(N55="□"),TRUE,FALSE) -> FALSE | BT55: 無 | BU55: =IF(NOT(R55="□"),TRUE,FALSE) -> FALSE
D56: 内 容 | R56: 個別指導 | AJ56: 集団指導
R57: 件数（件） | AJ57: 回数（回） | BA57: 延べ人数(人）
D62: 合 計 | R62: =SUM(R58:AI61) -> 0 | AJ62: =SUM(AJ58:AZ61) -> 0 | BA62: =SUM(BA58:BP61) -> 0
B63: 16 | D63: 健康及び栄養に関する情報の提供 | Y63: □ | AA63: 有 | AC63: □ | AE63: 無 | AH63: （有の場合は該当項目を選択すること。） | BR63: 有 | BS63: =IF(NOT(Y63="□"),TRUE,FALSE) -> FALSE | BT63: 無 | BU63: =IF(NOT(AC63="□"),TRUE,FALSE) -> FALSE
D64: □ | F64: 献立表の掲示 | Q64: □ | S64: レシピの提供 | AB64: □ | AD64: ポスターの掲示 | AN64: □ | AP64: 卓上メモの掲示 | AZ64: □ | BB64: リーフレット等の配布 | BR64: 献立表の表示 | BS64: =IF(NOT(D64="□"),TRUE,FALSE) -> FALSE
Q65: □ | S65: その他( | AU65: ) | BR65: 献立表の栄養成分表示 | BS65: =IF(NOT(D66="□"),TRUE,FALSE) -> FALSE | BT65: エネルギー | BU65: =IF(NOT(T66="□"),TRUE,FALSE) -> FALSE | BV65: たんぱく質 | BW65: =IF(NOT(AD66="□"),TRUE,FALSE) -> FALSE | BX65: 脂質 | BY65: =IF(NOT(AM66="□"),TRUE,FALSE) -> FALSE | BZ65: 炭水化物 | CA65: =IF(NOT(AS66="□"),TRUE,FALSE) -> FALSE | CB65: 食塩相当量 | CC65: =IF(NOT(BA66="□"),TRUE,FALSE) -> FALSE | CD65: その他 | CE65: =IF(NOT(T67="□"),TRUE,FALSE) -> FALSE
D66: □ | F66: 献立表の栄養成分表示 | T66: □ | V66: エネルギー | AD66: □ | AF66: たんぱく質 | AM66: □ | AO66: 脂質 | AS66: □ | AU66: 炭水化物 | BA66: □ | BC66: 食塩相当量 | BR66: レシピの提供 | BS66: =IF(NOT(Q64="□"),TRUE,FALSE) -> FALSE | BT66: ポスターの掲示 | BU66: =IF(NOT(AB64="□"),TRUE,FALSE) -> FALSE | BV66: 卓上メモの掲示 | BW66: =IF(NOT(AN64="□"),TRUE,FALSE) -> FALSE | BX66: リーフレット等の配布 | BY66: =IF(NOT(AZ64="□"),TRUE,FALSE) -> FALSE
T67: □ | V67: その他( | AT67: ) | BR67: その他 | BS67: =IF(NOT(Q65="□"),TRUE,FALSE) -> FALSE
B68: 17 | E68: 基本となる食事の種類 | R68: ( | Y68: 食) | AB68: の給与栄養目標量等の状況
E69: 給与栄養目標量の最終改定 | Z69: 年 | AD69: 月 | AH69: 日
R70: エネルギー （ｋｃａｌ） | Z70: たんぱく質 （ｇ） | AG70: 脂質 （ｇ） | AO70: 炭水化物 （ｇ） | AV70: 食塩相当量 （ｇ） | BC70: 脂肪エネルギー比率(％) c×9/a×100 | BJ70: 炭水化物エネルギー比率(％) d×4/a×100
D72: 給与栄養目標量 | BC72: =AG72*9/R72*100 -> #DIV/0! | BJ72: =AO72*4/R72*100 -> #DIV/0!
D73: 給与栄養量 | R73: a | Z73: b | AG73: c | AO73: d | AV73: e | BC73: =AH73*9/S73*100 -> #DIV/0! | BJ73: =AP73*4/S73*100 -> #DIV/0!
B74: 18 | D74: 食品構成 | AH74: 19 | AJ74: 栄養給食管理の目標・方針
R75: １人１日当たり （ｇ）
D76: 区分 | R76: 施設内目標値 | Y76: 純摂取量
D77: 食品群別
D78: 穀類
D79: いも及びでんぷん類
D80: 砂糖及び甘味類
D81: 豆類
D82: 種実類 | AH82: 20 | AJ82: 栄養管理等で効果を上げている事例
D83: 野菜類
D84: 果実類
D85: きのこ類
D86: 藻類
D87: 魚介類
D88: 肉類
D89: 卵類 | AH89: 21 | AJ89: 施設における栄養給食管理上の課題等
D90: 乳類
D91: 油脂類
D92: 菓子類
D93: し好飲料類
D94: 調味料及び香辛料類

Sheet ※入力しないでください(集計シート)
B1: 報告者 | H1: 1 | I1: 2 | L1: 3 | U1: 4 | AI1: 5 | BG1: 6 | BJ1: 7 | BL1: 8 | BR1: 9 | BS1: 10 | BZ1: 11 | EC1: 12 | ED1: 13 | EJ1: 14 | FK1: 15 | GF1: 16 | GW1: 17 | HO1: 18 | IW1: 19 | IX1: 20 | IY1: 21
B2: 施設の名称 | C2: 所在地 | D2: 管理者氏名 | E2: 電話番号 | H2: 設置者の氏名又は名称及び代表者氏名 | I2: 設置者の住所又は主たる事務所の所在地 | L2: 給食施設の種類 | U2: 運営形態 | AI2: 従事者 | BG2: 健康増進法第21条第１項の規定による指定 | BJ2: 衛生管理体制 | BL2: 非常時危機管理対策 | BR2: 給食定員数 | BS2: 給食形態 | BZ2: 食事の種類及び給食数 | EC2: １人１日当たりの給食材料費 | ED2: 報告書作成者 | EJ2: 身体の状況及び生活習慣の把握 | FK2: 栄養指導 | FM2: 内容 | FN2: 個別指導 | FO2: 集団指導 | FQ2: 内容 | FR2: 個別指導 | FS2: 集団指導 | FU2: 内容 | FV2: 個別指導 | FW2: 集団指導 | FY2: 内容 | FZ2: 個別指導 | GA2: 集団指導 | GC2: 合計 | GF2: 健康及び栄養に関する情報の提供 | GH2: 献立表の掲示 | GI2: 献立表の栄養成分表示 | GJ2: エネルギー | GK2: たんぱく質 | GL2: 脂質 | GM2: 炭水化物 | GN2: 食塩相当量 | GO2: その他 | GQ2: レシピの提供 | GR2: ポスターの掲示 | GS2: 卓上メモの掲示 | GT2: リーフレット等の配布 | GU2: その他 | GW2: 基本となる食事の種類 | GX2: 給与栄養目標量の最終改定 | HA2: 給与栄養目標量 | HH2: 給与栄養量 | HO2: 穀類 | HQ2: いも及びでんぷん類 | HS2: 砂糖及び甘未類 | HU2: 豆類 | HW2: 種実類 | HY2: 野菜類 | IA2: 果実類 | IC2: きのこ類 | IE2: 藻類 | IG2: 魚介類 | II2: 肉類 | IK2: 卵類 | IM2: 乳類 | IO2: 油脂類 | IQ2: 菓子類 | IS2: し好飲料 | IU2: 調味料及び香辛料類 | IW2: 栄養給食管理の目標・方針 | IX2: 栄養管理等で効果を上げている事例 | IY2: 施設における栄養給食管理上の課題等
I3: 郵便番号 | K3: 住所又は所在地 | L3: 学校 | M3: 児童福祉施設 | N3: 事業所 | O3: 従業員数 | P3: 寄宿舎 | Q3: 矯正施設 | R3: 一般給食センター | S3: その他 | T3: その他() | U3: 調理方式 | X3: 委託 | Z3: 委託内容 | AH3: 委託先名称 | AI3: 管理栄養士 | AU3: 栄養士 | BC3: 調理師 | BE3: 調理師以外の調理従事者 | BF3: その他 | BG3: 有 | BH3: 無 | BI3: 指定番号 | BJ3: HACCPに沿った衛生管理の実施 | BL3: 災害時における食事提供マニュアルの整備 | BN3: 備蓄食 | BP3: 備蓄量 | BS3: 単一献立 | BT3: 選択メニュー | BU3: 頻度 | BV3: カフェテリア | BW3: 頻度 | BX3: その他 | BZ3: 朝食（食） | CK3: 昼食（食） | CV3: 夕食（食） | DG3: その他（食） | DR3: １日合計（食） | ED3: 所属 | EE3: 職名 | EF3: 氏名 | EG3: 電話番号 | EJ3: 肥満 | EK3: 利用者 | EN3: 判定方法 | ES3: やせ | ET3: 利用者 | EW3: 判定方法 | FB3: その他 | FC3: アレルギー | FD3: 食事内容 | FE3: 間食 | FF3: 飲酒 | FG3: 喫煙 | FH3: 運動 | FI3: その他 | FK3: 有 | FL3: 無 | GC3: 個別指導 | GD3: 集団指導 | GF3: 有 | GG3: 無 | GX3: 年 | GY3: 月 | GZ3: 日 | HA3: エネルギー | HB3: たんぱく質 | HC3: 脂質 | HD3: 炭水化物 | HE3: 食塩相当量 | HF3: 脂肪エネルギー比率 | HG3: 炭水化物エネルギー比率 | HH3: エネルギー | HI3: たんぱく質 | HJ3: 脂質 | HK3: 炭水化物 | HL3: 食塩相当量 | HM3: 脂肪エネルギー比率 | HN3: 炭水化物エネルギー比率 | HO3: 1人１日当たり | HQ3: 1人１日当たり | HS3: 1人１日当たり | HU3: 1人１日当たり | HW3: 1人１日当たり | HY3: 1人１日当たり | IA3: 1人１日当たり | IC3: 1人１日当たり | IE3: 1人１日当たり | IG3: 1人１日当たり | II3: 1人１日当たり | IK3: 1人１日当たり | IM3: 1人１日当たり | IO3: 1人１日当たり | IQ3: 1人１日当たり | IS3: 1人１日当たり | IU3: 1人１日当たり
U4: 施設内調理 | V4: 一部施設外調理 | W4: その他 | X4: 有 | Y4: 無 | Z4: 献立作成 | AA4: 発注 | AB4: 調理 | AC4: 盛付 | AD4: 配膳 | AE4: 食器等洗浄 | AF4: その他 | AI4: 施設職員 | AQ4: 委託先職員 | AU4: 施設職員 | AY4: 委託先職員 | BC4: 人数 | BD4: うち常勤者の人数 | BE4: 人数 | BF4: 人数 | BJ4: 有 | BK4: 無 | BL4: 有 | BM4: 無 | BN4: 有 | BO4: 無 | BP4: 人数分 | BQ4: 回・食分 | BZ4: ３歳未満 | CA4: ３歳以上 | CB4: 児童・生徒 | CC4: 成人 | CD4: その他 | CF4: 小計 | CG4: 職員（事業所以外） | CH4: その他 | CJ4: 合計 | CK4: ３歳未満 | CL4: ３歳以上 | CM4: 児童・生徒 | CN4: 成人 | CO4: その他 | CQ4: 小計 | CR4: 職員（事業所以外） | CS4: その他 | CU4: 合計 | CV4: ３歳未満 | CW4: ３歳以上 | CX4: 児童・生徒 | CY4: 成人 | CZ4: その他 | DB4: 小計 | DC4: 職員（事業所以外） | DD4: その他 | DF4: 合計 | DG4: ３歳未満 | DH4: ３歳以上 | DI4: 児童・生徒 | DJ4: 成人 | DK4: その他 | DM4: 小計 | DN4: 職員（事業所以外） | DO4: その他 | DQ4: 合計 | DR4: ３歳未満 | DS4: ３歳以上 | DT4: 児童・生徒 | DU4: 成人 | DV4: その他 | DX4: 小計 | DY4: 職員（事業所以外） | DZ4: その他 | EB4: 合計 | EK4: 人中 | EL4: 人 | EM4: ％ | EN4: BMI | EO4: 学校体育保健統計調査方式 | EP4: 幼児身長体重曲線 | EQ4: その他 | ET4: 人中 | EU4: 人 | EV4: ％ | EW4: BMI | EX4: 学校体育保健統計調査方式 | EY4: 幼児身長体重曲線 | EZ4: その他 | FN4: 件数 | FO4: 回数 | FP4: 延べ人数 | FR4: 件数 | FS4: 回数 | FT4: 延べ人数 | FV4: 件数 | FW4: 回数 | FX4: 延べ人数 | FZ4: 件数 | GA4: 回数 | GB4: 延べ人数 | GC4: 件数 | GD4: 回数 | GE4: 延べ人数 | HO4: 施設内目標値 | HP4: 純摂取量 | HQ4: 施設内目標値 | HR4: 純摂取量 | HS4: 施設内目標値 | HT4: 純摂取量 | HU4: 施設内目標値 | HV4: 純摂取量 | HW4: 施設内目標値 | HX4: 純摂取量 | HY4: 施設内目標値 | HZ4: 純摂取量 | IA4: 施設内目標値 | IB4: 純摂取量 | IC4: 施設内目標値 | ID4: 純摂取量 | IE4: 施設内目標値 | IF4: 純摂取量 | IG4: 施設内目標値 | IH4: 純摂取量 | II4: 施設内目標値 | IJ4: 純摂取量 | IK4: 施設内目標値 | IL4: 純摂取量 | IM4: 施設内目標値 | IN4: 純摂取量 | IO4: 施設内目標値 | IP4: 純摂取量 | IQ4: 施設内目標値 | IR4: 純摂取量 | IS4: 施設内目標値 | IT4: 純摂取量 | IU4: 施設内目標値 | IV4: 純摂取量
AI5: 人数 | AJ5: うち常勤者の人数 | AK5: 常勤者氏名 | AL5: 常勤者氏名 | AM5: 常勤者氏名 | AN5: 非常勤者氏名 | AO5: 非常勤者氏名 | AP5: 非常勤者氏名 | AQ5: 人数 | AR5: うち常勤者の人数 | AS5: 常勤者氏名 | AT5: 非常勤者氏名 | AU5: 人数 | AV5: うち常勤者の人数 | AW5: 常勤者氏名 | AX5: 非常勤者氏名 | AY5: 人数 | AZ5: うち常勤者の人数 | BA5: 常勤者氏名 | BB5: 非常勤者氏名
B6: ='様式第２号(2) 入力用'!AU6 -> 0 | C6: ='様式第２号(2) 入力用'!AU7 -> 0 | D6: ='様式第２号(2) 入力用'!AU8 -> 0 | E6: ='様式第２号(2) 入力用'!AW9 -> 0 | F6: ='様式第２号(2) 入力用'!BC9 -> 0 | G6: ='様式第２号(2) 入力用'!BJ9 -> 0 | H6: ='様式第２号(2) 入力用'!AE12 -> 0 | I6: ='様式第２号(2) 入力用'!AF13 -> 0 | J6: ='様式第２号(2) 入力用'!AK13 -> 0 | K6: ='様式第２号(2) 入力用'!AP13 -> 0 | L6: =N('様式第２号(2) 入力用'!BS14) -> 0 | M6: =N('様式第２号(2) 入力用'!BU14) -> 0 | N6: =N('様式第２号(2) 入力用'!BW14) -> 0 | O6: ='様式第２号(2) 入力用'!AV14 -> 0 | P6: =N('様式第２号(2) 入力用'!BY14) -> 0 | Q6: =N('様式第２号(2) 入力用'!BS15) -> 0 | R6: =N('様式第２号(2) 入力用'!BU15) -> 0 | S6: =N('様式第２号(2) 入力用'!BW15) -> 0 | T6: ='様式第２号(2) 入力用'!AS15 -> 0 | U6: =N('様式第２号(2) 入力用'!BS16) -> 0 | V6: =N('様式第２号(2) 入力用'!BU16) -> 0 | W6: =N('様式第２号(2) 入力用'!BW16) -> 0 | X6: =N('様式第２号(2) 入力用'!BS17) -> 0 | Y6: =N('様式第２号(2) 入力用'!BU17) -> 0 | Z6: =N('様式第２号(2) 入力用'!BS18) -> 0 | AA6: =N('様式第２号(2) 入力用'!BU18) -> 0 | AB6: =N('様式第２号(2) 入力用'!BW18) -> 0 | AC6: =N('様式第２号(2) 入力用'!BY18) -> 0 | AD6: =N('様式第２号(2) 入力用'!CA18) -> 0 | AE6: =N('様式第２号(2) 入力用'!CC18) -> 0 | AF6: =N('様式第２号(2) 入力用'!CE18) -> 0 | AG6: ='様式第２号(2) 入力用'!AZ19 -> 0 | AH6: ='様式第２号(2) 入力用'!AD20 -> 0 | AI6: ='様式第２号(2) 入力用'!Y24 -> 0 | AJ6: ='様式第２号(2) 入力用'!AE24 -> 0 | AK6: ='様式第２号(2) 入力用'!AK23 -> 0 | AL6: ='様式第２号(2) 入力用'!AK24 -> 0 | AM6: ='様式第２号(2) 入力用'!AK25 -> 0 | AN6: ='様式第２号(2) 入力用'!BB23 -> 0 | AO6: ='様式第２号(2) 入力用'!BB24 -> 0 | AP6: ='様式第２号(2) 入力用'!BB25 -> 0 | AQ6: ='様式第２号(2) 入力用'!Y26 -> 0 | AR6: ='様式第２号(2) 入力用'!AE26 -> 0 | AS6: ='様式第２号(2) 入力用'!AK26 -> 0 | AT6: ='様式第２号(2) 入力用'!BB26 -> 0 | AU6: ='様式第２号(2) 入力用'!Y27 -> 0 | AV6: ='様式第２号(2) 入力用'!AE27 -> 0 | AW6: ='様式第２号(2) 入力用'!AK27 -> 0 | AX6: ='様式第２号(2) 入力用'!BB27 -> 0 | AY6: ='様式第２号(2) 入力用'!Y28 -> 0 | AZ6: ='様式第２号(2) 入力用'!AE28 -> 0 | BA6: ='様式第２号(2) 入力用'!AK28 -> 0 | BB6: ='様式第２号(2) 入力用'!BB28 -> 0 | BC6: ='様式第２号(2) 入力用'!Y29 -> 0 | BD6: ='様式第２号(2) 入力用'!AE29 -> 0 | BE6: ='様式第２号(2) 入力用'!Y30 -> 0 | BF6: ='様式第２号(2) 入力用'!Y31 -> 0 | BG6: =N('様式第２号(2) 入力用'!BS32) -> 0 | BH6: =N('様式第２号(2) 入力用'!BU32) -> 0 | BI6: ='様式第２号(2) 入力用'!AI32 -> 0 | BJ6: =N('様式第２号(2) 入力用'!BS33) -> 0 | BK6: =N('様式第２号(2) 入力用'!BU33) -> 0 | BL6: =N('様式第２号(2) 入力用'!BS34) -> 0 | BM6: =N('様式第２号(2) 入力用'!BU34) -> 0 | BN6: =N('様式第２号(2) 入力用'!BS35) -> 0 | BO6: =N('様式第２号(2) 入力用'!BU35) -> 0 | BP6: ='様式第２号(2) 入力用'!AN35 -> 0 | BQ6: ='様式第２号(2) 入力用'!AW35 -> 0 | BR6: ='様式第２号(2) 入力用'!T36 -> 0 | BS6: =N('様式第２号(2) 入力用'!BS37) -> 0 | BT6: =N('様式第２号(2) 入力用'!BU37) -> 0 | BU6: ='様式第２号(2) 入力用'!AK37 -> 0 | BV6: =N('様式第２号(2) 入力用'!BW37) -> 0 | BW6: ='様式第２号(2) 入力用'!BA37 -> 0 | BX6: =N('様式第２号(2) 入力用'!BY37) -> 0 | BY6: ='様式第２号(2) 入力用'!BL37 -> 0 | BZ6: ='様式第２号(2) 入力用'!R41 -> 0 | CA6: ='様式第２号(2) 入力用'!W41 -> 0 | CB6: ='様式第２号(2) 入力用'!AB41 -> 0 | CC6: ='様式第２号(2) 入力用'!AH41 -> 0 | CD6: ='様式第２号(2) 入力用'!AN40 -> 0 | CE6: ='様式第２号(2) 入力用'!AM41 -> 0 | CF6: ='様式第２号(2) 入力用'!AS41 -> 0 | CG6: ='様式第２号(2) 入力用'!AX41 -> 0 | CH6: ='様式第２号(2) 入力用'!BF40 -> 0 | CI6: ='様式第２号(2) 入力用'!BE41 -> 0 | CJ6: ='様式第２号(2) 入力用'!BK41 -> 0 | CK6: ='様式第２号(2) 入力用'!R42 -> 0 | CL6: ='様式第２号(2) 入力用'!W42 -> 0 | CM6: ='様式第２号(2) 入力用'!AB42 -> 0 | CN6: ='様式第２号(2) 入力用'!AH42 -> 0 | CO6: ='様式第２号(2) 入力用'!AN40 -> 0 | CP6: ='様式第２号(2) 入力用'!AM42 -> 0 | CQ6: ='様式第２号(2) 入力用'!AS42 -> 0 | CR6: ='様式第２号(2) 入力用'!AX42 -> 0 | CS6: ='様式第２号(2) 入力用'!BF40 -> 0 | CT6: ='様式第２号(2) 入力用'!BE42 -> 0 | CU6: ='様式第２号(2) 入力用'!BK42 -> 0 | CV6: ='様式第２号(2) 入力用'!R43 -> 0 | CW6: ='様式第２号(2) 入力用'!W43 -> 0 | CX6: ='様式第２号(2) 入力用'!AB43 -> 0 | CY6: ='様式第２号(2) 入力用'!AH43 -> 0 | CZ6: ='様式第２号(2) 入力用'!AN40 -> 0 | DA6: ='様式第２号(2) 入力用'!AM43 -> 0 | DB6: ='様式第２号(2) 入力用'!AS43 -> 0 | DC6: ='様式第２号(2) 入力用'!AX43 -> 0 | DD6: ='様式第２号(2) 入力用'!BF40 -> 0 | DE6: ='様式第２号(2) 入力用'!BE43 -> 0 | DF6: ='様式第２号(2) 入力用'!BK43 -> 0 | DG6: ='様式第２号(2) 入力用'!R44 -> 0 | DH6: ='様式第２号(2) 入力用'!W44 -> 0 | DI6: ='様式第２号(2) 入力用'!AB44 -> 0 | DJ6: ='様式第２号(2) 入力用'!AH44 -> 0 | DK6: ='様式第２号(2) 入力用'!AN40 -> 0 | DL6: ='様式第２号(2) 入力用'!AM44 -> 0 | DM6: ='様式第２号(2) 入力用'!AS44 -> 0 | DN6: ='様式第２号(2) 入力用'!AX44 -> 0 | DO6: ='様式第２号(2) 入力用'!BF40 -> 0 | DP6: ='様式第２号(2) 入力用'!BE44 -> 0 | DQ6: ='様式第２号(2) 入力用'!BK44 -> 0 | DR6: ='様式第２号(2) 入力用'!R45 -> 0 | DS6: ='様式第２号(2) 入力用'!W45 -> 0 | DT6: ='様式第２号(2) 入力用'!AB45 -> 0 | DU6: ='様式第２号(2) 入力用'!AH45 -> 0 | DV6: ='様式第２号(2) 入力用'!AN40 -> 0 | DW6: ='様式第２号(2) 入力用'!AM45 -> 0 | DX6: ='様式第２号(2) 入力用'!AS45 -> 0 | DY6: ='様式第２号(2) 入力用'!AX45 -> 0 | DZ6: ='様式第２号(2) 入力用'!BF40 -> 0 | EA6: ='様式第２号(2) 入力用'!BE45 -> 0 | EB6: ='様式第２号(2) 入力用'!BK45 -> 0 | EC6: ='様式第２号(2) 入力用'!T46 -> 0 | ED6: ='様式第２号(2) 入力用'!V47 -> 0 | EE6: ='様式第２号(2) 入力用'!AO47 -> 0 | EF6: ='様式第２号(2) 入力用'!BC47 -> 0 | EG6: ='様式第２号(2) 入力用'!Z48 -> 0 | EH6: ='様式第２号(2) 入力用'!AG48 -> 0 | EI6: ='様式第２号(2) 入力用'!AN48 -> 0 | EJ6: =N('様式第２号(2) 入力用'!BS50) -> 0 | EK6: ='様式第２号(2) 入力用'!M51 -> 0 | EL6: ='様式第２号(2) 入力用'!T51 -> 0 | EM6: ='様式第２号(2) 入力用'!AA51 -> #DIV/0! | EN6: =N('様式第２号(2) 入力用'!BU50) -> 0 | EO6: =N('様式第２号(2) 入力用'!BU51) -> 0 | EP6: =N('様式第２号(2) 入力用'!BW50) -> 0 | EQ6: =N('様式第２号(2) 入力用'!BW51) -> 0 | ER6: ='様式第２号(2) 入力用'!BH51 -> 0 | ES6: =N('様式第２号(2) 入力用'!BS52) -> 0 | ET6: ='様式第２号(2) 入力用'!M53 -> 0 | EU6: ='様式第２号(2) 入力用'!T53 -> 0 | EV6: ='様式第２号(2) 入力用'!AA53 -> #DIV/0! | EW6: =N('様式第２号(2) 入力用'!BU52) -> 0 | EX6: =N('様式第２号(2) 入力用'!BU53) -> 0 | EY6: =N('様式第２号(2) 入力用'!BW52) -> 0 | EZ6: =N('様式第２号(2) 入力用'!BW53) -> 0 | FA6: ='様式第２号(2) 入力用'!BH53 -> 0 | FB6: =N('様式第２号(2) 入力用'!BS54) -> 0 | FC6: =N('様式第２号(2) 入力用'!BU54) -> 0 | FD6: =N('様式第２号(2) 入力用'!BW54) -> 0 | FE6: =N('様式第２号(2) 入力用'!BY54) -> 0 | FF6: =N('様式第２号(2) 入力用'!CA54) -> 0 | FG6: =N('様式第２号(2) 入力用'!CC54) -> 0 | FH6: =N('様式第２号(2) 入力用'!CE54) -> 0 | FI6: =N('様式第２号(2) 入力用'!CG54) -> 0 | FJ6: ='様式第２号(2) 入力用'!AZ54 -> 0 | FK6: =N('様式第２号(2) 入力用'!BS55) -> 0 | FL6: =N('様式第２号(2) 入力用'!BU55) -> 0 | FM6: ='様式第２号(2) 入力用'!D58 -> 0 | FN6: ='様式第２号(2) 入力用'!R58 -> 0 | FO6: ='様式第２号(2) 入力用'!AJ58 -> 0 | FP6: ='様式第２号(2) 入力用'!BA58 -> 0 | FQ6: ='様式第２号(2) 入力用'!D59 -> 0 | FR6: ='様式第２号(2) 入力用'!R59 -> 0 | FS6: ='様式第２号(2) 入力用'!AJ59 -> 0 | FT6: ='様式第２号(2) 入力用'!BA59 -> 0 | FU6: ='様式第２号(2) 入力用'!D60 -> 0 | FV6: ='様式第２号(2) 入力用'!R60 -> 0 | FW6: ='様式第２号(2) 入力用'!AJ60 -> 0 | FX6: ='様式第２号(2) 入力用'!BA60 -> 0 | FY6: ='様式第２号(2) 入力用'!D61 -> 0 | FZ6: ='様式第２号(2) 入力用'!R61 -> 0 | GA6: ='様式第２号(2) 入力用'!AJ61 -> 0 | GB6: ='様式第２号(2) 入力用'!BA61 -> 0 | GC6: ='様式第２号(2) 入力用'!R62 -> 0 | GD6: ='様式第２号(2) 入力用'!AJ62 -> 0 | GE6: ='様式第２号(2) 入力用'!BA62 -> 0 | GF6: =N('様式第２号(2) 入力用'!BS63) -> 0 | GG6: =N('様式第２号(2) 入力用'!BU63) -> 0 | GH6: =N('様式第２号(2) 入力用'!BS64) -> 0 | GI6: =N('様式第２号(2) 入力用'!BS65) -> 0 | GJ6: =N('様式第２号(2) 入力用'!BU65) -> 0 | GK6: =N('様式第２号(2) 入力用'!BW65) -> 0 | GL6: =N('様式第２号(2) 入力用'!BY65) -> 0 | GM6: =N('様式第２号(2) 入力用'!CA65) -> 0 | GN6: =N('様式第２号(2) 入力用'!CC65) -> 0 | GO6: =N('様式第２号(2) 入力用'!CE65) -> 0 | GP6: ='様式第２号(2) 入力用'!BD65 -> 0 | GQ6: =N('様式第２号(2) 入力用'!BS66) -> 0 | GR6: =N('様式第２号(2) 入力用'!BU66) -> 0 | GS6: =N('様式第２号(2) 入力用'!BW66) -> 0 | GT6: =N('様式第２号(2) 入力用'!BY66) -> 0 | GU6: =N('様式第２号(2) 入力用'!BS67) -> 0 | GV6: ='様式第２号(2) 入力用'!J67 -> 0 | GW6: ='様式第２号(2) 入力用'!T68 -> 0 | GX6: ='様式第２号(2) 入力用'!U69 -> 0 | GY6: ='様式第２号(2) 入力用'!AB69 -> 0 | GZ6: ='様式第２号(2) 入力用'!AF69 -> 0 | HA6: ='様式第２号(2) 入力用'!R72 -> 0 | HB6: ='様式第２号(2) 入力用'!Z72 -> 0 | HC6: ='様式第２号(2) 入力用'!AG72 -> 0 | HD6: ='様式第２号(2) 入力用'!AO72 -> 0 | HE6: ='様式第２号(2) 入力用'!AV72 -> 0 | HF6: ='様式第２号(2) 入力用'!BC72 -> #DIV/0! | HG6: ='様式第２号(2) 入力用'!BJ72 -> #DIV/0! | HH6: ='様式第２号(2) 入力用'!R73 -> a | HI6: ='様式第２号(2) 入力用'!Z73 -> b | HJ6: ='様式第２号(2) 入力用'!AG73 -> c | HK6: ='様式第２号(2) 入力用'!AO73 -> d | HL6: ='様式第２号(2) 入力用'!AV73 -> e | HM6: ='様式第２号(2) 入力用'!BC73 -> #DIV/0! | HN6: ='様式第２号(2) 入力用'!BJ73 -> #DIV/0! | HO6: ='様式第２号(2) 入力用'!R78 -> 0 | HP6: ='様式第２号(2) 入力用'!Y78 -> 0 | HQ6: ='様式第２号(2) 入力用'!R79 -> 0 | HR6: ='様式第２号(2) 入力用'!Y79 -> 0 | HS6: ='様式第２号(2) 入力用'!R80 -> 0 | HT6: ='様式第２号(2) 入力用'!Y80 -> 0 | HU6: ='様式第２号(2) 入力用'!R81 -> 0 | HV6: ='様式第２号(2) 入力用'!Y81 -> 0 | HW6: ='様式第２号(2) 入力用'!R82 -> 0 | HX6: ='様式第２号(2) 入力用'!Y82 -> 0 | HY6: ='様式第２号(2) 入力用'!R83 -> 0 | HZ6: ='様式第２号(2) 入力用'!Y83 -> 0 | IA6: ='様式第２号(2) 入力用'!R84 -> 0 | IB6: ='様式第２号(2) 入力用'!Y84 -> 0 | IC6: ='様式第２号(2) 入力用'!R85 -> 0 | ID6: ='様式第２号(2) 入力用'!Y85 -> 0 | IE6: ='様式第２号(2) 入力用'!R86 -> 0 | IF6: ='様式第２号(2) 入力用'!Y86 -> 0 | IG6: ='様式第２号(2) 入力用'!R87 -> 0 | IH6: ='様式第２号(2) 入力用'!Y87 -> 0 | II6: ='様式第２号(2) 入力用'!R88 -> 0 | IJ6: ='様式第２号(2) 入力用'!Y88 -> 0 | IK6: ='様式第２号(2) 入力用'!R89 -> 0 | IL6: ='様式第２号(2) 入力用'!Y89 -> 0 | IM6: ='様式第２号(2) 入力用'!R90 -> 0 | IN6: ='様式第２号(2) 入力用'!Y90 -> 0 | IO6: ='様式第２号(2) 入力用'!R91 -> 0 | IP6: ='様式第２号(2) 入力用'!Y91 -> 0 | IQ6: ='様式第２号(2) 入力用'!R92 -> 0 | IR6: ='様式第２号(2) 入力用'!Y92 -> 0 | IS6: ='様式第２号(2) 入力用'!R93 -> 0 | IT6: ='様式第２号(2) 入力用'!Y93 -> 0 | IU6: ='様式第２号(2) 入力用'!R94 -> 0 | IV6: ='様式第２号(2) 入力用'!Y94 -> 0 | IW6: ='様式第２号(2) 入力用'!AH76 -> 0 | IX6: ='様式第２号(2) 入力用'!AH83 -> 0 | IY6: ='様式第２号(2) 入力用'!AH90 -> 0
