Workbook

Sheet 様式第7-1入力用
B1: 様式第７号（１） （第７条関係）
R2: 給食施設栄養管理状況報告書
J3: （病院・診療所、介護老人保健施設、介護医療院、介護老人福祉施設及び社会福祉施設用）
B5: (宛先) 山形市保健所長 | BH5: 年 | BL5: 月 | BP5: 日
AO6: 施設の名称
AO7: 所 在 地
AO8: 管理者氏名
AO9: 電話番号 | AU9: （ | BB9: ） | BI9: -
B10: 給食施設の現況及び栄養管理状況を次のとおり報告します。
B11: 1 | D11: 設置者の名称及び代表者の職氏名
B12: 2 | D12: 設置者の住所又は主たる事務所の所在地 | AE12: 〒
B13: 3 | D13: 給食施設の種類 | S13: □ | U13: 病院・診療所（許可病床数 | AN13: 床） | AR13: □ | AT13: 介護老人保健施設（入所定員数 | BN13: 人） | BT13: 病院・診療所 | BU13: 介護医療院 | BV13: 社会福祉施設 | BW13: 介護老人保健施設 | BX13: 老人福祉施設 | BY13: 老人福祉施設
S14: □ | U14: 介護医療院 （入所定員数 | AN14: 人） | AR14: □ | AT14: 介護老人福祉施設（入所定員数 | BN14: 人） | BT14: =IF(NOT(S13="□"),TRUE,FALSE) -> FALSE | BU14: =IF(NOT(S14="□"),TRUE,FALSE) -> FALSE | BV14: =IF(NOT(S15="□"),TRUE,FALSE) -> FALSE | BW14: =IF(NOT(AR13="□"),TRUE,FALSE) -> FALSE | BX14: =IF(NOT(AR14="□"),TRUE,FALSE) -> FALSE | BY14: =IF(NOT(AT15="□"),TRUE,FALSE) -> TRUE | CI14: =SUM(BT14:CH14) -> 0
S15: □ | U15: 社会福祉施設（入所定員数 | AN15: 人） | AR15: □ | AT15: その他 | AX15: （ | BN15: 人）
B16: 4 | D16: 運営形態 | R16: 調理方式 | Y16: □ | AA16: 施設内調理 | AH16: □ | AJ16: 一部施設外調理 | AS16: □ | AU16: その他 | AY16: ( | BK16: ) | BT16: 施設内調理 | BU16: 一部施設外調理 | BV16: その他 | BW16: 有 | BX16: 無
R17: 委託 | Y17: □ | AA17: 有 | AD17: □ | AF17: 無 | AH17: （有の場合は委託内容及び委託先名称を記入すること。） | BT17: =IF(NOT(Y16="□"),TRUE,FALSE) -> FALSE | BU17: =IF(NOT(AH16="□"),TRUE,FALSE) -> FALSE | BV17: =IF(NOT(AS16="□"),TRUE,FALSE) -> FALSE | BW17: =IF(NOT(Y17="□"),TRUE,FALSE) -> FALSE | BX17: =IF(NOT(AD17="□"),TRUE,FALSE) -> FALSE | CI17: =SUM(BT17:CH17) -> 0
X18: 委託内容 | AC18: □ | AE18: 献立作成 | AJ18: □ | AL18: 発注 | AN18: □ | AP18: 調理 | AR18: □ | AT18: 盛付 | AV18: □ | AX18: 配膳 | AZ18: □ | BB18: 食器等洗浄 | BG18: □ | BI18: その他( | BP18: ) | BT18: 献立作成 | BU18: 発注 | BV18: 調理 | BW18: 盛付 | BX18: 配膳 | BY18: 食器等洗浄 | BZ18: その他
X19: 委託先名称 | BT19: =IF(NOT(AC18="□"),TRUE,FALSE) -> FALSE | BU19: =IF(NOT(AJ18="□"),TRUE,FALSE) -> FALSE | BV19: =IF(NOT(AN18="□"),TRUE,FALSE) -> FALSE | BW19: =IF(NOT(AR18="□"),TRUE,FALSE) -> FALSE | BX19: =IF(NOT(AV18="□"),TRUE,FALSE) -> FALSE | BY19: =IF(NOT(AZ18="□"),TRUE,FALSE) -> FALSE | BZ19: =IF(NOT(BG18="□"),TRUE,FALSE) -> FALSE | CI19: =SUM(BT19:CH19) -> 0
B20: 5 | D20: 従事者 | J20: 区 分 | X20: 人数 | AJ20: 常勤者氏名 | BA20: 非常勤者氏名
AD21: うち 常勤者の人数
J22: 管理栄養士 | R22: 施設職員
AB23: 人 | AH23: 人
R25: 委託先職員
AB26: 人 | AH26: 人
J27: 栄養士 | R27: 施設職員
AB28: 人 | AH28: 人
R29: 委託先職員
AB30: 人 | AH30: 人
J31: 調理師 | AB31: 人 | AH31: 人
J32: 調理師以外の調理従事者 | AB32: 人
J33: その他 | AB33: 人
B34: 6 | D34: 健康増進法第21条第１項の規定による指定 | Y34: □ | AA34: 有 | AC34: (指定番号 | AM34: 号) | AQ34: □ | AS34: 無 | BT34: 有 | BU34: =IF(NOT(Y34="□"),TRUE,FALSE) -> FALSE | BV34: 無 | BW34: =IF(NOT(AQ34="□"),TRUE,FALSE) -> FALSE | CI34: =SUM(BT34:CH34) -> 0
B35: 7 | D35: 衛生管理体制 | S35: HACCPに沿った衛生管理の実施 | AM35: □ | AO35: 有 | AR35: □ | AT35: 無 | BT35: 有 | BU35: =IF(NOT(AM35="□"),TRUE,FALSE) -> FALSE | BV35: 無 | BW35: =IF(NOT(AR35="□"),TRUE,FALSE) -> FALSE | CI35: =SUM(BT35:CH35) -> 0
B36: 8 | D36: 非常時危機管理対策 | S36: 災害時における食事提供マニュアルの整備 | AM36: □ | AO36: 有 | AR36: □ | AT36: 無 | BT36: 有 | BU36: =IF(NOT(AM36="□"),TRUE,FALSE) -> FALSE | BV36: 無 | BW36: =IF(NOT(AR36="□"),TRUE,FALSE) -> FALSE | CI36: =SUM(BT36:CH36) -> 0
S37: 備蓄食 | X37: □ | Z37: 有 | AC37: □ | AE37: 無 | AH37: 備蓄量 | AL37: （ | AQ37: ） | AR37: 人分を（ | AZ37: ）回・食分 | BT37: 有 | BU37: =IF(NOT(X37="□"),TRUE,FALSE) -> FALSE | BV37: 無 | BW37: =IF(NOT(AC37="□"),TRUE,FALSE) -> FALSE | CI37: =SUM(BT37:CH37) -> 0
B38: 9 | D38: 食事の種類及び給食数 | R38: 一般食 | Y38: 特別食又は 療養食 | AF38: デイケア・ デイサービス等 | AN38: その他 | AU38: 小計 | BB38: 職員食 | BI38: 合計
AN39: （ | AT39: ）
D40: 朝 食（食） | AU40: =SUM(R40:AT40) -> 0 | BI40: =AU40+BB40 -> 0
D41: 昼 食（食） | AU41: =SUM(R41:AT41) -> 0 | BI41: =AU41+BB41 -> 0
D42: 夕 食（食） | AU42: =SUM(R42:AT42) -> 0 | BI42: =AU42+BB42 -> 0
...

Sheet ※入力しないでください(集計シート)
B1: 報告者 | H1: 1 | I1: 2 | L1: 3 | X1: 4 | AM1: 5 | BQ1: 6 | BT1: 7 | BV1: 8 | CB1: 9 | DP1: 10 | DQ1: 11 | DW1: 12 | EG1: 13 | ER1: 14 | EW1: 15 | FO1: 16 | HJ1: 17 | IA1: 18 | IB1: 19 | IC1: 20
B2: 施設の名称 | C2: 所在地 | D2: 管理者氏名 | E2: 電話番号 | H2: 設置者の氏名又は名称及び代表者氏名 | I2: 設置者の住所又は主たる事務所の所在地 | L2: 給食施設の種類 | X2: 運営形態 | AM2: 従事者 | BQ2: 健康増進法第21条第１項の規定による指定 | BT2: 衛生管理体制 | BV2: 非常時危機管理対策 | CB2: 食事の種類及び給食数 | DP2: １人１日当たりの給食材料費 | DQ2: 報告書作成者 | DW2: 管理栄養士等が多職種連携により行う栄養改善の実施 | EG2: 栄養管理等に関する連携体制 | ER2: 約束食事箋 | EW2: 基本となる 食事の種類 | EX2: 給与栄養目標量の最終改定 | FA2: 給与栄養目標量 | FH2: 給与栄養量 | FO2: 栄養指導 | FQ2: 糖尿病 | FT2: 腎臓病 | FW2: 脂質異常症 | FZ2: 心疾患・高血圧症 | GC2: 肥満症 | GF2: 消化器疾患 | GI2: 嚥下調整食 | GL2: 悪性腫瘍(がん） | GO2: 妊産婦 | GR2: 乳幼児 | GU2: その他 | GY2: その他 | HC2: その他 | HG2: 合計 | HJ2: 健康及び栄養に関する情報の提供 | HL2: 献立表 の掲示 | HM2: 献立表の 栄養成分表示 | HN2: エネルギー | HO2: たんぱく質 | HP2: 脂質 | HQ2: 炭水化物 | HR2: 食塩相当量 | HS2: その他 | HU2: レシピ の提供 | HV2: ポスター の掲示 | HW2: 卓上メモ の掲示 | HX2: リーフレット等 の配布 | HY2: その他 | IA2: 栄養給食管理 の目標・方針 | IB2: 栄養管理等で効果を 上げている事例 | IC2: 施設における栄養給食管理上の課題等
I3: 郵便番号 | K3: 住所又は所在地 | L3: 病院・診療所 | M3: 許可病床数 | N3: 介護医療院 | O3: 入所定員数 | P3: 社会福祉施設 | Q3: 入所定員数 | R3: 介護老人保健施設 | S3: 入所定員数 | T3: 老人福祉施設 | U3: 入所定員数 | V3: その他 | W3: 入所定員数 | X3: 調理方式 | AB3: 委託 | AD3: 委託内容 | AL3: 委託先名称 | AM3: 管理栄養士 | BA3: 栄養士 | BM3: 調理師 | BO3: 調理師以外の調理従事者 | BP3: その他 | BQ3: 有 | BR3: 無 | BS3: 指定番号 | BT3: HACCPに沿った衛生管理の実施 | BV3: 災害時における食事提供マニュアルの整備 | BX3: 備蓄食 | BZ3: 備蓄量 | CB3: 朝食（食） | CJ3: 昼食（食） | CR3: 夕食（食） | CZ3: その他（食） | DH3: １日合計（食） | DQ3: 所属 | DR3: 職名 | DS3: 氏名 | DT3: 電話番号 | DY3: 有病者 の治療 | DZ3: 摂食嚥下機能 の改善 | EA3: 適正体重者 の増加 | EB3: 食事摂取 の適正化 | EC3: 利用者の 満足度の向上 | ED3: 品質管理 の向上 | EE3: その他 | EG3: 有 | EH3: 無 | EI3: 連絡先 | EN3: 内容 | ER3: 有 | ES3: 無 | ET3: 最終改定 | EX3: 年 | EY3: 月 | EZ3: 日 | FA3: エネルギー | FB3: たんぱく質 | FC3: 脂質 | FD3: 炭水化物 | FE3: 食塩相当量 | FF3: 脂肪エネルギー 比率 | FG3: 炭水化物 エネルギー比率 | FH3: エネルギー | FI3: たんぱく質 | FJ3: 脂質 | FK3: 炭水化物 | FL3: 食塩相当量 | FM3: 脂肪エネルギー 比率 | FN3: 炭水化物 エネルギー比率 | FO3: 有 | FP3: 無 | FQ3: 個別指導 | FR3: 集団指導 | FT3: 個別指導 | FU3: 集団指導 | FW3: 個別指導 | FX3: 集団指導 | FZ3: 個別指導 | GA3: 集団指導 | GC3: 個別指導 | GD3: 集団指導 | GF3: 個別指導 | GG3: 集団指導 | GI3: 個別指導 | GJ3: 集団指導 | GL3: 個別指導 | GM3: 集団指導 | GO3: 個別指導 | GP3: 集団指導 | GR3: 個別指導 | GS3: 集団指導 | GU3: 内容 | GV3: 個別指導 | GW3: 集団指導 | GY3: 内容 | GZ3: 個別指導 | HA3: 集団指導 | HC3: 内容 | HD3: 個別指導 | HE3: 集団指導 | HG3: 個別指導 | HH3: 集団指導 | HJ3: 有 | HK3: 無
X4: 施設内調理 | Y4: 一部施設外調理 | Z4: その他 | AB4: 有 | AC4: 無 | AD4: 献立作成 | AE4: 発注 | AF4: 調理 | AG4: 盛付 | AH4: 配膳 | AI4: 食器等洗浄 | AJ4: その他 | AM4: 施設職員 | AU4: 委託先職員 | BA4: 施設職員 | BG4: 委託先職員 | BM4: 人数 | BN4: 常勤者人数 | BO4: 人数 | BP4: 人数 | BT4: 有 | BU4: 無 | BV4: 有 | BW4: 無 | BX4: 有 | BY4: 無 | BZ4: 人数分 | CA4: 回・食分 | CB4: 一般食 | CC4: 特別食 又は療養食 | CD4: デイケア・ デイサービス等 | CE4: その他 | CG4: 小計 | CH4: 職員食 | CI4: 合計 | CJ4: 一般食 | CK4: 特別食 又は療養食 | CL4: デイケア ・デイサービス等 | CM4: その他 | CO4: 小計 | CP4: 職員食 | CQ4: 合計 | CR4: 一般食 | CS4: 特別食 又は療養食 | CT4: デイケア・ デイサービス等 | CU4: その他 | CW4: 小計 | CX4: 職員食 | CY4: 合計 | CZ4: 一般食 | DA4: 特別食 又は療養食 | DB4: デイケア・ デイサービス等 | DC4: その他 | DE4: 小計 | DF4: 職員食 | DG4: 合計 | DH4: 一般食 | DI4: 特別食 又は療養食 | DJ4: デイケア・ デイサービス等 | DK4: その他 | DM4: 小計 | DN4: 職員食 | DO4: 合計 | DW4: 有 | DX4: 無 | EI4: 医療機関 | EJ4: 福祉施設 | EK4: 市町村 | EL4: その他 | EN4: 入院（入所）前の 情報入手 | EO4: 退院（退所）前の 情報入手 | EP4: その他 | ET4: 年 | EU4: 月 | EV4: 日 | FQ4: 件数 | FR4: 回数 | FS4: 延べ人数 | FT4: 件数 | FU4: 回数 | FV4: 延べ人数 | FW4: 件数 | FX4: 回数 | FY4: 延べ人数 | FZ4: 件数 | GA4: 回数 | GB4: 延べ人数 | GC4: 件数 | GD4: 回数 | GE4: 延べ人数 | GF4: 件数 | GG4: 回数 | GH4: 延べ人数 | GI4: 件数 | GJ4: 回数 | GK4: 延べ人数 | GL4: 件数 | GM4: 回数 | GN4: 延べ人数 | GO4: 件数 | GP4: 回数 | GQ4: 延べ人数 | GR4: 件数 | GS4: 回数 | GT4: 延べ人数 | GV4: 件数 | GW4: 回数 | GX4: 延べ人数 | GZ4: 件数 | HA4: 回数 | HB4: 延べ人数 | HD4: 件数 | HE4: 回数 | HF4: 延べ人数 | HG4: 件数 | HH4: 回数 | HI4: 延べ人数
AM5: 人数 | AN5: 常勤者人数 | AO5: 常勤者氏名 | AP5: 常勤者氏名 | AQ5: 常勤者氏名 | AR5: 非常勤者氏名 | AS5: 非常勤者氏名 | AT5: 非常勤者氏名 | AU5: 人数 | AV5: 常勤者人数 | AW5: 常勤者氏名 | AX5: 常勤者氏名 | AY5: 非常勤者氏名 | AZ5: 非常勤者氏名 | BA5: 人数 | BB5: 常勤者人数 | BC5: 常勤者氏名 | BD5: 常勤者氏名 | BE5: 非常勤者氏名 | BF5: 非常勤者氏名 | BG5: 人数 | BH5: 常勤者人数 | BI5: 常勤者氏名 | BJ5: 常勤者氏名 | BK5: 非常勤者氏名 | BL5: 非常勤者氏名
B6: ='様式第7-1入力用'!AU6 -> 0 | C6: ='様式第7-1入力用'!AU7 -> 0 | D6: ='様式第7-1入力用'!AU8 -> 0 | E6: ='様式第7-1入力用'!AW9 -> 0 | F6: ='様式第7-1入力用'!BC9 -> 0 | G6: ='様式第7-1入力用'!BJ9 -> 0 | H6: ='様式第7-1入力用'!AE11 -> 0 | I6: ='様式第7-1入力用'!AF12 -> 0 | J6: ='様式第7-1入力用'!AK12 -> 0 | K6: ='様式第7-1入力用'!AP12 -> 0 | L6: =N('様式第7-1入力用'!BT14) -> 0 | M6: ='様式第7-1入力用'!AJ13 -> 0 | N6: =N('様式第7-1入力用'!BU14) -> 0 | O6: ='様式第7-1入力用'!AJ14 -> 0 | P6: =N('様式第7-1入力用'!BV14) -> 0 | Q6: ='様式第7-1入力用'!AJ15 -> 0 | R6: =N('様式第7-1入力用'!BW14) -> 0 | S6: ='様式第7-1入力用'!BJ13 -> 0 | T6: =N('様式第7-1入力用'!BX14) -> 0 | U6: ='様式第7-1入力用'!BJ14 -> 0 | V6: =N('様式第7-1入力用'!BY14) -> 1 | W6: ='様式第7-1入力用'!AY15 -> 0 | X6: =N('様式第7-1入力用'!BT17) -> 0 | Y6: =N('様式第7-1入力用'!BU17) -> 0 | Z6: =N('様式第7-1入力用'!BV17) -> 0 | AA6: ='様式第7-1入力用'!AZ16 -> 0 | AB6: =N('様式第7-1入力用'!BW17) -> 0 | AC6: =N('様式第7-1入力用'!BX17) -> 0 | AD6: =N('様式第7-1入力用'!BT19) -> 0 | AE6: =N('様式第7-1入力用'!BU19) -> 0 | AF6: =N('様式第7-1入力用'!BV19) -> 0 | AG6: =N('様式第7-1入力用'!BW19) -> 0 | AH6: =N('様式第7-1入力用'!BX19) -> 0 | AI6: =N('様式第7-1入力用'!BY19) -> 0 | AJ6: =N('様式第7-1入力用'!BZ19) -> 0 | AK6: ='様式第7-1入力用'!#REF! -> #REF! | AL6: ='様式第7-1入力用'!AD19 -> 0 | AM6: ='様式第7-1入力用'!Y23 -> 0 | AN6: ='様式第7-1入力用'!AE23 -> 0 | AO6: ='様式第7-1入力用'!AK22 -> 0 | AP6: ='様式第7-1入力用'!AK23 -> 0 | AQ6: ='様式第7-1入力用'!AK24 -> 0 | AR6: ='様式第7-1入力用'!BB22 -> 0 | AS6: ='様式第7-1入力用'!BB23 -> 0 | AT6: ='様式第7-1入力用'!BB24 -> 0 | AU6: ='様式第7-1入力用'!Y25 -> 0 | AV6: ='様式第7-1入力用'!AE25 -> 0 | AW6: ='様式第7-1入力用'!AK25 -> 0 | AX6: ='様式第7-1入力用'!AK26 -> 0 | AY6: ='様式第7-1入力用'!BB25 -> 0 | AZ6: ='様式第7-1入力用'!BB26 -> 0 | BA6: ='様式第7-1入力用'!Y28 -> 0 | BB6: ='様式第7-1入力用'!AE28 -> 0 | BC6: ='様式第7-1入力用'!AK27 -> 0 | BD6: ='様式第7-1入力用'!AK28 -> 0 | BE6: ='様式第7-1入力用'!BB27 -> 0 | BF6: ='様式第7-1入力用'!BB28 -> 0 | BG6: ='様式第7-1入力用'!Y30 -> 0 | BH6: ='様式第7-1入力用'!AE30 -> 0 | BI6: ='様式第7-1入力用'!AK29 -> 0 | BJ6: ='様式第7-1入力用'!AK30 -> 0 | BK6: ='様式第7-1入力用'!BB29 -> 0 | BL6: ='様式第7-1入力用'!BB30 -> 0 | BM6: ='様式第7-1入力用'!Y31 -> 0 | BN6: ='様式第7-1入力用'!AE30 -> 0 | BO6: ='様式第7-1入力用'!Y32 -> 0 | BP6: ='様式第7-1入力用'!Y33 -> 0 | BQ6: =N('様式第7-1入力用'!BU34) -> 0 | BR6: =N('様式第7-1入力用'!BW34) -> 0 | BS6: ='様式第7-1入力用'!AH34 -> 0 | BT6: =N('様式第7-1入力用'!BU35) -> 0 | BU6: =N('様式第7-1入力用'!BW35) -> 0 | BV6: =N('様式第7-1入力用'!BU36) -> 0 | BW6: =N('様式第7-1入力用'!BW36) -> 0 | BX6: =N('様式第7-1入力用'!BU37) -> 0 | BY6: =N('様式第7-1入力用'!BW37) -> 0 | BZ6: ='様式第7-1入力用'!AJ37 -> 0 | CA6: ='様式第7-1入力用'!AT37 -> 0 | CB6: ='様式第7-1入力用'!R40 -> 0 | CC6: ='様式第7-1入力用'!Y40 -> 0 | CD6: ='様式第7-1入力用'!AF40 -> 0 | CE6: ='様式第7-1入力用'!AO39 -> 0 | CF6: ='様式第7-1入力用'!AN40 -> 0 | CG6: ='様式第7-1入力用'!AU40 -> 0 | CH6: ='様式第7-1入力用'!BB40 -> 0 | CI6: ='様式第7-1入力用'!BI40 -> 0 | CJ6: ='様式第7-1入力用'!R41 -> 0 | CK6: ='様式第7-1入力用'!Y41 -> 0 | CL6: ='様式第7-1入力用'!AF41 -> 0 | CM6: ='様式第7-1入力用'!AO39 -> 0 | CN6: ='様式第7-1入力用'!AN41 -> 0 | CO6: ='様式第7-1入力用'!AU41 -> 0 | CP6: ='様式第7-1入力用'!BB41 -> 0 | CQ6: ='様式第7-1入力用'!BI41 -> 0 | CR6: ='様式第7-1入力用'!R42 -> 0 | CS6: ='様式第7-1入力用'!Y42 -> 0 | CT6: ='様式第7-1入力用'!AF42 -> 0 | CU6: ='様式第7-1入力用'!AO39 -> 0 | CV6: ='様式第7-1入力用'!AN42 -> 0 | CW6: ='様式第7-1入力用'!AU42 -> 0 | CX6: ='様式第7-1入力用'!BB42 -> 0 | CY6: ='様式第7-1入力用'!BI42 -> 0 | CZ6: ='様式第7-1入力用'!R43 -> 0 | DA6: ='様式第7-1入力用'!Y43 -> 0 | DB6: ='様式第7-1入力用'!AF43 -> 0 | DC6: ='様式第7-1入力用'!AO39 -> 0 | DD6: ='様式第7-1入力用'!AN43 -> 0 | DE6: ='様式第7-1入力用'!AU43 -> 0 | DF6: ='様式第7-1入力用'!BB43 -> 0 | DG6: ='様式第7-1入力用'!BI43 -> 0 | DH6: ='様式第7-1入力用'!R44 -> 0 | DI6: ='様式第7-1入力用'!Y44 -> 0 | DJ6: ='様式第7-1入力用'!AF44 -> 0 | DK6: ='様式第7-1入力用'!AO39 -> 0 | DL6: ='様式第7-1入力用'!AN44 -> 0 | DM6: ='様式第7-1入力用'!AU44 -> 0 | DN6: ='様式第7-1入力用'!BB44 -> 0 | DO6: ='様式第7-1入力用'!BI44 -> 0 | DP6: ='様式第7-1入力用'!T45 -> 0 | DQ6: ='様式第7-1入力用'!V46 -> 0 | DR6: ='様式第7-1入力用'!AO46 -> 0 | DS6: ='様式第7-1入力用'!BC46 -> 0 | DT6: ='様式第7-1入力用'!AA47 -> 0 | DU6: ='様式第7-1入力用'!AG47 -> 0 | DV6: ='様式第7-1入力用'!AN47 -> 0 | DY6: =N('様式第7-1入力用'!BT51) -> 0 | DZ6: =N('様式第7-1入力用'!BU51) -> 0 | EA6: =N('様式第7-1入力用'!BV51) -> 0 | EB6: =N('様式第7-1入力用'!BW51) -> 0 | EC6: =N('様式第7-1入力用'!BX51) -> 0 | ED6: =N('様式第7-1入力用'!BY51) -> 0 | EE6: =N('様式第7-1入力用'!BZ51) -> 0 | EF6: ='様式第7-1入力用'!#REF! -> #REF! | EG6: =N('様式第7-1入力用'!BU52) -> 0 | EH6: =N('様式第7-1入力用'!BW52) -> 0 | EI6: =N('様式第7-1入力用'!BU53) -> 0 | EJ6: =N('様式第7-1入力用'!BW53) -> 0 | EK6: =N('様式第7-1入力用'!BY53) -> 0 | EL6: =N('様式第7-1入力用'!CA53) -> 0 | EM6: ='様式第7-1入力用'!#REF! -> #REF! | EN6: =N('様式第7-1入力用'!BU54) -> 0 | EO6: =N('様式第7-1入力用'!BW54) -> 0 | EP6: =N('様式第7-1入力用'!BY54) -> 0 | EQ6: ='様式第7-1入力用'!#REF! -> #REF! | ER6: =N('様式第7-1入力用'!BU55) -> 0 | ES6: =N('様式第7-1入力用'!BW55) -> 0 | ET6: ='様式第7-1入力用'!AD55 -> 0 | EU6: ='様式第7-1入力用'!AJ55 -> 0 | EV6: ='様式第7-1入力用'!AN55 -> 0 | EW6: ='様式第7-1入力用'!S56 -> 0 | EX6: ='様式第7-1入力用'!U57 -> 0 | EY6: ='様式第7-1入力用'!AA57 -> 0 | EZ6: ='様式第7-1入力用'!AE57 -> 0 | FA6: ='様式第7-1入力用'!R60 -> 0 | FB6: ='様式第7-1入力用'!Z60 -> 0 | FC6: ='様式第7-1入力用'!AG60 -> 0 | FD6: ='様式第7-1入力用'!AO60 -> 0 | FE6: ='様式第7-1入力用'!AV60 -> 0 | FF6: ='様式第7-1入力用'!BC60 -> #DIV/0! | FG6: ='様式第7-1入力用'!BJ60 -> #DIV/0! | FH6: ='様式第7-1入力用'!S61 -> 0 | FI6: ='様式第7-1入力用'!AA61 -> 0 | FJ6: ='様式第7-1入力用'!AH61 -> 0 | FK6: ='様式第7-1入力用'!AP61 -> 0 | FL6: ='様式第7-1入力用'!AW61 -> 0 | FM6: ='様式第7-1入力用'!BC61 -> #DIV/0! | FN6: ='様式第7-1入力用'!BJ61 -> #DIV/0! | FO6: =N('様式第7-1入力用'!BU62) -> 0 | FP6: =N('様式第7-1入力用'!BW62) -> 0 | FQ6: ='様式第7-1入力用'!R65 -> 0 | FR6: ='様式第7-1入力用'!AJ65 -> 0 | FS6: ='様式第7-1入力用'!BA65 -> 0 | FT6: ='様式第7-1入力用'!R66 -> 0 | FU6: ='様式第7-1入力用'!AJ66 -> 0 | FV6: ='様式第7-1入力用'!BA66 -> 0 | FW6: ='様式第7-1入力用'!R67 -> 0 | FX6: ='様式第7-1入力用'!AJ67 -> 0 | FY6: ='様式第7-1入力用'!BA67 -> 0 | FZ6: ='様式第7-1入力用'!R68 -> 0 | GA6: ='様式第7-1入力用'!AJ68 -> 0 | GB6: ='様式第7-1入力用'!BA68 -> 0 | GC6: ='様式第7-1入力用'!R69 -> 0 | GD6: ='様式第7-1入力用'!AJ69 -> 0 | GE6: ='様式第7-1入力用'!BA69 -> 0 | GF6: ='様式第7-1入力用'!R70 -> 0 | GG6: ='様式第7-1入力用'!AJ70 -> 0 | GH6: ='様式第7-1入力用'!BA70 -> 0 | GI6: ='様式第7-1入力用'!R71 -> 0 | GJ6: ='様式第7-1入力用'!AJ71 -> 0 | GK6: ='様式第7-1入力用'!BA71 -> 0 | GL6: ='様式第7-1入力用'!R72 -> 0 | GM6: ='様式第7-1入力用'!AJ72 -> 0 | GN6: ='様式第7-1入力用'!BA72 -> 0 | GO6: ='様式第7-1入力用'!R73 -> 0 | GP6: ='様式第7-1入力用'!AJ73 -> 0 | GQ6: ='様式第7-1入力用'!BA73 -> 0 | GR6: ='様式第7-1入力用'!R74 -> 0 | GS6: ='様式第7-1入力用'!AJ74 -> 0 | GT6: ='様式第7-1入力用'!BA74 -> 0 | GU6: ='様式第7-1入力用'!D75 -> 0 | GV6: ='様式第7-1入力用'!R75 -> 0 | GW6: ='様式第7-1入力用'!AJ75 -> 0 | GX6: ='様式第7-1入力用'!BA75 -> 0 | GY6: ='様式第7-1入力用'!D76 -> 0 | GZ6: ='様式第7-1入力用'!R76 -> 0 | HA6: ='様式第7-1入力用'!AJ76 -> 0 | HB6: ='様式第7-1入力用'!BA76 -> 0 | HC6: ='様式第7-1入力用'!D77 -> 0 | HD6: ='様式第7-1入力用'!R77 -> 0 | HE6: ='様式第7-1入力用'!AJ77 -> 0 | HF6: ='様式第7-1入力用'!BA77 -> 0 | HG6: ='様式第7-1入力用'!R78 -> 0 | HH6: ='様式第7-1入力用'!AJ78 -> 0 | HI6: ='様式第7-1入力用'!BA78 -> 0 | HJ6: =N('様式第7-1入力用'!BU79) -> 0 | HK6: =N('様式第7-1入力用'!BW79) -> 0 | HL6: =N('様式第7-1入力用'!BU80) -> 0 | HM6: =N('様式第7-1入力用'!BU81) -> 0 | HN6: =N('様式第7-1入力用'!BW81) -> 0 | HO6: =N('様式第7-1入力用'!BY81) -> 0 | HP6: =N('様式第7-1入力用'!CA81) -> 0 | HQ6: =N('様式第7-1入力用'!CC81) -> 0 | HR6: =N('様式第7-1入力用'!CE81) -> 0 | HS6: =N('様式第7-1入力用'!CH81) -> 0 | HT6: ='様式第7-1入力用'!AA83 -> 0 | HU6: =N('様式第7-1入力用'!BU82) -> 0 | HV6: =N('様式第7-1入力用'!BW82) -> 0 | HW6: =N('様式第7-1入力用'!BY82) -> 0 | HX6: =N('様式第7-1入力用'!CA82) -> 0 | HY6: =N('様式第7-1入力用'!BU83) -> 0 | HZ6: ='様式第7-1入力用'!AK81 -> 0 | IA6: ='様式第7-1入力用'!D85 -> 0 | IB6: ='様式第7-1入力用'!D88 -> 0 | IC6: ='様式第7-1入力用'!D91 -> 0
